BEGIN:VCALENDAR
VERSION:2.0
PRODID:-//Prairie to Pine Regional Council - ECPv6.15.20//NONSGML v1.0//EN
CALSCALE:GREGORIAN
METHOD:PUBLISH
X-WR-CALNAME:Prairie to Pine Regional Council
X-ORIGINAL-URL:https://prairietopinerc.ca
X-WR-CALDESC:Events for Prairie to Pine Regional Council
REFRESH-INTERVAL;VALUE=DURATION:PT1H
X-Robots-Tag:noindex
X-PUBLISHED-TTL:PT1H
BEGIN:VTIMEZONE
TZID:America/Winnipeg
BEGIN:DAYLIGHT
TZOFFSETFROM:-0600
TZOFFSETTO:-0500
TZNAME:CDT
DTSTART:20240310T080000
END:DAYLIGHT
BEGIN:STANDARD
TZOFFSETFROM:-0500
TZOFFSETTO:-0600
TZNAME:CST
DTSTART:20241103T070000
END:STANDARD
BEGIN:DAYLIGHT
TZOFFSETFROM:-0600
TZOFFSETTO:-0500
TZNAME:CDT
DTSTART:20250309T080000
END:DAYLIGHT
BEGIN:STANDARD
TZOFFSETFROM:-0500
TZOFFSETTO:-0600
TZNAME:CST
DTSTART:20251102T070000
END:STANDARD
BEGIN:DAYLIGHT
TZOFFSETFROM:-0600
TZOFFSETTO:-0500
TZNAME:CDT
DTSTART:20260308T080000
END:DAYLIGHT
BEGIN:STANDARD
TZOFFSETFROM:-0500
TZOFFSETTO:-0600
TZNAME:CST
DTSTART:20261101T070000
END:STANDARD
END:VTIMEZONE
BEGIN:VEVENT
DTSTART;TZID=America/Winnipeg:20250608T110000
DTEND;TZID=America/Winnipeg:20250608T120000
DTSTAMP:20260422T040231
CREATED:20250523T212749Z
LAST-MODIFIED:20250523T212749Z
UID:10001578-1749380400-1749384000@prairietopinerc.ca
SUMMARY:Grand Plains Pastoral Charge Celebrates UCC's 100th Anniversary
DESCRIPTION:Grand Plains Pastoral Charge will celebrate the 100th anniversary of the United Church of Canada on June 8. There will be a special service in St Paul’s United in Gilbert Plains at 11 am followed by a potluck picnic in the Gilbert Plains park. \nFor more information\, please contact Kate Storey at 204-546-2099
URL:https://prairietopinerc.ca/event/grand-plains-pastoral-charge-celebrates-uccs-100th-anniversary/
LOCATION:St. Paul’s United Church-Gilbert Plains\, 22 Minto Ave E\, Gilbert Plains\, Manitoba\, R0L 0X0\, Canada
CATEGORIES:100th Anniversary of the UCC,Community of Faith Events calendar,Events
END:VEVENT
END:VCALENDAR