BEGIN:VCALENDAR
VERSION:2.0
PRODID:-//Prairie to Pine Regional Council - ECPv6.15.20//NONSGML v1.0//EN
CALSCALE:GREGORIAN
METHOD:PUBLISH
X-ORIGINAL-URL:https://prairietopinerc.ca
X-WR-CALDESC:Events for Prairie to Pine Regional Council
REFRESH-INTERVAL;VALUE=DURATION:PT1H
X-Robots-Tag:noindex
X-PUBLISHED-TTL:PT1H
BEGIN:VTIMEZONE
TZID:America/Winnipeg
BEGIN:DAYLIGHT
TZOFFSETFROM:-0600
TZOFFSETTO:-0500
TZNAME:CDT
DTSTART:20240310T080000
END:DAYLIGHT
BEGIN:STANDARD
TZOFFSETFROM:-0500
TZOFFSETTO:-0600
TZNAME:CST
DTSTART:20241103T070000
END:STANDARD
BEGIN:DAYLIGHT
TZOFFSETFROM:-0600
TZOFFSETTO:-0500
TZNAME:CDT
DTSTART:20250309T080000
END:DAYLIGHT
BEGIN:STANDARD
TZOFFSETFROM:-0500
TZOFFSETTO:-0600
TZNAME:CST
DTSTART:20251102T070000
END:STANDARD
BEGIN:DAYLIGHT
TZOFFSETFROM:-0600
TZOFFSETTO:-0500
TZNAME:CDT
DTSTART:20260308T080000
END:DAYLIGHT
BEGIN:STANDARD
TZOFFSETFROM:-0500
TZOFFSETTO:-0600
TZNAME:CST
DTSTART:20261101T070000
END:STANDARD
END:VTIMEZONE
BEGIN:VEVENT
DTSTART;TZID=America/Winnipeg:20250323T130000
DTEND;TZID=America/Winnipeg:20250323T160000
DTSTAMP:20260422T100053
CREATED:20250122T061746Z
LAST-MODIFIED:20250306T180855Z
UID:10001455-1742734800-1742745600@prairietopinerc.ca
SUMMARY:Western P2P Youth Event
DESCRIPTION:An afternoon of fun with friends and horses!\nFor Youth Grades 5 to 12\nPlanned by YAAY’s* Western Reps\, especially for youth in their part of the Prairie to Pine Region \nThroughout the afternoon\, there will be 3 main stations. Each one will be about compassion and patience. \nWe will not be riding any horses instead we will be focusing on connecting with horses and seeing their compassion and patience with us. You will get to brush multiple horses\, lead them and let them show us things we don’t understand. \nYou will also have time to connect with other youth and explore your faith while reflecting on the theme. \n  \nSee this letter for more details.\nPrairie Breeze Stables requires this Prairie Breeze Stables waiver to be signed for each participant. This is pretty standard procedure for businesses that offer activities where there is potential for risk\, even though the risk is low when participants follow the instructions of the guides. \nRegister here\nNote: if we don’t have 12 registrants by March 16th\, we will have to cancel the event\, so please register now!  Hannah awaits your registration! \n*YAAY is the regional Young Adult And Youth Committee
URL:https://prairietopinerc.ca/event/western-p2p-youth-event/
LOCATION:Prairie Breeze Stables\, Baker Road\, Brandon\, Manitoba\, R7A 7R2\, Canada
CATEGORIES:Events,Intercultural,LGBTQIA+ Affirming,Regional,Young Adults and Youth
END:VEVENT
END:VCALENDAR