BEGIN:VCALENDAR
VERSION:2.0
PRODID:-//Prairie to Pine Regional Council - ECPv6.15.20//NONSGML v1.0//EN
CALSCALE:GREGORIAN
METHOD:PUBLISH
X-ORIGINAL-URL:https://prairietopinerc.ca
X-WR-CALDESC:Events for Prairie to Pine Regional Council
REFRESH-INTERVAL;VALUE=DURATION:PT1H
X-Robots-Tag:noindex
X-PUBLISHED-TTL:PT1H
BEGIN:VTIMEZONE
TZID:America/Winnipeg
BEGIN:DAYLIGHT
TZOFFSETFROM:-0600
TZOFFSETTO:-0500
TZNAME:CDT
DTSTART:20220313T080000
END:DAYLIGHT
BEGIN:STANDARD
TZOFFSETFROM:-0500
TZOFFSETTO:-0600
TZNAME:CST
DTSTART:20221106T070000
END:STANDARD
BEGIN:DAYLIGHT
TZOFFSETFROM:-0600
TZOFFSETTO:-0500
TZNAME:CDT
DTSTART:20230312T080000
END:DAYLIGHT
BEGIN:STANDARD
TZOFFSETFROM:-0500
TZOFFSETTO:-0600
TZNAME:CST
DTSTART:20231105T070000
END:STANDARD
BEGIN:DAYLIGHT
TZOFFSETFROM:-0600
TZOFFSETTO:-0500
TZNAME:CDT
DTSTART:20240310T080000
END:DAYLIGHT
BEGIN:STANDARD
TZOFFSETFROM:-0500
TZOFFSETTO:-0600
TZNAME:CST
DTSTART:20241103T070000
END:STANDARD
BEGIN:DAYLIGHT
TZOFFSETFROM:-0600
TZOFFSETTO:-0500
TZNAME:CDT
DTSTART:20250309T080000
END:DAYLIGHT
BEGIN:STANDARD
TZOFFSETFROM:-0500
TZOFFSETTO:-0600
TZNAME:CST
DTSTART:20251102T070000
END:STANDARD
BEGIN:DAYLIGHT
TZOFFSETFROM:-0600
TZOFFSETTO:-0500
TZNAME:CDT
DTSTART:20260308T080000
END:DAYLIGHT
BEGIN:STANDARD
TZOFFSETFROM:-0500
TZOFFSETTO:-0600
TZNAME:CST
DTSTART:20261101T070000
END:STANDARD
BEGIN:DAYLIGHT
TZOFFSETFROM:-0600
TZOFFSETTO:-0500
TZNAME:CDT
DTSTART:20270314T080000
END:DAYLIGHT
BEGIN:STANDARD
TZOFFSETFROM:-0500
TZOFFSETTO:-0600
TZNAME:CST
DTSTART:20271107T070000
END:STANDARD
END:VTIMEZONE
BEGIN:VEVENT
DTSTART;TZID=America/Winnipeg:20260110T190000
DTEND;TZID=America/Winnipeg:20260110T210000
DTSTAMP:20260422T052917
CREATED:20251217T174312Z
LAST-MODIFIED:20251217T174312Z
UID:10002149-1768071600-1768078800@prairietopinerc.ca
SUMMARY:Traveling Youth Group
DESCRIPTION:Join us for an evening of Worship\, Games and Snacks. Planned and Lead by our Leadership Event Participants. \nWhere: John Black Memorial United Church\nWhen: Saturday January 10th 7-9pm\nWho: Youth Garde 5-12 and their Leaders
URL:https://prairietopinerc.ca/event/traveling-youth-group-4/
LOCATION:John Black Memorial United Church\, 898 Henderson Hwy\, Winnipeg\, MB\, R2K 3T4\, Canada
CATEGORIES:Community of Faith Events calendar,Events,Leaders of Children,Young Adults and Youth
ATTACH;FMTTYPE=image/png:https://prairietopinerc.ca/wp-content/uploads/2025/12/Jan-Traveling-Youth-Group.png
END:VEVENT
BEGIN:VEVENT
DTSTART;TZID=America/Winnipeg:20251019T143000
DTEND;TZID=America/Winnipeg:20251019T153000
DTSTAMP:20260422T052917
CREATED:20250904T163651Z
LAST-MODIFIED:20251016T155630Z
UID:10001626-1760884200-1760887800@prairietopinerc.ca
SUMMARY:Covenanting Service-Kindred Spirits Collaborative Ministry
DESCRIPTION:October 19\, 2025\, at 2:30 p.m.\, John Black Memorial United Church\, a Covenanting Service celebrating the pastoral relationship between Kindred Spirits Collaborative Ministry (John Black Memorial United Church and Immanuel United Church\, Winnipeg)\, the Reverend Oluwajimi Dairo (Ordained Minister in the Admissions Program)\, and Prairie to Pine Regional Council.
URL:https://prairietopinerc.ca/event/covenanting-service-kindred-spirits-collaborative-ministry/
LOCATION:John Black Memorial United Church\, 898 Henderson Hwy\, Winnipeg\, MB\, R2K 3T4\, Canada
CATEGORIES:Community of Faith Events calendar,Events,Regional
END:VEVENT
BEGIN:VEVENT
DTSTART;TZID=America/Winnipeg:20250720T104500
DTEND;TZID=America/Winnipeg:20250720T114500
DTSTAMP:20260422T052917
CREATED:20250624T195913Z
LAST-MODIFIED:20250624T195913Z
UID:10001600-1753008300-1753011900@prairietopinerc.ca
SUMMARY:Church-orama 2025-John Black Memorial United Church
DESCRIPTION:Sunday\, July 20\, 2025 at 10:45 a.m.\, 898 Henderson Hwy\, Winnipeg
URL:https://prairietopinerc.ca/event/church-orama-2025-john-black-memorial-united-church/
LOCATION:John Black Memorial United Church\, 898 Henderson Hwy\, Winnipeg\, MB\, R2K 3T4\, Canada
CATEGORIES:Community of Faith Events calendar,Events
ATTACH;FMTTYPE=image/png:https://prairietopinerc.ca/wp-content/uploads/2025/06/church.png
END:VEVENT
BEGIN:VEVENT
DTSTART;TZID=America/Winnipeg:20250607T090000
DTEND;TZID=America/Winnipeg:20250607T140000
DTSTAMP:20260422T052917
CREATED:20250523T042254Z
LAST-MODIFIED:20250523T042254Z
UID:10001575-1749286800-1749304800@prairietopinerc.ca
SUMMARY:John Black Memorial Annual Market Day
DESCRIPTION:Annual Market Day is a large garage sale of household items\, toys\, tools\, sporting goods\, small furniture\, accessories. Also for sale\, plants\, home baking and pies. Come shop and stay for a BBQ lunch.
URL:https://prairietopinerc.ca/event/john-black-memorial-annual-market-day/
LOCATION:John Black Memorial United Church\, 898 Henderson Hwy\, Winnipeg\, MB\, R2K 3T4\, Canada
CATEGORIES:Community of Faith Events calendar,Events
ORGANIZER;CN="John Black Fundraising Group":MAILTO:jblackuc@mymts.net
END:VEVENT
BEGIN:VEVENT
DTSTART;TZID=America/Winnipeg:20240510T183000
DTEND;TZID=America/Winnipeg:20240510T203000
DTSTAMP:20260422T052917
CREATED:20240430T021520Z
LAST-MODIFIED:20240502T165603Z
UID:10000983-1715365800-1715373000@prairietopinerc.ca
SUMMARY:May Traveling Youth Group: Challenging Ourselves
DESCRIPTION:Youth grade 6+ join us to explore why we should challenge ourselves to become better people through self-reflection. Then test your limits in Minute to Win it style games to discover your strengths and weaknesses and finally work together as a group to accomplish one finale task together. \nTo attend Register here \nSnacks Included! \nMay 10th 6:30-8:30pm\nJohn Black Memorial United Church (898 Henderson Hwy\, Entrance on Roberta Ave\, Elmwood)
URL:https://prairietopinerc.ca/event/may-traveling-youth-group-challenging-ourselves/
LOCATION:John Black Memorial United Church\, 898 Henderson Hwy\, Winnipeg\, MB\, R2K 3T4\, Canada
CATEGORIES:Events,Regional,Young Adults and Youth
ATTACH;FMTTYPE=image/jpeg:https://prairietopinerc.ca/wp-content/uploads/2024/04/Poster-John-Black-2024-05.jpg
END:VEVENT
BEGIN:VEVENT
DTSTART;TZID=America/Winnipeg:20240406T100000
DTEND;TZID=America/Winnipeg:20240406T120000
DTSTAMP:20260422T052917
CREATED:20240319T235927Z
LAST-MODIFIED:20240319T235927Z
UID:10000944-1712397600-1712404800@prairietopinerc.ca
SUMMARY:Alzheimer’s\, Aphasia\, and Dementia: Multi- Sensory Storytelling Workshop
DESCRIPTION:This is an invitation to participate in a workshop based on clinical research and experience in using storytelling techniques to engage with people suffering from memory loss. Hear stories of hope and learn easy things that anyone can do when talking\, visiting\, and interacting with anyone struggling with memory loss… even your own. \nWhen: Saturday April 6: 10-12 \nWhere: John Black Memorial United Church \n898 Henderson Hwy \nTo register: 204-661-2579 to leave a message \nThere will be a short break with beverages and snacks. Free will offering. Hope to see you there! Don’t forget!!!
URL:https://prairietopinerc.ca/event/alzheimers-aphasia-and-dementia-multi-sensory-storytelling-workshop/
LOCATION:John Black Memorial United Church\, 898 Henderson Hwy\, Winnipeg\, MB\, R2K 3T4\, Canada
CATEGORIES:Community of Faith Events calendar,Events
END:VEVENT
BEGIN:VEVENT
DTSTART;TZID=America/Winnipeg:20230930T130000
DTEND;TZID=America/Winnipeg:20230930T150000
DTSTAMP:20260422T052917
CREATED:20230920T175949Z
LAST-MODIFIED:20230920T175949Z
UID:10000858-1696078800-1696086000@prairietopinerc.ca
SUMMARY:The Justice of Mitigating Climate Change
DESCRIPTION:The John Black Green Interest Group is holding a Free Presentation by Dr. Danny Blair\, Co-Director\, Prairie Climate Centre University of Winnipeg. Sat. Sep 30\, 2023 1-3pm Please pre-register by email jblackuc@mymts.net or call 204-661-2579
URL:https://prairietopinerc.ca/event/the-justice-of-mitigating-climate-change/
LOCATION:John Black Memorial United Church\, 898 Henderson Hwy\, Winnipeg\, MB\, R2K 3T4\, Canada
CATEGORIES:Community of Faith Events calendar,Events
ATTACH;FMTTYPE=image/jpeg:https://prairietopinerc.ca/wp-content/uploads/2023/09/Poster-Climate-Change-Sep-30-scaled-e1695232764615.jpg
END:VEVENT
BEGIN:VEVENT
DTSTART;TZID=America/Winnipeg:20230428T183000
DTEND;TZID=America/Winnipeg:20230428T203000
DTSTAMP:20260422T052917
CREATED:20220928T150448Z
LAST-MODIFIED:20230412T221305Z
UID:10000615-1682706600-1682713800@prairietopinerc.ca
SUMMARY:Travelling Youth Group at John Black
DESCRIPTION:Photo by Alex Smith on Unsplash \nYoung people grade 6+ are invited to participate in The Jesus Olympics — 3 cooperative events kicked off with an ice breaker game. It will be non-competitive since Jesus was all about working together! \nPhoto by Thomas Schütze on Unsplash \nA snack will be served. \nUnderstanding that some youth may be hesitant to attend an event in an unfamiliar church – youth leaders\, congregational youth allies\, or parents are welcome to participate in the event or sit in the building and catch up on some reading 🙂 if this will encourage tentative youth to participate. \nLocation: The address is 898 Henderson Highway; however\, the front doors are on Roberta Avenue. The entrance is opposite the day care entrance that has the rainbow steps. There is a drop off and pick up space there. There is a buzzer to left of the door\, however we will be watching for the youth to arrive. \nREGISTER HERE
URL:https://prairietopinerc.ca/event/travelling-youth-group-at-john-black/
LOCATION:John Black Memorial United Church\, 898 Henderson Hwy\, Winnipeg\, MB\, R2K 3T4\, Canada
CATEGORIES:Community of Faith Events calendar,Regional,Young Adults and Youth
END:VEVENT
END:VCALENDAR