BEGIN:VCALENDAR
VERSION:2.0
PRODID:-//Prairie to Pine Regional Council - ECPv6.15.20//NONSGML v1.0//EN
CALSCALE:GREGORIAN
METHOD:PUBLISH
X-ORIGINAL-URL:https://prairietopinerc.ca
X-WR-CALDESC:Events for Prairie to Pine Regional Council
REFRESH-INTERVAL;VALUE=DURATION:PT1H
X-Robots-Tag:noindex
X-PUBLISHED-TTL:PT1H
BEGIN:VTIMEZONE
TZID:America/Winnipeg
BEGIN:DAYLIGHT
TZOFFSETFROM:-0600
TZOFFSETTO:-0500
TZNAME:CDT
DTSTART:20230312T080000
END:DAYLIGHT
BEGIN:STANDARD
TZOFFSETFROM:-0500
TZOFFSETTO:-0600
TZNAME:CST
DTSTART:20231105T070000
END:STANDARD
BEGIN:DAYLIGHT
TZOFFSETFROM:-0600
TZOFFSETTO:-0500
TZNAME:CDT
DTSTART:20240310T080000
END:DAYLIGHT
BEGIN:STANDARD
TZOFFSETFROM:-0500
TZOFFSETTO:-0600
TZNAME:CST
DTSTART:20241103T070000
END:STANDARD
BEGIN:DAYLIGHT
TZOFFSETFROM:-0600
TZOFFSETTO:-0500
TZNAME:CDT
DTSTART:20250309T080000
END:DAYLIGHT
BEGIN:STANDARD
TZOFFSETFROM:-0500
TZOFFSETTO:-0600
TZNAME:CST
DTSTART:20251102T070000
END:STANDARD
BEGIN:DAYLIGHT
TZOFFSETFROM:-0600
TZOFFSETTO:-0500
TZNAME:CDT
DTSTART:20260308T080000
END:DAYLIGHT
BEGIN:STANDARD
TZOFFSETFROM:-0500
TZOFFSETTO:-0600
TZNAME:CST
DTSTART:20261101T070000
END:STANDARD
END:VTIMEZONE
BEGIN:VEVENT
DTSTART;TZID=America/Winnipeg:20250202T150000
DTEND;TZID=America/Winnipeg:20250202T170000
DTSTAMP:20260422T145036
CREATED:20250123T214716Z
LAST-MODIFIED:20250123T214716Z
UID:10001518-1738508400-1738515600@prairietopinerc.ca
SUMMARY:Flute Chamber Concert at Westminster
DESCRIPTION:Charmaine’s Birthday Concert\nSunday\, February 2 at 3pm\nWestminster United Church\nin the Concert Hall\, 2nd floor\n(stair access only) \nFeaturing: Wind Chamber Flutes\, Steinbach Flute Quartet\, Sweet Silver Choir\, and University Flute Ensemble \nAn all-flute music program with reception to follow.\nAdmission by donation\, proceeds to Westminster Church.
URL:https://prairietopinerc.ca/event/flute-chamber-concert-at-westminster/
LOCATION:Westminster United Church\, 745 Westminster Avenue\, Winnipeg\, Manitoba\, R3G 1A5\, Canada
CATEGORIES:Community of Faith Events calendar,Events
ATTACH;FMTTYPE=image/jpeg:https://prairietopinerc.ca/wp-content/uploads/2025/01/Flute-Chamber-Concert-Feb.-2-2025-.jpg
ORGANIZER;CN="Westminster United Church":MAILTO:info@westminsterchurch.org
END:VEVENT
BEGIN:VEVENT
DTSTART;TZID=America/Winnipeg:20241211T183000
DTEND;TZID=America/Winnipeg:20241211T193000
DTSTAMP:20260422T145036
CREATED:20241204T185254Z
LAST-MODIFIED:20241204T185254Z
UID:10001430-1733941800-1733945400@prairietopinerc.ca
SUMMARY:Blue Christmas Service
DESCRIPTION:A service of scripture\, reflection\, music\, candles and prayer because sometimes the Christmas season can be a difficult time. We will be meeting for the service in the Lecture Hall at Westminster United Church\, 745 Westminster Ave. Winnipeg\, MB.
URL:https://prairietopinerc.ca/event/blue-christmas-service-3/
LOCATION:Westminster United Church\, 745 Westminster Avenue\, Winnipeg\, Manitoba\, R3G 1A5\, Canada
CATEGORIES:Community of Faith Events calendar,Events,Worship
ORGANIZER;CN="Westminster United Church":MAILTO:info@westminsterchurch.org
END:VEVENT
END:VCALENDAR