BEGIN:VCALENDAR
VERSION:2.0
PRODID:-//Prairie to Pine Regional Council - ECPv6.15.20//NONSGML v1.0//EN
CALSCALE:GREGORIAN
METHOD:PUBLISH
X-ORIGINAL-URL:https://prairietopinerc.ca
X-WR-CALDESC:Events for Prairie to Pine Regional Council
REFRESH-INTERVAL;VALUE=DURATION:PT1H
X-Robots-Tag:noindex
X-PUBLISHED-TTL:PT1H
BEGIN:VTIMEZONE
TZID:America/Winnipeg
BEGIN:DAYLIGHT
TZOFFSETFROM:-0600
TZOFFSETTO:-0500
TZNAME:CDT
DTSTART:20230312T080000
END:DAYLIGHT
BEGIN:STANDARD
TZOFFSETFROM:-0500
TZOFFSETTO:-0600
TZNAME:CST
DTSTART:20231105T070000
END:STANDARD
BEGIN:DAYLIGHT
TZOFFSETFROM:-0600
TZOFFSETTO:-0500
TZNAME:CDT
DTSTART:20240310T080000
END:DAYLIGHT
BEGIN:STANDARD
TZOFFSETFROM:-0500
TZOFFSETTO:-0600
TZNAME:CST
DTSTART:20241103T070000
END:STANDARD
BEGIN:DAYLIGHT
TZOFFSETFROM:-0600
TZOFFSETTO:-0500
TZNAME:CDT
DTSTART:20250309T080000
END:DAYLIGHT
BEGIN:STANDARD
TZOFFSETFROM:-0500
TZOFFSETTO:-0600
TZNAME:CST
DTSTART:20251102T070000
END:STANDARD
END:VTIMEZONE
BEGIN:VEVENT
DTSTART;TZID=America/Winnipeg:20240309T130000
DTEND;TZID=America/Winnipeg:20240309T150000
DTSTAMP:20260422T052741
CREATED:20240228T162606Z
LAST-MODIFIED:20240313T024524Z
UID:10000928-1709989200-1709996400@prairietopinerc.ca
SUMMARY:PIE Day In The Public Square with Comedian Lara Rae
DESCRIPTION:National Affirming PIE Day in the Public Square with Comedian Lara Rae\, Brandon\, MB!\nThe Affirming ministries of Trinity and Knox United invite you to be our guest for this special community-wide celebration. Lara Rae\, stand-up comic\, comedy writer\, former Artistic Director of The Winnipeg Comedy Festival and proud transgender woman\, will be our guest speaker as we celebrate 2SLGBTQIA+ diversity and identity in our communities. \nDate:  Saturday\, March 9\, 2024 \nLocation: Knox United Church\, 451 – 18th Street\, Brandon\, MB \nTime: 1:00 p.m. – 3 p.m. \nMore details\nLara Rae\, stand-up comic\, comedy writer\, former Artistic Director of The Winnipeg Comedy Festival and proud transgender woman\, will be our guest speaker as we celebrate 2SLGBTQIA+ diversity and identity in our communities. PIE Day is a time to recognize people and programs in The United Church of Canada and be-yond that are Public\, Intentional\, and Explicit in celebrating\, educating\, and creating awareness of 2SLGBTQIA+ inclusion. National Affirming/PIE Day was co-founded by Affirm United/S’affirmer Ensemble and Affirming Connections. The day is observed every on March 14th. Hence the name\, PIE Day\, 3.14. \nPIE Day also reminds and challenges us to continue widening our welcome and using the concepts of PIE Day to embody love and celebrate gender and sexual diversity in all its forms. Our theme this year is PIE In The Public Square\, and who better to speak than Lara Rae? \nLara was the first trans woman to host the CBC news program The Current\, and she won the 2020 Chris Johnson Award for her play Dragonfly\, which is the story of a trans woman’s journey\, related by two characters named “They” and “Them.” The Affirming ministries of Trinity and Knox United invite you to be our guest for this special community-wide celebration. \nFor more information\, please go to: \nhttps://knoxunitedbrandon.ca/\nhttps://trinitybrandon.ca/ \nwww.pieday.ca \nPhoto Credits: Lara Rae \n 
URL:https://prairietopinerc.ca/event/pie-day-in-the-public-square-with-comedian-lara-rae/
LOCATION:Knox United Church\, Brandon\, 451 - 18th Street\, Brandon\, MB\, R7A 5Y2\, Canada
CATEGORIES:Community of Faith Events calendar,Events,LGBTQIA+ Affirming
ATTACH;FMTTYPE=image/png:https://prairietopinerc.ca/wp-content/uploads/2024/02/PIEDay2024-BrandonUCs.png
END:VEVENT
END:VCALENDAR