BEGIN:VCALENDAR
VERSION:2.0
PRODID:-//Prairie to Pine Regional Council - ECPv6.15.20//NONSGML v1.0//EN
CALSCALE:GREGORIAN
METHOD:PUBLISH
X-WR-CALNAME:Prairie to Pine Regional Council
X-ORIGINAL-URL:https://prairietopinerc.ca
X-WR-CALDESC:Events for Prairie to Pine Regional Council
REFRESH-INTERVAL;VALUE=DURATION:PT1H
X-Robots-Tag:noindex
X-PUBLISHED-TTL:PT1H
BEGIN:VTIMEZONE
TZID:America/Winnipeg
BEGIN:DAYLIGHT
TZOFFSETFROM:-0600
TZOFFSETTO:-0500
TZNAME:CDT
DTSTART:20240310T080000
END:DAYLIGHT
BEGIN:STANDARD
TZOFFSETFROM:-0500
TZOFFSETTO:-0600
TZNAME:CST
DTSTART:20241103T070000
END:STANDARD
BEGIN:DAYLIGHT
TZOFFSETFROM:-0600
TZOFFSETTO:-0500
TZNAME:CDT
DTSTART:20250309T080000
END:DAYLIGHT
BEGIN:STANDARD
TZOFFSETFROM:-0500
TZOFFSETTO:-0600
TZNAME:CST
DTSTART:20251102T070000
END:STANDARD
BEGIN:DAYLIGHT
TZOFFSETFROM:-0600
TZOFFSETTO:-0500
TZNAME:CDT
DTSTART:20260308T080000
END:DAYLIGHT
BEGIN:STANDARD
TZOFFSETFROM:-0500
TZOFFSETTO:-0600
TZNAME:CST
DTSTART:20261101T070000
END:STANDARD
END:VTIMEZONE
BEGIN:VEVENT
DTSTART;TZID=America/Winnipeg:20250124T063000
DTEND;TZID=America/Winnipeg:20250124T210000
DTSTAMP:20260424T153947
CREATED:20250118T182152Z
LAST-MODIFIED:20250118T182152Z
UID:10001443-1737700200-1737752400@prairietopinerc.ca
SUMMARY:Music To Warm Our Hearts
DESCRIPTION:An evening of music and giving back was organized by the Rotary Club of Winnipeg Satellite Club. All proceeds from this amazing event will go directly towards supporting Oak Table’s programs and services. \nTickets are $20 and can be purchased at the door or in advance from a club member. (Direct message @rotary.satellite.club.winnipeg on Instagram). Tickets can also be purchased at Augustine United Church\, Winnipeg\,  Monday – Friday\, 8 am – 3 pm. (Contact Korrina at 204 284 2250).
URL:https://prairietopinerc.ca/event/music-to-warm-our-hearts/
LOCATION:Augustine United Church\, 444 River Avenue\, Winnipeg
CATEGORIES:Community of Faith Events calendar,Events
ATTACH;FMTTYPE=image/jpeg:https://prairietopinerc.ca/wp-content/uploads/2025/01/Music-To-Warm-Our-Hearts.jpg
END:VEVENT
END:VCALENDAR