BEGIN:VCALENDAR
VERSION:2.0
PRODID:-//Prairie to Pine Regional Council - ECPv6.15.20//NONSGML v1.0//EN
CALSCALE:GREGORIAN
METHOD:PUBLISH
X-ORIGINAL-URL:https://prairietopinerc.ca
X-WR-CALDESC:Events for Prairie to Pine Regional Council
REFRESH-INTERVAL;VALUE=DURATION:PT1H
X-Robots-Tag:noindex
X-PUBLISHED-TTL:PT1H
BEGIN:VTIMEZONE
TZID:America/Winnipeg
BEGIN:DAYLIGHT
TZOFFSETFROM:-0600
TZOFFSETTO:-0500
TZNAME:CDT
DTSTART:20220313T080000
END:DAYLIGHT
BEGIN:STANDARD
TZOFFSETFROM:-0500
TZOFFSETTO:-0600
TZNAME:CST
DTSTART:20221106T070000
END:STANDARD
BEGIN:DAYLIGHT
TZOFFSETFROM:-0600
TZOFFSETTO:-0500
TZNAME:CDT
DTSTART:20230312T080000
END:DAYLIGHT
BEGIN:STANDARD
TZOFFSETFROM:-0500
TZOFFSETTO:-0600
TZNAME:CST
DTSTART:20231105T070000
END:STANDARD
BEGIN:DAYLIGHT
TZOFFSETFROM:-0600
TZOFFSETTO:-0500
TZNAME:CDT
DTSTART:20240310T080000
END:DAYLIGHT
BEGIN:STANDARD
TZOFFSETFROM:-0500
TZOFFSETTO:-0600
TZNAME:CST
DTSTART:20241103T070000
END:STANDARD
END:VTIMEZONE
BEGIN:VEVENT
DTSTART;TZID=America/Winnipeg:20230929T090000
DTEND;TZID=America/Winnipeg:20230929T160000
DTSTAMP:20260422T135054
CREATED:20230824T191012Z
LAST-MODIFIED:20230918T161216Z
UID:10000847-1695978000-1696003200@prairietopinerc.ca
SUMMARY:Flourishing Project Forum with the Moderator- all welcome
DESCRIPTION:Flourishing Project with the Moderator\, Friday September 29\, 9:00 am – 4:00 pm\, in person only at the United Church in Meadowood 1111 Dakota St.\, Winnipeg\, MB R2N 3T7. \nLocal church leaders and ministry personnel are invited to spend a day with the Moderator\, Right Rev. Dr. Carmen Lansdowne\, engaging in reflection and energizing activities toward dream-oriented actions for our churches and communities. More details are here\, and registration is at this link (you will need a free account to register through ChurchX\, but that one account gives you access to all of the church’s webinars and other resources). \nThe Moderator\, The Right Rev. Dr. Carmen Lansdowne\, seeks to engage both church and broader Canadian society in this question of flourishing\, and how it could influence our future. With the goal of enhancing “flourishing” in church\, among our leadership\, and within the broader community\, the Moderator is on a three-year journey to engage the nation on the big questions.
URL:https://prairietopinerc.ca/event/flourishing-project-forum/
LOCATION:United Church in Meadowood\, 1111 Dakota St\, Winnipeg\, MB\, R2N3T7\, Canada
CATEGORIES:Events,Regional
ATTACH;FMTTYPE=image/jpeg:https://prairietopinerc.ca/wp-content/uploads/2023/08/flourishing_Banner.jpg
END:VEVENT
END:VCALENDAR