BEGIN:VCALENDAR
VERSION:2.0
PRODID:-//Prairie to Pine Regional Council - ECPv6.15.20//NONSGML v1.0//EN
CALSCALE:GREGORIAN
METHOD:PUBLISH
X-ORIGINAL-URL:https://prairietopinerc.ca
X-WR-CALDESC:Events for Prairie to Pine Regional Council
REFRESH-INTERVAL;VALUE=DURATION:PT1H
X-Robots-Tag:noindex
X-PUBLISHED-TTL:PT1H
BEGIN:VTIMEZONE
TZID:America/Winnipeg
BEGIN:DAYLIGHT
TZOFFSETFROM:-0600
TZOFFSETTO:-0500
TZNAME:CDT
DTSTART:20250309T080000
END:DAYLIGHT
BEGIN:STANDARD
TZOFFSETFROM:-0500
TZOFFSETTO:-0600
TZNAME:CST
DTSTART:20251102T070000
END:STANDARD
BEGIN:DAYLIGHT
TZOFFSETFROM:-0600
TZOFFSETTO:-0500
TZNAME:CDT
DTSTART:20260308T080000
END:DAYLIGHT
BEGIN:STANDARD
TZOFFSETFROM:-0500
TZOFFSETTO:-0600
TZNAME:CST
DTSTART:20261101T070000
END:STANDARD
BEGIN:DAYLIGHT
TZOFFSETFROM:-0600
TZOFFSETTO:-0500
TZNAME:CDT
DTSTART:20270314T080000
END:DAYLIGHT
BEGIN:STANDARD
TZOFFSETFROM:-0500
TZOFFSETTO:-0600
TZNAME:CST
DTSTART:20271107T070000
END:STANDARD
END:VTIMEZONE
BEGIN:VEVENT
DTSTART;VALUE=DATE:20261206
DTEND;VALUE=DATE:20261207
DTSTAMP:20260424T164436
CREATED:20251211T024722Z
LAST-MODIFIED:20251211T024722Z
UID:10002141-1796515200-1796601599@prairietopinerc.ca
SUMMARY:National Day of Remembrance & Action on Violence Against Women
DESCRIPTION:
URL:https://prairietopinerc.ca/event/national-day-of-remembrance-action-on-violence-against-women/
CATEGORIES:Events,Regional
END:VEVENT
BEGIN:VEVENT
DTSTART;VALUE=DATE:20261208
DTEND;VALUE=DATE:20261209
DTSTAMP:20260424T164436
CREATED:20251211T024812Z
LAST-MODIFIED:20251211T024812Z
UID:10002142-1796688000-1796774399@prairietopinerc.ca
SUMMARY:Pansexual & Panoramic Pride Day
DESCRIPTION:
URL:https://prairietopinerc.ca/event/pansexual-panoramic-pride-day/
CATEGORIES:Events,Regional
END:VEVENT
BEGIN:VEVENT
DTSTART;TZID=America/Winnipeg:20261209T140000
DTEND;TZID=America/Winnipeg:20261209T150000
DTSTAMP:20260424T164436
CREATED:20250905T180848Z
LAST-MODIFIED:20250905T181104Z
UID:10001692-1796824800-1796828400@prairietopinerc.ca
SUMMARY:Online Bible Study with Jordan Cantwell
DESCRIPTION:Every Wednesday at 1 pm (SK time) \nDeep conversation \nSpiritual friendships \nFaith exploration \nNew participants always welcome! \nContact jcantwell@united-church.ca for more information. \nClick here to join:  https://bit.ly/41Vh93V
URL:https://prairietopinerc.ca/event/online-bible-study-with-jordan-cantwell/2026-12-09/
LOCATION:Online
CATEGORIES:Community of Faith Events calendar,Events,Regional
END:VEVENT
BEGIN:VEVENT
DTSTART;VALUE=DATE:20261210
DTEND;VALUE=DATE:20261211
DTSTAMP:20260424T164436
CREATED:20251211T024853Z
LAST-MODIFIED:20251211T024853Z
UID:10002143-1796860800-1796947199@prairietopinerc.ca
SUMMARY:Human Right's Day
DESCRIPTION:
URL:https://prairietopinerc.ca/event/human-rights-day/
CATEGORIES:Events,Regional
END:VEVENT
END:VCALENDAR