BEGIN:VCALENDAR
VERSION:2.0
PRODID:-//Prairie to Pine Regional Council - ECPv6.15.20//NONSGML v1.0//EN
CALSCALE:GREGORIAN
METHOD:PUBLISH
X-ORIGINAL-URL:https://prairietopinerc.ca
X-WR-CALDESC:Events for Prairie to Pine Regional Council
REFRESH-INTERVAL;VALUE=DURATION:PT1H
X-Robots-Tag:noindex
X-PUBLISHED-TTL:PT1H
BEGIN:VTIMEZONE
TZID:America/Winnipeg
BEGIN:DAYLIGHT
TZOFFSETFROM:-0600
TZOFFSETTO:-0500
TZNAME:CDT
DTSTART:20250309T080000
END:DAYLIGHT
BEGIN:STANDARD
TZOFFSETFROM:-0500
TZOFFSETTO:-0600
TZNAME:CST
DTSTART:20251102T070000
END:STANDARD
BEGIN:DAYLIGHT
TZOFFSETFROM:-0600
TZOFFSETTO:-0500
TZNAME:CDT
DTSTART:20260308T080000
END:DAYLIGHT
BEGIN:STANDARD
TZOFFSETFROM:-0500
TZOFFSETTO:-0600
TZNAME:CST
DTSTART:20261101T070000
END:STANDARD
BEGIN:DAYLIGHT
TZOFFSETFROM:-0600
TZOFFSETTO:-0500
TZNAME:CDT
DTSTART:20270314T080000
END:DAYLIGHT
BEGIN:STANDARD
TZOFFSETFROM:-0500
TZOFFSETTO:-0600
TZNAME:CST
DTSTART:20271107T070000
END:STANDARD
END:VTIMEZONE
BEGIN:VEVENT
DTSTART;VALUE=DATE:20260526
DTEND;VALUE=DATE:20260608
DTSTAMP:20260422T112041
CREATED:20251211T020526Z
LAST-MODIFIED:20251211T020526Z
UID:10002095-1779753600-1780876799@prairietopinerc.ca
SUMMARY:Winnipeg Pride Festival
DESCRIPTION:
URL:https://prairietopinerc.ca/event/winnipeg-pride-festival/
LOCATION:MB
CATEGORIES:Events,Regional
END:VEVENT
BEGIN:VEVENT
DTSTART;VALUE=DATE:20260528
DTEND;VALUE=DATE:20260601
DTSTAMP:20260422T112041
CREATED:20251211T044317Z
LAST-MODIFIED:20251211T044317Z
UID:10002146-1779926400-1780271999@prairietopinerc.ca
SUMMARY:Prairie to Pine Regional Council Meeting
DESCRIPTION:The Prairie to Pine Regional Council Meeting will be held in-person from May 28 to 31\, 2026\, at Selkirk United Church (202 McLean Ave\, Selkirk\, MB R1A 0T6). Stay tuned for more information.
URL:https://prairietopinerc.ca/event/prairie-to-pine-regional-council-meeting/
LOCATION:Selkirk United Church\, 202 McLean Avenue\, Selkirk\, Manitoba\, R1A 0T6\, Canada
CATEGORIES:Events,Regional
END:VEVENT
BEGIN:VEVENT
DTSTART;VALUE=DATE:20260528
DTEND;VALUE=DATE:20260601
DTSTAMP:20260422T112041
CREATED:20260328T161700Z
LAST-MODIFIED:20260401T193434Z
UID:10002195-1779926400-1780271999@prairietopinerc.ca
SUMMARY:Youth at Prairie to Pine Regional Meeting
DESCRIPTION:Once every 3 years\, youth have an opportunity to attend the youth program at the Annual General Meeting of the Prairie to Pine Region . \nParticipating in the youth program at Regional Meeting is a bit like being at a youth retreat with peers\, while also being an opportunity to connect with adults in our region and learn what it’s like to be part of the work and life of our wider faith community. See more details and photos from past regional meetings… \nThis year the regional meeting is being held at Selkirk United Church\, May 28th to 31st\, 2026 (Thursday evening to Sunday after worship). Parents\, we hope you will excuse your youth from school Friday\, to participate in this great opportunity for spiritual growth and community building. \nThe youth as a whole will be the Spirit Squad\, but each youth will also be part of a smaller group that will allow them to participate in age-appropriate ways. \n\nSpirit Seekers – The youngest group (approx grade 4 to 6)\nSpirit Explorers – The middle group (approx grade 7 to 9)\nSpirit Followers – The oldest group (approx grade 10 and up\, including young adult)\n\nSpirit Seekers will spend some time in the meetings\, and some time doing other activities with their age group peers.  For the evenings and nights they will go with the adult they came with. \nSpirit Explorers will do similarly during the meetings\, but will spend the evenings and over-night with the older youth. \nSpirit Followers will experience the whole of the meetings\, will be able to attend workshops of their choice\, and will spend evenings and overnights together as a group of youth. \nThe youth will be accommodated at Knox Presbyterian Church\, just across the street from the meetings.  We will sleep on the floor as we do at retreats. \nThe cost is $125 (or 100 for early-bird by Apr 15) for those staying over-night; $75 (or 65 for early bird) for Spirit Seekers.  Subsidy is available for anyone for whom the cost would stop them from attending. Just check off that option in the form. \nWe hope you will give this once-every-three-years opportunity a try.  You might love it\, as I\, and many other youth have in the past.  If not\, it’s only a weekend\, and you will most certainly still take away something of value! \nRegister Here
URL:https://prairietopinerc.ca/event/youth-at-prairie-to-pine-regional-meeting/
LOCATION:Selkirk United Church\, 202 McLean Avenue\, Selkirk\, Manitoba\, R1A 0T6\, Canada
CATEGORIES:Events,Regional,Young Adults and Youth
ATTACH;FMTTYPE=image/jpeg:https://prairietopinerc.ca/wp-content/uploads/2026/03/Regional-Meeting-Youth-Poster-short.jpg
END:VEVENT
BEGIN:VEVENT
DTSTART;TZID=America/Winnipeg:20260602T150000
DTEND;TZID=America/Winnipeg:20260602T160000
DTSTAMP:20260422T112041
CREATED:20250924T171839Z
LAST-MODIFIED:20250924T171839Z
UID:10001978-1780412400-1780416000@prairietopinerc.ca
SUMMARY:Ministry Personnel Support Online Gathering
DESCRIPTION:Ministry Personnel Support Gathering. Tuesday\,  November 4\, 2025\, at 3:00 p.m. The monthly opportunity for Ministry Personnel from Prairie to Pine Regional Council (active & retired) to connect with one another via ZOOM. Here is the Zoom link information.
URL:https://prairietopinerc.ca/event/ministry-personnel-support-online-gathering/2026-06-02/
LOCATION:via Zoom
CATEGORIES:Events,Regional
END:VEVENT
BEGIN:VEVENT
DTSTART;TZID=America/Winnipeg:20260603T140000
DTEND;TZID=America/Winnipeg:20260603T150000
DTSTAMP:20260422T112041
CREATED:20250905T180848Z
LAST-MODIFIED:20250905T181104Z
UID:10001665-1780495200-1780498800@prairietopinerc.ca
SUMMARY:Online Bible Study with Jordan Cantwell
DESCRIPTION:Every Wednesday at 1 pm (SK time) \nDeep conversation \nSpiritual friendships \nFaith exploration \nNew participants always welcome! \nContact jcantwell@united-church.ca for more information. \nClick here to join:  https://bit.ly/41Vh93V
URL:https://prairietopinerc.ca/event/online-bible-study-with-jordan-cantwell/2026-06-03/
LOCATION:Online
CATEGORIES:Community of Faith Events calendar,Events,Regional
END:VEVENT
BEGIN:VEVENT
DTSTART;VALUE=DATE:20260604
DTEND;VALUE=DATE:20260605
DTSTAMP:20260422T112041
CREATED:20251211T020630Z
LAST-MODIFIED:20251211T020630Z
UID:10002096-1780531200-1780617599@prairietopinerc.ca
SUMMARY:International Day of Innocent Children Victims of Aggression
DESCRIPTION:
URL:https://prairietopinerc.ca/event/international-day-of-innocent-children-victims-of-aggression/
LOCATION:MB
CATEGORIES:Events,Regional
END:VEVENT
BEGIN:VEVENT
DTSTART;TZID=America/Winnipeg:20260605T170000
DTEND;TZID=America/Winnipeg:20260607T150000
DTSTAMP:20260422T112041
CREATED:20260209T195456Z
LAST-MODIFIED:20260311T203502Z
UID:10002160-1780678800-1780844400@prairietopinerc.ca
SUMMARY:Wasaga Women's Weekend: Stronger Together
DESCRIPTION:Our theme is STRONGER TOGETHER\nFeel free to use the weekend as you need it. You are welcome to\nparticipate in every activity or you may choose to spend your time\non your own going for walks or in quiet reflection. This is your\nweekend to rejuvenate and take care of yourself in a loving way. \nRegistration\nEarly bird fee for the\nweekend is $350 per\nperson.\nAfter May 1 the fee is\n$375.\nTo register please send\nan email to\nwasagawomensweekend\n@gmail.com
URL:https://prairietopinerc.ca/event/wasaga-womens-weekend-stronger-together/
LOCATION:Camp Wasaga\, Onanole\, Manitoba\, Canada
CATEGORIES:Community of Faith Events calendar,Events
ATTACH;FMTTYPE=image/jpeg:https://prairietopinerc.ca/wp-content/uploads/2026/02/Wasaga-Womens-Weekend-2026-scaled.jpg
ORGANIZER;CN="Mavis Allison":MAILTO:wasagawomensweekend@gmail.com
END:VEVENT
END:VCALENDAR