BEGIN:VCALENDAR
VERSION:2.0
PRODID:-//Prairie to Pine Regional Council - ECPv6.15.20//NONSGML v1.0//EN
CALSCALE:GREGORIAN
METHOD:PUBLISH
X-ORIGINAL-URL:https://prairietopinerc.ca
X-WR-CALDESC:Events for Prairie to Pine Regional Council
REFRESH-INTERVAL;VALUE=DURATION:PT1H
X-Robots-Tag:noindex
X-PUBLISHED-TTL:PT1H
BEGIN:VTIMEZONE
TZID:America/Winnipeg
BEGIN:DAYLIGHT
TZOFFSETFROM:-0600
TZOFFSETTO:-0500
TZNAME:CDT
DTSTART:20250309T080000
END:DAYLIGHT
BEGIN:STANDARD
TZOFFSETFROM:-0500
TZOFFSETTO:-0600
TZNAME:CST
DTSTART:20251102T070000
END:STANDARD
BEGIN:DAYLIGHT
TZOFFSETFROM:-0600
TZOFFSETTO:-0500
TZNAME:CDT
DTSTART:20260308T080000
END:DAYLIGHT
BEGIN:STANDARD
TZOFFSETFROM:-0500
TZOFFSETTO:-0600
TZNAME:CST
DTSTART:20261101T070000
END:STANDARD
BEGIN:DAYLIGHT
TZOFFSETFROM:-0600
TZOFFSETTO:-0500
TZNAME:CDT
DTSTART:20270314T080000
END:DAYLIGHT
BEGIN:STANDARD
TZOFFSETFROM:-0500
TZOFFSETTO:-0600
TZNAME:CST
DTSTART:20271107T070000
END:STANDARD
END:VTIMEZONE
BEGIN:VEVENT
DTSTART;TZID=America/Winnipeg:20260211T140000
DTEND;TZID=America/Winnipeg:20260211T150000
DTSTAMP:20260422T133859
CREATED:20250905T180848Z
LAST-MODIFIED:20250905T181104Z
UID:10001649-1770818400-1770822000@prairietopinerc.ca
SUMMARY:Online Bible Study with Jordan Cantwell
DESCRIPTION:Every Wednesday at 1 pm (SK time) \nDeep conversation \nSpiritual friendships \nFaith exploration \nNew participants always welcome! \nContact jcantwell@united-church.ca for more information. \nClick here to join:  https://bit.ly/41Vh93V
URL:https://prairietopinerc.ca/event/online-bible-study-with-jordan-cantwell/2026-02-11/
LOCATION:Online
CATEGORIES:Community of Faith Events calendar,Events,Regional
END:VEVENT
BEGIN:VEVENT
DTSTART;TZID=America/Winnipeg:20260213T170000
DTEND;TZID=America/Winnipeg:20260213T190000
DTSTAMP:20260422T133859
CREATED:20250917T163306Z
LAST-MODIFIED:20260114T200124Z
UID:10001899-1771002000-1771009200@prairietopinerc.ca
SUMMARY:Messy Church
DESCRIPTION:WHAT IS MESSY CHURCH? \nMessy Church is an alternative way of Worship and Celebration! . It is rooted in the word of God\, and this is expressed in a variety of creative ways. It is a community of friends and families. It is for everyone between the ages of 3 and 95! You will be greeted with a warm welcome. There is a story on the evening’s theme. There is a communal and yummy meal. Following the meal\, there are 10 activity stations. There is something for young children\, something for trendy teens\, and something for thoughtful and creative adults. In fact …. Something for everyone. \nThe theme of the first Messy Church is God’s love personally experienced and also expressed through empathy. There is no better time to Pass it On! \nWe invite you to join us:\nOctober 10\,2025\, 5pm -7pm\nFort Garry United Church (800 Point Road\, Winnipeg)
URL:https://prairietopinerc.ca/event/messy-church-2/2026-02-13/
LOCATION:Fort Garry United Church\, 800 Point Rd\, Winnipeg\, MB\, Winnipeg\, Manitoba\, R3T 3L8\, Canada
CATEGORIES:Community of Faith Events calendar,Events
ORGANIZER;CN="Mavis Allison":MAILTO:wasagawomensweekend@gmail.com
END:VEVENT
BEGIN:VEVENT
DTSTART;TZID=America/Winnipeg:20260213T170000
DTEND;TZID=America/Winnipeg:20260213T220000
DTSTAMP:20260422T133859
CREATED:20260107T212415Z
LAST-MODIFIED:20260107T212415Z
UID:10002151-1771002000-1771020000@prairietopinerc.ca
SUMMARY:Dinner Theatre
DESCRIPTION:Join us February 13 for an evening of great food\, laughter\, and classic suspense!\nDoors open at 5:00 pm | Dinner at 6pm and Show to follow. \nEnjoy appetizers\, a roast beef dinner\, and exciting auction prizes—all for $50. \nThe evening features The 39 Steps\, presented by Hood and Dagger Productions\, adapted by Patrick Barlow from the novel by John Buchan and the classic film by Alfred Hitchcock. \n🎟️ Tickets: Contact Prairie Spirit United Church for tickets and information about payment options. 204-832-1000 or office@prairiespirituc.org \nDon’t miss this fun-filled night out—bring a friend and enjoy dinner and theatre together!
URL:https://prairietopinerc.ca/event/dinner-theatre/
LOCATION:Prairie Spirit United Church\, 207 Thompson Drive\, Winnipeg\, Manitoba\, R3J 3E2\, Canada
CATEGORIES:Community of Faith Events calendar,Events
ATTACH;FMTTYPE=image/jpeg:https://prairietopinerc.ca/wp-content/uploads/2026/01/39-Steps-Poster.jpg
ORGANIZER;CN="Prairie Spirit United Church":MAILTO:PrairieSpiritUC@shaw.ca
END:VEVENT
BEGIN:VEVENT
DTSTART;VALUE=DATE:20260214
DTEND;VALUE=DATE:20260215
DTSTAMP:20260422T133859
CREATED:20251211T014543Z
LAST-MODIFIED:20251211T014543Z
UID:10002072-1771027200-1771113599@prairietopinerc.ca
SUMMARY:Pink Triangle Day
DESCRIPTION:
URL:https://prairietopinerc.ca/event/pink-triangle-day/
LOCATION:MB
CATEGORIES:Events,Regional
END:VEVENT
END:VCALENDAR