BEGIN:VCALENDAR
VERSION:2.0
PRODID:-//Prairie to Pine Regional Council - ECPv6.15.20//NONSGML v1.0//EN
CALSCALE:GREGORIAN
METHOD:PUBLISH
X-ORIGINAL-URL:https://prairietopinerc.ca
X-WR-CALDESC:Events for Prairie to Pine Regional Council
REFRESH-INTERVAL;VALUE=DURATION:PT1H
X-Robots-Tag:noindex
X-PUBLISHED-TTL:PT1H
BEGIN:VTIMEZONE
TZID:America/Winnipeg
BEGIN:DAYLIGHT
TZOFFSETFROM:-0600
TZOFFSETTO:-0500
TZNAME:CDT
DTSTART:20250309T080000
END:DAYLIGHT
BEGIN:STANDARD
TZOFFSETFROM:-0500
TZOFFSETTO:-0600
TZNAME:CST
DTSTART:20251102T070000
END:STANDARD
BEGIN:DAYLIGHT
TZOFFSETFROM:-0600
TZOFFSETTO:-0500
TZNAME:CDT
DTSTART:20260308T080000
END:DAYLIGHT
BEGIN:STANDARD
TZOFFSETFROM:-0500
TZOFFSETTO:-0600
TZNAME:CST
DTSTART:20261101T070000
END:STANDARD
BEGIN:DAYLIGHT
TZOFFSETFROM:-0600
TZOFFSETTO:-0500
TZNAME:CDT
DTSTART:20270314T080000
END:DAYLIGHT
BEGIN:STANDARD
TZOFFSETFROM:-0500
TZOFFSETTO:-0600
TZNAME:CST
DTSTART:20271107T070000
END:STANDARD
END:VTIMEZONE
BEGIN:VEVENT
DTSTART;VALUE=DATE:20260104
DTEND;VALUE=DATE:20260105
DTSTAMP:20260422T135053
CREATED:20251211T013645Z
LAST-MODIFIED:20251211T013645Z
UID:10002067-1767484800-1767571199@prairietopinerc.ca
SUMMARY:National Ribbon Skirt Day
DESCRIPTION:
URL:https://prairietopinerc.ca/event/national-ribbon-skirt-day/
LOCATION:MB
CATEGORIES:Events,Regional
END:VEVENT
BEGIN:VEVENT
DTSTART;TZID=America/Winnipeg:20260106T150000
DTEND;TZID=America/Winnipeg:20260106T160000
DTSTAMP:20260422T135053
CREATED:20250924T171839Z
LAST-MODIFIED:20250924T171839Z
UID:10001973-1767711600-1767715200@prairietopinerc.ca
SUMMARY:Ministry Personnel Support Online Gathering
DESCRIPTION:Ministry Personnel Support Gathering. Tuesday\,  November 4\, 2025\, at 3:00 p.m. The monthly opportunity for Ministry Personnel from Prairie to Pine Regional Council (active & retired) to connect with one another via ZOOM. Here is the Zoom link information.
URL:https://prairietopinerc.ca/event/ministry-personnel-support-online-gathering/2026-01-06/
LOCATION:via Zoom
CATEGORIES:Events,Regional
END:VEVENT
BEGIN:VEVENT
DTSTART;TZID=America/Winnipeg:20260107T140000
DTEND;TZID=America/Winnipeg:20260107T150000
DTSTAMP:20260422T135053
CREATED:20250905T180848Z
LAST-MODIFIED:20250905T181104Z
UID:10001644-1767794400-1767798000@prairietopinerc.ca
SUMMARY:Online Bible Study with Jordan Cantwell
DESCRIPTION:Every Wednesday at 1 pm (SK time) \nDeep conversation \nSpiritual friendships \nFaith exploration \nNew participants always welcome! \nContact jcantwell@united-church.ca for more information. \nClick here to join:  https://bit.ly/41Vh93V
URL:https://prairietopinerc.ca/event/online-bible-study-with-jordan-cantwell/2026-01-07/
LOCATION:Online
CATEGORIES:Community of Faith Events calendar,Events,Regional
END:VEVENT
BEGIN:VEVENT
DTSTART;TZID=America/Winnipeg:20260109T170000
DTEND;TZID=America/Winnipeg:20260109T190000
DTSTAMP:20260422T135053
CREATED:20250917T163306Z
LAST-MODIFIED:20260114T200124Z
UID:10001898-1767978000-1767985200@prairietopinerc.ca
SUMMARY:Messy Church
DESCRIPTION:WHAT IS MESSY CHURCH? \nMessy Church is an alternative way of Worship and Celebration! . It is rooted in the word of God\, and this is expressed in a variety of creative ways. It is a community of friends and families. It is for everyone between the ages of 3 and 95! You will be greeted with a warm welcome. There is a story on the evening’s theme. There is a communal and yummy meal. Following the meal\, there are 10 activity stations. There is something for young children\, something for trendy teens\, and something for thoughtful and creative adults. In fact …. Something for everyone. \nThe theme of the first Messy Church is God’s love personally experienced and also expressed through empathy. There is no better time to Pass it On! \nWe invite you to join us:\nOctober 10\,2025\, 5pm -7pm\nFort Garry United Church (800 Point Road\, Winnipeg)
URL:https://prairietopinerc.ca/event/messy-church-2/2026-01-09/
LOCATION:Fort Garry United Church\, 800 Point Rd\, Winnipeg\, MB\, Winnipeg\, Manitoba\, R3T 3L8\, Canada
CATEGORIES:Community of Faith Events calendar,Events
ORGANIZER;CN="Mavis Allison":MAILTO:wasagawomensweekend@gmail.com
END:VEVENT
BEGIN:VEVENT
DTSTART;TZID=America/Winnipeg:20260109T190000
DTEND;TZID=America/Winnipeg:20260111T120000
DTSTAMP:20260422T135053
CREATED:20251202T213608Z
LAST-MODIFIED:20251204T222711Z
UID:10002064-1767985200-1768132800@prairietopinerc.ca
SUMMARY:Youth Leadership Retreat
DESCRIPTION:Leadership Event\nfor Future Leaders wanting to pursue Leadership Roles\nFriday Jan 9th to Sunday Jan 11th\, 2025 \nAt John Black Memorial United Church – 898 Henderson Hwy\, Winnipeg\, MB \nWhile the Zeebu Planning Team is meeting\, future leaders will gather in the same building to learn leadership skills. They will plan and lead a Travelling Youth Group that other children and youth will attend Saturday evening\, they will attend a YAAY meeting on Saturday afternoon to learn more about the YAAY Committee\, and they will participate in worship with the host church on Sunday morning. \nTo make it both a good learning environment and a manageable event for our hosts\, SPACE IS LIMITED so YOUTH be sure to click on the blue button below ASAP to register. \nRegister Here
URL:https://prairietopinerc.ca/event/youth-leadership-retreat-2/
LOCATION:MB
CATEGORIES:Community of Faith Events calendar,Events,Regional,Young Adults and Youth
END:VEVENT
BEGIN:VEVENT
DTSTART;TZID=America/Winnipeg:20260110T190000
DTEND;TZID=America/Winnipeg:20260110T210000
DTSTAMP:20260422T135053
CREATED:20251217T174312Z
LAST-MODIFIED:20251217T174312Z
UID:10002149-1768071600-1768078800@prairietopinerc.ca
SUMMARY:Traveling Youth Group
DESCRIPTION:Join us for an evening of Worship\, Games and Snacks. Planned and Lead by our Leadership Event Participants. \nWhere: John Black Memorial United Church\nWhen: Saturday January 10th 7-9pm\nWho: Youth Garde 5-12 and their Leaders
URL:https://prairietopinerc.ca/event/traveling-youth-group-4/
LOCATION:John Black Memorial United Church\, 898 Henderson Hwy\, Winnipeg\, MB\, R2K 3T4\, Canada
CATEGORIES:Community of Faith Events calendar,Events,Leaders of Children,Young Adults and Youth
ATTACH;FMTTYPE=image/png:https://prairietopinerc.ca/wp-content/uploads/2025/12/Jan-Traveling-Youth-Group.png
END:VEVENT
END:VCALENDAR