BEGIN:VCALENDAR
VERSION:2.0
PRODID:-//Prairie to Pine Regional Council - ECPv6.15.20//NONSGML v1.0//EN
CALSCALE:GREGORIAN
METHOD:PUBLISH
X-WR-CALNAME:Prairie to Pine Regional Council
X-ORIGINAL-URL:https://prairietopinerc.ca
X-WR-CALDESC:Events for Prairie to Pine Regional Council
REFRESH-INTERVAL;VALUE=DURATION:PT1H
X-Robots-Tag:noindex
X-PUBLISHED-TTL:PT1H
BEGIN:VTIMEZONE
TZID:America/Winnipeg
BEGIN:DAYLIGHT
TZOFFSETFROM:-0600
TZOFFSETTO:-0500
TZNAME:CDT
DTSTART:20240310T080000
END:DAYLIGHT
BEGIN:STANDARD
TZOFFSETFROM:-0500
TZOFFSETTO:-0600
TZNAME:CST
DTSTART:20241103T070000
END:STANDARD
BEGIN:DAYLIGHT
TZOFFSETFROM:-0600
TZOFFSETTO:-0500
TZNAME:CDT
DTSTART:20250309T080000
END:DAYLIGHT
BEGIN:STANDARD
TZOFFSETFROM:-0500
TZOFFSETTO:-0600
TZNAME:CST
DTSTART:20251102T070000
END:STANDARD
BEGIN:DAYLIGHT
TZOFFSETFROM:-0600
TZOFFSETTO:-0500
TZNAME:CDT
DTSTART:20260308T080000
END:DAYLIGHT
BEGIN:STANDARD
TZOFFSETFROM:-0500
TZOFFSETTO:-0600
TZNAME:CST
DTSTART:20261101T070000
END:STANDARD
END:VTIMEZONE
BEGIN:VEVENT
DTSTART;TZID=America/Winnipeg:20251117T193000
DTEND;TZID=America/Winnipeg:20251117T210000
DTSTAMP:20260424T103034
CREATED:20251108T024558Z
LAST-MODIFIED:20251108T024558Z
UID:10002050-1763407800-1763413200@prairietopinerc.ca
SUMMARY:Workshop on Unconscious Bias
DESCRIPTION:Have you ever wondered what unconscious bias is? The Equity and Diversity team have contracted with Praxis (a Winnipeg MB group) to facilitate this webinar for the Tri-Region area.  We are encouraging Boards/Councils\, M&P Committees\, and CoF who are in the transition of becoming Affirming\, to attend.  This webinar will give general information on what unconscious bias is about and will last approximately 90 minutes. \nYour Equity and Diversity committee is excited to host an online workshop on Unconscious Bias\, Monday\, Nov. 17\, at 7:30 pm CST\, for 90 minutes. With trained resource people\, we’ll focus on offering a very accessible\, basic introduction to bias: what it is\, how it can impact relationships between individuals and between communities\, and how we can move past it to turn diversity into an asset instead of a perceived division. Please click here to register. You will have access to the Zoom link once you submit your registration.
URL:https://prairietopinerc.ca/event/workshop-on-unconscious-bias/
LOCATION:Zoom
CATEGORIES:Community of Faith Events calendar,Events,Regional
ATTACH;FMTTYPE=image/png:https://prairietopinerc.ca/wp-content/uploads/2025/11/Unconscious-Bias-Final.png
END:VEVENT
BEGIN:VEVENT
DTSTART;TZID=America/Winnipeg:20251118T170000
DTEND;TZID=America/Winnipeg:20251118T190000
DTSTAMP:20260424T103034
CREATED:20251105T201206Z
LAST-MODIFIED:20251105T201206Z
UID:10002049-1763485200-1763492400@prairietopinerc.ca
SUMMARY:Next Cross-Country Check-In
DESCRIPTION:Join the Conversation at the Next Cross-Country Check-In\, November 18\, 6:00 ET / 5:00 CT/ 4:00 MT\, online. Connect with church leaders! The Moderator\, The Right Rev. Dr. Kimberly Heath\, and General  Secretary\, Rev. Michael Blair\, invite you to a live online Cross Country Check-in with the General Council Executive (GCE) on November 18\, 6:00–7:30 p.m. ET. This is an opportunity to put faces to names and engage directly with the GCE soon after their meeting\, enriching preparations for GC45 and other key leadership meetings. Register today!
URL:https://prairietopinerc.ca/event/next-cross-country-check-in/
LOCATION:Online
CATEGORIES:Community of Faith Events calendar,Events,Regional
END:VEVENT
BEGIN:VEVENT
DTSTART;TZID=America/Winnipeg:20251119T140000
DTEND;TZID=America/Winnipeg:20251119T150000
DTSTAMP:20260424T103034
CREATED:20250905T180848Z
LAST-MODIFIED:20250905T181104Z
UID:10001637-1763560800-1763564400@prairietopinerc.ca
SUMMARY:Online Bible Study with Jordan Cantwell
DESCRIPTION:Every Wednesday at 1 pm (SK time) \nDeep conversation \nSpiritual friendships \nFaith exploration \nNew participants always welcome! \nContact jcantwell@united-church.ca for more information. \nClick here to join:  https://bit.ly/41Vh93V
URL:https://prairietopinerc.ca/event/online-bible-study-with-jordan-cantwell/2025-11-19/
LOCATION:Online
CATEGORIES:Community of Faith Events calendar,Events,Regional
END:VEVENT
BEGIN:VEVENT
DTSTART;TZID=America/Winnipeg:20251120T133000
DTEND;TZID=America/Winnipeg:20251120T153000
DTSTAMP:20260424T103034
CREATED:20251105T200800Z
LAST-MODIFIED:20251105T200800Z
UID:10002048-1763645400-1763652600@prairietopinerc.ca
SUMMARY:Online Intercultural Workshop and WIMN AGM
DESCRIPTION:Beyond the Chinese Face: Challenges Faced by Chinese in Canada\, Thursday\, November 20\, 2025\, 11:30 – 1:30 PM PST\, 12:30 PM MST\, 1:30 PM CST. Join three UCC ministers from the Chinese Association of The United Church of Canada to hear their insights\, on aspects of Chinese culture\, serving English congregations in Canada\, and outreach to Hong Kong diaspora. Presenters: Rev. Dr. Alan Lai\, Rev. Mini Choi\, and Rev. Calin Lau. WIMN AGM follows. Full details at this link. – https://northernspiritrc.ca/wicmn-workshop-agm/
URL:https://prairietopinerc.ca/event/online-intercultural-workshop-and-wimn-agm/
LOCATION:Online
CATEGORIES:Community of Faith Events calendar,Events,Regional
END:VEVENT
BEGIN:VEVENT
DTSTART;TZID=America/Winnipeg:20251121T173000
DTEND;TZID=America/Winnipeg:20251121T193000
DTSTAMP:20260424T103034
CREATED:20250917T193855Z
LAST-MODIFIED:20250917T193855Z
UID:10001961-1763746200-1763753400@prairietopinerc.ca
SUMMARY:Messy Church
DESCRIPTION:Messy Church is church that is fun! It celebrates faith with creativity and hospitality! \nIt is Biblically based!\nIt is for everyone — all generations together!\nIt is a growing international community filled with enthusiasm and ideas to share Good News.\nAll are Welcome! \nJoin us at TMUC for Messy Church: stories\, songs\, crafts and a shared meal.
URL:https://prairietopinerc.ca/event/messy-church-5/
LOCATION:Transcona Memorial United Church\, 209 Yale Ave W.\, Winnipeg\, Manitoba\, R2C 1T9\, Canada
CATEGORIES:Community of Faith Events calendar,Events
ATTACH;FMTTYPE=image/png:https://prairietopinerc.ca/wp-content/uploads/2025/09/Image-3.png
END:VEVENT
BEGIN:VEVENT
DTSTART;TZID=America/Winnipeg:20251122T190000
DTEND;TZID=America/Winnipeg:20251122T210000
DTSTAMP:20260424T103034
CREATED:20251021T222924Z
LAST-MODIFIED:20251021T222924Z
UID:10002041-1763838000-1763845200@prairietopinerc.ca
SUMMARY:Praise and Worship service at Trinity United Church
DESCRIPTION:Praise and Worship service at Trinity United Church (933 Summerside Ave across the street from Fort Richmond Collegiate). \nA night to praise and worship God through music featuring the 2nd Chance band and choirs from Trinity United and Good Shepherd Anglican Churches. \nFree admission with a free will offering for Bear Clan Winnipeg.\nSaturday November 22 at 7:00 PM. Doors open at 6:30.
URL:https://prairietopinerc.ca/event/praise-and-worship-service-at-trinity-united-church/
LOCATION:Trinity United Church-Winnipeg\, 933 Summerside Avenue\, Winnipeg\, Manitoba\, R3T 4Y1\, Canada
CATEGORIES:Community of Faith Events calendar,Events
ORGANIZER;CN="Trinity United Church-Winnipeg":MAILTO:tuc@mymts.net
END:VEVENT
END:VCALENDAR