BEGIN:VCALENDAR
VERSION:2.0
PRODID:-//Prairie to Pine Regional Council - ECPv6.15.20//NONSGML v1.0//EN
CALSCALE:GREGORIAN
METHOD:PUBLISH
X-WR-CALNAME:Prairie to Pine Regional Council
X-ORIGINAL-URL:https://prairietopinerc.ca
X-WR-CALDESC:Events for Prairie to Pine Regional Council
REFRESH-INTERVAL;VALUE=DURATION:PT1H
X-Robots-Tag:noindex
X-PUBLISHED-TTL:PT1H
BEGIN:VTIMEZONE
TZID:America/Winnipeg
BEGIN:DAYLIGHT
TZOFFSETFROM:-0600
TZOFFSETTO:-0500
TZNAME:CDT
DTSTART:20240310T080000
END:DAYLIGHT
BEGIN:STANDARD
TZOFFSETFROM:-0500
TZOFFSETTO:-0600
TZNAME:CST
DTSTART:20241103T070000
END:STANDARD
BEGIN:DAYLIGHT
TZOFFSETFROM:-0600
TZOFFSETTO:-0500
TZNAME:CDT
DTSTART:20250309T080000
END:DAYLIGHT
BEGIN:STANDARD
TZOFFSETFROM:-0500
TZOFFSETTO:-0600
TZNAME:CST
DTSTART:20251102T070000
END:STANDARD
BEGIN:DAYLIGHT
TZOFFSETFROM:-0600
TZOFFSETTO:-0500
TZNAME:CDT
DTSTART:20260308T080000
END:DAYLIGHT
BEGIN:STANDARD
TZOFFSETFROM:-0500
TZOFFSETTO:-0600
TZNAME:CST
DTSTART:20261101T070000
END:STANDARD
END:VTIMEZONE
BEGIN:VEVENT
DTSTART;TZID=America/Winnipeg:20251102T140000
DTEND;TZID=America/Winnipeg:20251102T150000
DTSTAMP:20260424T103007
CREATED:20250924T172600Z
LAST-MODIFIED:20250924T172600Z
UID:10002030-1762092000-1762095600@prairietopinerc.ca
SUMMARY:Covenanting Service- Warren Meadow Lea-Balmoral United Churches
DESCRIPTION:Warren-Meadow Lea and Balmoral Collaborative Ministry will have its Covenanting Service with Mary Best and the Prairie to Pine Regional Council on November 2\, 2025\, at 2:00 p.m.
URL:https://prairietopinerc.ca/event/covenanting-service-warren-meadow-lea-balmoral-united-churches/
CATEGORIES:Community of Faith Events calendar,Events,Regional
END:VEVENT
BEGIN:VEVENT
DTSTART;TZID=America/Winnipeg:20251104T150000
DTEND;TZID=America/Winnipeg:20251104T160000
DTSTAMP:20260424T103007
CREATED:20250924T171839Z
LAST-MODIFIED:20250924T171839Z
UID:10001971-1762268400-1762272000@prairietopinerc.ca
SUMMARY:Ministry Personnel Support Online Gathering
DESCRIPTION:Ministry Personnel Support Gathering. Tuesday\,  November 4\, 2025\, at 3:00 p.m. The monthly opportunity for Ministry Personnel from Prairie to Pine Regional Council (active & retired) to connect with one another via ZOOM. Here is the Zoom link information.
URL:https://prairietopinerc.ca/event/ministry-personnel-support-online-gathering/2025-11-04/
LOCATION:via Zoom
CATEGORIES:Events,Regional
END:VEVENT
BEGIN:VEVENT
DTSTART;TZID=America/Winnipeg:20251105T130000
DTEND;TZID=America/Winnipeg:20251105T210000
DTSTAMP:20260424T103007
CREATED:20251028T195001Z
LAST-MODIFIED:20251028T195001Z
UID:10002046-1762347600-1762376400@prairietopinerc.ca
SUMMARY:Messy Church Canada-Advent and Christmas Planning
DESCRIPTION:Get ready\, get set\, PLAN! \nMessy Church Canada invites you to join us on ZOOM as we connect with one another and talk about \nAdvent and Christmas planning. \nMessy Church Canada ZOOM meetings are no more than 60 minutes and are on the first Wednesday of the month\, with 2 times options –  the next one is \nWednesday\, November 5\, 2025 \nAn afternoon session: \n1:00 p.m. Central time (Saskatchewan\, Manitoba\, Northwestern Ontario\, and some of the North) \nAnd an evening session: \n7:00 p.m. Central time (Manitoba\, Northwestern Ontario\, Saskatchewan and some of the North) \nWe will share some ideas and the updates from our Messy Churches\, and we will have lots of time for questions for those who are considering starting a Messy Church.  With busy people and our enormous country (It is the same ZOOM for leaders and volunteers across the country) it is difficult to find a time that works for everyone\, so we are offering two choices with the hopes that it will be convenient for you to take part.  Saying that – you are welcome at both if you want to sign on twice! \nHere’s the link: \nhttps://us06web.zoom.us/j/4098204079 \nPlease use the same link for BOTH \nWe look forward to seeing you!
URL:https://prairietopinerc.ca/event/messy-church-canada-advent-and-christmas-planning/
LOCATION:Zoom
CATEGORIES:Community of Faith Events calendar,Events
ATTACH;FMTTYPE=image/jpeg:https://prairietopinerc.ca/wp-content/uploads/2025/10/Messy-Church-Canada-Christmas.jpg
END:VEVENT
BEGIN:VEVENT
DTSTART;TZID=America/Winnipeg:20251105T140000
DTEND;TZID=America/Winnipeg:20251105T150000
DTSTAMP:20260424T103007
CREATED:20250905T180848Z
LAST-MODIFIED:20250905T181104Z
UID:10001635-1762351200-1762354800@prairietopinerc.ca
SUMMARY:Online Bible Study with Jordan Cantwell
DESCRIPTION:Every Wednesday at 1 pm (SK time) \nDeep conversation \nSpiritual friendships \nFaith exploration \nNew participants always welcome! \nContact jcantwell@united-church.ca for more information. \nClick here to join:  https://bit.ly/41Vh93V
URL:https://prairietopinerc.ca/event/online-bible-study-with-jordan-cantwell/2025-11-05/
LOCATION:Online
CATEGORIES:Community of Faith Events calendar,Events,Regional
END:VEVENT
BEGIN:VEVENT
DTSTART;TZID=America/Winnipeg:20251106T140000
DTEND;TZID=America/Winnipeg:20251106T153000
DTSTAMP:20260424T103007
CREATED:20251022T211814Z
LAST-MODIFIED:20251022T211814Z
UID:10002042-1762437600-1762443000@prairietopinerc.ca
SUMMARY:Book Conversation with Past-Moderator Carmen Landsdowne
DESCRIPTION:Join Carmen as she discusses her new book\, Wearing a Broken Indigene Heart on the Sleeve of Christian Mission. \nA member of Haíłzaqv (Heiltsuk) First Nation and an ordained minister in The United Church of Canada\, Lansdowne explores how we might understand Christian mission in order to transform the relationship between Indigenous peoples and the church\, and transform the church itself. She seeks to answer the question: If Indigenous hearts are broken by Christianity\, can Christian theology be life giving at all? \n“In this long awaited book\, Lansdowne gives us her broken heart. An unwavering\nindigenous and unapologetic Christian heart. From a deep Indigenous knowledge\, she\noffers a dialogue that will demand changes. But that is the only way to start healing\nwounds that were opened more than 500 years ago. How desperately we need her\nvoice!”—Cláudio Carvalhaes\, Union Theological Seminary\, New York City
URL:https://prairietopinerc.ca/event/book-conversation-with-past-moderator-carmen-landsdowne/
LOCATION:United Church in Meadowood\, 1111 Dakota St\, Winnipeg\, MB\, R2N3T7\, Canada
CATEGORIES:Community of Faith Events calendar,Events
ATTACH;FMTTYPE=image/png:https://prairietopinerc.ca/wp-content/uploads/2025/10/Carmen-Landsdowne-Book-Event.png
END:VEVENT
BEGIN:VEVENT
DTSTART;TZID=America/Winnipeg:20251108T090000
DTEND;TZID=America/Winnipeg:20251108T130000
DTSTAMP:20260424T103007
CREATED:20251027T202355Z
LAST-MODIFIED:20251027T202355Z
UID:10002045-1762592400-1762606800@prairietopinerc.ca
SUMMARY:Christmas Garage Sale
DESCRIPTION:Christmas items\, small treasures\, handmade crafts and cards\,baking and frozen soups will all be for sale.
URL:https://prairietopinerc.ca/event/christmas-garage-sale/
LOCATION:Harrow United Church\, 955 Mulvey Avenue\, Winnipeg\, Manitoba\, R3M 1G8\, Canada
CATEGORIES:Community of Faith Events calendar,Events
ATTACH;FMTTYPE=image/jpeg:https://prairietopinerc.ca/wp-content/uploads/2025/10/73C6DE77-8CFC-4111-9ACA-F1E8ACD30115.jpeg
END:VEVENT
BEGIN:VEVENT
DTSTART;TZID=America/Winnipeg:20251108T100000
DTEND;TZID=America/Winnipeg:20251108T120000
DTSTAMP:20260424T103007
CREATED:20251020T185806Z
LAST-MODIFIED:20251022T151043Z
UID:10002039-1762596000-1762603200@prairietopinerc.ca
SUMMARY:Christmas Bazaar
DESCRIPTION:You are invited to a Christmas Bazaar to be held Saturday\, November 8\, 2025\, 10 a.m. to 12 noon at North Kildonan United Church\, 174 Pentland St. (between Gilmore and McIvor Avenue). Featured will be home baking\, crafts\, deli items\, perogies\, and kids touch ‘n take table (all items $1.00). Free admission\, free refreshments\, accessible building. Everyone welcome!
URL:https://prairietopinerc.ca/event/christmas-bazaar-3/
LOCATION:North Kildonan United Church\, 174 Pentland St\, Winnipeg\, MB\, Canada
CATEGORIES:Community of Faith Events calendar,Events
ATTACH;FMTTYPE=image/jpeg:https://prairietopinerc.ca/wp-content/uploads/2025/10/Christmas-Bazaar-2025.jpg
ORGANIZER;CN="North Kildonan United Church":MAILTO:nkuc@mymts.net
END:VEVENT
END:VCALENDAR