BEGIN:VCALENDAR
VERSION:2.0
PRODID:-//Prairie to Pine Regional Council - ECPv6.15.20//NONSGML v1.0//EN
CALSCALE:GREGORIAN
METHOD:PUBLISH
X-ORIGINAL-URL:https://prairietopinerc.ca
X-WR-CALDESC:Events for Prairie to Pine Regional Council
REFRESH-INTERVAL;VALUE=DURATION:PT1H
X-Robots-Tag:noindex
X-PUBLISHED-TTL:PT1H
BEGIN:VTIMEZONE
TZID:America/Winnipeg
BEGIN:DAYLIGHT
TZOFFSETFROM:-0600
TZOFFSETTO:-0500
TZNAME:CDT
DTSTART:20240310T080000
END:DAYLIGHT
BEGIN:STANDARD
TZOFFSETFROM:-0500
TZOFFSETTO:-0600
TZNAME:CST
DTSTART:20241103T070000
END:STANDARD
BEGIN:DAYLIGHT
TZOFFSETFROM:-0600
TZOFFSETTO:-0500
TZNAME:CDT
DTSTART:20250309T080000
END:DAYLIGHT
BEGIN:STANDARD
TZOFFSETFROM:-0500
TZOFFSETTO:-0600
TZNAME:CST
DTSTART:20251102T070000
END:STANDARD
BEGIN:DAYLIGHT
TZOFFSETFROM:-0600
TZOFFSETTO:-0500
TZNAME:CDT
DTSTART:20260308T080000
END:DAYLIGHT
BEGIN:STANDARD
TZOFFSETFROM:-0500
TZOFFSETTO:-0600
TZNAME:CST
DTSTART:20261101T070000
END:STANDARD
END:VTIMEZONE
BEGIN:VEVENT
DTSTART;TZID=America/Winnipeg:20250824T100000
DTEND;TZID=America/Winnipeg:20250824T110000
DTSTAMP:20260424T164446
CREATED:20250624T202056Z
LAST-MODIFIED:20250624T202056Z
UID:10001606-1756029600-1756033200@prairietopinerc.ca
SUMMARY:Church-orama 2025-The Big Red Church (Gordon King Memorial UC)
DESCRIPTION:Sunday\, August 24\, 2025 at 10:00 a.m.\, 127 Cobourg Avenue\, Winnipeg
URL:https://prairietopinerc.ca/event/church-orama-2025-the-big-red-church-gordon-king-memorial-uc-2/
LOCATION:Gordon King Memorial United Church\, 27 Cobourg Ave\, Winnipeg\, MB R2L 0H4\, Winnipeg\, Manitoba\, R2L 0H4\, Canada
CATEGORIES:Community of Faith Events calendar,Events
ATTACH;FMTTYPE=image/png:https://prairietopinerc.ca/wp-content/uploads/2025/06/church.png
END:VEVENT
BEGIN:VEVENT
DTSTART;TZID=America/Winnipeg:20250824T103000
DTEND;TZID=America/Winnipeg:20250824T113000
DTSTAMP:20260424T164446
CREATED:20250606T234827Z
LAST-MODIFIED:20250609T203211Z
UID:10001595-1756031400-1756035000@prairietopinerc.ca
SUMMARY:Church-orama 2025-Fort Garry United Church\, Winnipeg
DESCRIPTION:Each Sunday\, from June 29th until August 31st\, seven United Churches in south-central Winnipeg will come together for Sunday worship. All services are at 10:30 a.m. \nFor August 24\, 2025\, Fort Garry United Church is the host congregation with Rev. Kwang Beom Cho leading. \nOnline worship information: www.fortgarryunitedchurch.ca
URL:https://prairietopinerc.ca/event/church-orama-2025-fort-garry-united-church-winnipeg/
LOCATION:Fort Garry United Church\, 800 Point Rd\, Winnipeg\, MB\, Winnipeg\, Manitoba\, R3T 3L8\, Canada
CATEGORIES:Community of Faith Events calendar,Events
ATTACH;FMTTYPE=image/png:https://prairietopinerc.ca/wp-content/uploads/2025/06/church.png
END:VEVENT
BEGIN:VEVENT
DTSTART;TZID=America/Winnipeg:20250826T130000
DTEND;TZID=America/Winnipeg:20250826T150000
DTSTAMP:20260424T164446
CREATED:20250122T222921Z
LAST-MODIFIED:20250122T222921Z
UID:10001463-1756213200-1756220400@prairietopinerc.ca
SUMMARY:Connection / Prayer/ Communion Zoom Gathering
DESCRIPTION:A Message from Vocational Minister\, Laura Fouhse\nMinistry Personnel in Northern Spirit\, Living Skies\, and Prairie to Pine Regional Councils….(including active\, retired\, honorary associates\, and candidates in appointment) \nIn response to a number of requests (and my own desire) I will be hosting a 1 hour (roughly) connection/prayer/communion Zoom gathering on the 4th Tuesday of each month at 1 pm (CST). We will start next Tuesday (Jan 28). \nYou are welcome to bring your lunch with you to the gathering (but you may need to share with those who forgot) Also bring communion elements (obviously) and a candle (or whatever helps center you). \nHere is the Zoom link. It will be the same link each month\,\nhttps://united-church.zoom.us/j/81483053358
URL:https://prairietopinerc.ca/event/connection-prayer-communion-zoom-gathering/2025-08-26/
LOCATION:via Zoom
CATEGORIES:Events,Regional
ATTACH;FMTTYPE=image/png:https://prairietopinerc.ca/wp-content/uploads/2025/01/Tri-Region-Ministry-Personnel-monthly-Zoom.png
END:VEVENT
BEGIN:VEVENT
DTSTART;TZID=America/Winnipeg:20250828T093000
DTEND;TZID=America/Winnipeg:20250828T123000
DTSTAMP:20260424T164446
CREATED:20230823T015149Z
LAST-MODIFIED:20230823T015149Z
UID:10000741-1756373400-1756384200@prairietopinerc.ca
SUMMARY:Committee on Community of Faith Support
DESCRIPTION:The Committee on Community of Faith Support is holding its regular meeting via Zoom every fourth Thursday of the month.
URL:https://prairietopinerc.ca/event/committee-on-community-of-faith-support/2025-08-28/
CATEGORIES:Events,Regional
END:VEVENT
END:VCALENDAR