BEGIN:VCALENDAR
VERSION:2.0
PRODID:-//Prairie to Pine Regional Council - ECPv6.15.20//NONSGML v1.0//EN
CALSCALE:GREGORIAN
METHOD:PUBLISH
X-ORIGINAL-URL:https://prairietopinerc.ca
X-WR-CALDESC:Events for Prairie to Pine Regional Council
REFRESH-INTERVAL;VALUE=DURATION:PT1H
X-Robots-Tag:noindex
X-PUBLISHED-TTL:PT1H
BEGIN:VTIMEZONE
TZID:America/Winnipeg
BEGIN:DAYLIGHT
TZOFFSETFROM:-0600
TZOFFSETTO:-0500
TZNAME:CDT
DTSTART:20240310T080000
END:DAYLIGHT
BEGIN:STANDARD
TZOFFSETFROM:-0500
TZOFFSETTO:-0600
TZNAME:CST
DTSTART:20241103T070000
END:STANDARD
BEGIN:DAYLIGHT
TZOFFSETFROM:-0600
TZOFFSETTO:-0500
TZNAME:CDT
DTSTART:20250309T080000
END:DAYLIGHT
BEGIN:STANDARD
TZOFFSETFROM:-0500
TZOFFSETTO:-0600
TZNAME:CST
DTSTART:20251102T070000
END:STANDARD
BEGIN:DAYLIGHT
TZOFFSETFROM:-0600
TZOFFSETTO:-0500
TZNAME:CDT
DTSTART:20260308T080000
END:DAYLIGHT
BEGIN:STANDARD
TZOFFSETFROM:-0500
TZOFFSETTO:-0600
TZNAME:CST
DTSTART:20261101T070000
END:STANDARD
END:VTIMEZONE
BEGIN:VEVENT
DTSTART;TZID=America/Winnipeg:20250803T100000
DTEND;TZID=America/Winnipeg:20250803T110000
DTSTAMP:20260424T085132
CREATED:20250624T201134Z
LAST-MODIFIED:20250624T201416Z
UID:10001602-1754215200-1754218800@prairietopinerc.ca
SUMMARY:Church-orama 2025-Flex Sunday: North Kildonan UC and Transcona Memorial UC
DESCRIPTION:Services for both North Kildonan United Church (174 Pentland St.\, Winnipeg) and Transcona Memorial United Church (209 Yale Avenue West\, Winnipeg) will be held on Sunday\, August 3\, 2025\, at 10:00 a.m.
URL:https://prairietopinerc.ca/event/church-orama-2025-flex-sunday-north-kildonan-uc-and-transcona-memorial-uc/
LOCATION:North Kildonan United Church\, 174 Pentland St\, Winnipeg\, MB\, Canada
CATEGORIES:Community of Faith Events calendar,Events
ATTACH;FMTTYPE=image/png:https://prairietopinerc.ca/wp-content/uploads/2025/06/church.png
END:VEVENT
BEGIN:VEVENT
DTSTART;TZID=America/Winnipeg:20250803T100000
DTEND;TZID=America/Winnipeg:20250803T110000
DTSTAMP:20260424T085132
CREATED:20250624T201323Z
LAST-MODIFIED:20250624T201339Z
UID:10001603-1754215200-1754218800@prairietopinerc.ca
SUMMARY:Church-orama-Flex Sunday: North Kildonan Memorial UC and Transcona Memorial UC
DESCRIPTION:Services for both North Kildonan United Church (174 Pentland St.\, Winnipeg) and Transcona Memorial United Church (209 Yale Avenue West\, Winnipeg) will be held on Sunday\, August 3\, 2025\, at 10:00 a.m.
URL:https://prairietopinerc.ca/event/church-orama-flex-sunday-north-kildonan-memorial-uc-and-transcona-memorial-uc/
LOCATION:Transcona Memorial United Church\, 209 Yale Ave W.\, Winnipeg\, Manitoba\, R2C 1T9\, Canada
CATEGORIES:Community of Faith Events calendar,Events
ATTACH;FMTTYPE=image/png:https://prairietopinerc.ca/wp-content/uploads/2025/06/church.png
END:VEVENT
BEGIN:VEVENT
DTSTART;TZID=America/Winnipeg:20250803T103000
DTEND;TZID=America/Winnipeg:20250803T113000
DTSTAMP:20260424T085132
CREATED:20250606T183459Z
LAST-MODIFIED:20250609T203524Z
UID:10001592-1754217000-1754220600@prairietopinerc.ca
SUMMARY:Church-orama 2025-Crescent Fort Rouge United Church\, Winnipeg
DESCRIPTION:Each Sunday\, from June 29th until August 31st\, seven United Churches in south-central Winnipeg will come together for Sunday worship. All services are at 10:30 a.m. \nFor August 3\, 2025\, Crescent Fort Rouge United Church is the host congregation with Rev. Marc Whitehead leading. \nOnline worship information: www.crescentfortrouge.ca
URL:https://prairietopinerc.ca/event/church-orama-2025-crescent-fort-rouge-united-church-winnipeg/
LOCATION:Crescent Fort Rouge United Church\, 525 Wardlaw Avenue\, Winnipeg\, MB\, R3L 0L9
CATEGORIES:Community of Faith Events calendar,Events
ATTACH;FMTTYPE=image/png:https://prairietopinerc.ca/wp-content/uploads/2025/06/church.png
END:VEVENT
BEGIN:VEVENT
DTSTART;VALUE=DATE:20250805
DTEND;VALUE=DATE:20250813
DTSTAMP:20260424T085132
CREATED:20241105T031236Z
LAST-MODIFIED:20241208T035616Z
UID:10001417-1754352000-1755043199@prairietopinerc.ca
SUMMARY:Youth Forum at General Council 2025
DESCRIPTION:Abbreviations that may be used:\n\n\n\n\n\nYF = Youth Forum\n\n\n\n\nGC = General Council\nGC45 refers to the fact that 2025 will be the 45th session of General Council since the United Church formed in 1925\n\n  \nWhat is the purpose of the Youth Forum at GC45? \nYouth Forum is an opportunity for young people to participate in the education\, decision-making\, and community of General Council 45 of The United Church of Canada. Its aim is to ensure that young people have a voice in the denomination-shaping issues and decisions for the next three years in the life of the church. It is an opportunity to speak to issues that matter to young people\, to share ideas\, and to connect with peers and other members and leaders of the General Council. \nWhen and where will GC45 and Youth Forum take place? \nThere will be three online sessions for General Council: Sunday\, April 27 from 3-6 pm CDT\, Sunday June 22 from 3:30-6 pm CDT\, and Saturday June 28 from 10 am to 1 pm and 3 pm to 6 pm CDT. The first session includes worship\, introduction to the theme\, agenda\, reports\, proposals\, and business procedures of General Council. The second session includes worship\, introductions of global and ecumenical guests\, community building and discussion groups. The session on June 28 begins the Learning and Discussion sessions for GC45. \nIn addition\, Youth Forum delegates will gather once via Zoom (Sunday\, April 6th from 3 to 5 pm CDT)  as a chance to begin to connect with other youth forum delegates before attending the GC Zooms listed above.  YF delegates will finally meet in person August 5-7 in Calgary (just prior to the meetings of General Council). There will be two age groups\, 15-17 years and 18-25 years. \nGeneral Council and all YF delegates will meet August 7-11 at the Calgary Telus Convention Centre. Youth Forum will close August 12 by noon. Travel home will begin in the afternoon of August 12. \nWho can join the forum? \nYouth Forum is open to young people\, ages 15 to 25\, selected by regional councils. Youth Forum leaders have the ambitious and achievable goal of having 100 young people under age 30 attend General Council 45. While this remains the goal\, the 2024 Youth Leadership Animators have prioritized the participation and inclusion of Racialized and Indigenous young people\, therefore these young leaders are calling on each region to select a maximum of 50% non-Indigenous and non-Racialized\, and a minimum 50% Indigenous and Racialized youth\, which means at minimum there should be an equivalent number of Racialized and Indigenous youth to white youth. Each region is asked to select up to six youth\, including commissioners. \nIs there a fee to join? \nRegistration for Youth Forum at GC45 is free and travel arrangements are made by the General Council. While some events or activities may potentially have associated costs\, no one will be excluded due to difficulty in payment. \nInfo session: \nClick here to register for Zoom info session –  Nov 30th at 12 noon (Central Time) aimed at young people ages 15-25 to answer questions and encourage participation in YF@GC45. Max 1 hour. Attendance not imperative but a chance to meet some of the youth planning team members and get your questions answered. \nHow do I apply? \nClick here for the application form!\nApplication deadline was Dec 4\, 2024. \nUPDATE: We now have 4 excellent Youth Forum delegates\, but we still have 2 spots left! \nDeadline extended to Dec 30th.  After that\, any extra spots will be offered to another region\, so if interested\, please send in an application.
URL:https://prairietopinerc.ca/event/youth-forum-at-general-council-2025/
CATEGORIES:Intercultural,LGBTQIA+ Affirming,Meetings,Regional,Right Relations,Young Adults and Youth
END:VEVENT
BEGIN:VEVENT
DTSTART;TZID=America/Winnipeg:20250808T090000
DTEND;TZID=America/Winnipeg:20250808T113000
DTSTAMP:20260424T085132
CREATED:20250728T170629Z
LAST-MODIFIED:20250728T170657Z
UID:10001612-1754643600-1754652600@prairietopinerc.ca
SUMMARY:Apology to 2SLGBTQIA+ communities: live participation circle
DESCRIPTION:All welcome to join us for the livestream of the Service of Apology at Transcona Memorial United Church; please see more about the Apology here. The address is 209 Yale Ave. W.\, Winnipeg\, MB. Limited parking\, attendees may want to consider carpooling. \nWe will gather in the sanctuary and we are a wheelchair/mobility aid accessible space. Doors at 9:15am and we will join together in worship and safe space at 10:00AM\, participating in the Apology service by livestream. We will have coffee\, tea\, etc\, and a time of discussion after the service. Everyone is welcome to this time. We are an Affirming Community of Faith.\nFor more information\, email Breanna at bdbilyk@gmail.com
URL:https://prairietopinerc.ca/event/apology-to-2slgbtqia-communities-live-participation-circle/
LOCATION:Transcona Memorial United Church\, 209 Yale Ave W.\, Winnipeg\, Manitoba\, R2C 1T9\, Canada
CATEGORIES:Community of Faith Events calendar,LGBTQIA+ Affirming,Regional
ATTACH;FMTTYPE=image/png:https://prairietopinerc.ca/wp-content/uploads/2025/07/apology_2s-lgbtqia_promo.png
END:VEVENT
BEGIN:VEVENT
DTSTART;TZID=America/Winnipeg:20250808T093000
DTEND;TZID=America/Winnipeg:20250808T123000
DTSTAMP:20260424T085132
CREATED:20250721T211651Z
LAST-MODIFIED:20250728T170100Z
UID:10001609-1754645400-1754656200@prairietopinerc.ca
SUMMARY:Apology to 2 Spirit LGBTQA+ United Church people
DESCRIPTION:Zoom connection of the Service of Apology at Westworth United Church; please see more about the Apology here.\nWith coffee\, tea\, etc\, and a time of discussion after the service. Everyone welcome to this time. We are an Affirming Community of Faith.\nFor more information\, email hrobbins@mymts.net
URL:https://prairietopinerc.ca/event/apology-to-2-spirit-lgbtqa-united-church-people/
LOCATION:Westworth United Church\, 1750 Grosvenor Avenue\, Winnipeg\, Manitoba\, R3N 0H9\, Canada
CATEGORIES:Community of Faith Events calendar,Events,LGBTQIA+ Affirming,Regional
ATTACH;FMTTYPE=image/jpeg:https://prairietopinerc.ca/wp-content/uploads/2025/07/IMG_3051-scaled.jpeg
END:VEVENT
BEGIN:VEVENT
DTSTART;TZID=America/Winnipeg:20250809T020000
DTEND;TZID=America/Winnipeg:20250809T160000
DTSTAMP:20260424T085132
CREATED:20250723T151754Z
LAST-MODIFIED:20250723T151754Z
UID:10001610-1754704800-1754755200@prairietopinerc.ca
SUMMARY:Celebration of Service in Our Community Service
DESCRIPTION:Vermilion Bay United Church (97 Spruce Street\, Vermilion Bay\, ON) is having a Celebration Service on Saturday Aug. 9\, 2025 at 2:00 to celebrate service in our community\, Our building has been sold and we will continue as a community of faith in a rental space. Come worship and share memories.
URL:https://prairietopinerc.ca/event/celebration-of-service-in-our-community-service/
LOCATION:Vermilion Bay United Church\, 97 Spruce St.\, Vermilion Bay\, ON\, P0V 2V0\, Canada
CATEGORIES:Community of Faith Events calendar,Events
END:VEVENT
END:VCALENDAR