BEGIN:VCALENDAR
VERSION:2.0
PRODID:-//Prairie to Pine Regional Council - ECPv6.15.20//NONSGML v1.0//EN
CALSCALE:GREGORIAN
METHOD:PUBLISH
X-WR-CALNAME:Prairie to Pine Regional Council
X-ORIGINAL-URL:https://prairietopinerc.ca
X-WR-CALDESC:Events for Prairie to Pine Regional Council
REFRESH-INTERVAL;VALUE=DURATION:PT1H
X-Robots-Tag:noindex
X-PUBLISHED-TTL:PT1H
BEGIN:VTIMEZONE
TZID:America/Winnipeg
BEGIN:DAYLIGHT
TZOFFSETFROM:-0600
TZOFFSETTO:-0500
TZNAME:CDT
DTSTART:20240310T080000
END:DAYLIGHT
BEGIN:STANDARD
TZOFFSETFROM:-0500
TZOFFSETTO:-0600
TZNAME:CST
DTSTART:20241103T070000
END:STANDARD
BEGIN:DAYLIGHT
TZOFFSETFROM:-0600
TZOFFSETTO:-0500
TZNAME:CDT
DTSTART:20250309T080000
END:DAYLIGHT
BEGIN:STANDARD
TZOFFSETFROM:-0500
TZOFFSETTO:-0600
TZNAME:CST
DTSTART:20251102T070000
END:STANDARD
BEGIN:DAYLIGHT
TZOFFSETFROM:-0600
TZOFFSETTO:-0500
TZNAME:CDT
DTSTART:20260308T080000
END:DAYLIGHT
BEGIN:STANDARD
TZOFFSETFROM:-0500
TZOFFSETTO:-0600
TZNAME:CST
DTSTART:20261101T070000
END:STANDARD
END:VTIMEZONE
BEGIN:VEVENT
DTSTART;TZID=America/Winnipeg:20250720T103000
DTEND;TZID=America/Winnipeg:20250720T113000
DTSTAMP:20260424T110734
CREATED:20250606T182648Z
LAST-MODIFIED:20250609T203741Z
UID:10001590-1753007400-1753011000@prairietopinerc.ca
SUMMARY:Church-orama 2025-Young United Church\, Winnipeg
DESCRIPTION:Each Sunday\, from June 29th until August 31st\, seven United Churches in south-central Winnipeg will come together for Sunday worship. All services are at 10:30 a.m. \nFor July 20\, 2025\, Young United Church is the host congregation with Rev. Tim Crouch leading. \nOnline worship information: www.youngunitedchurch.com
URL:https://prairietopinerc.ca/event/church-orama-2025-young-united-church-winnipeg/
LOCATION:Young United Church\, 222 Furby St\, Winnipeg\, MB\, R3C2A7\, Canada
CATEGORIES:Community of Faith Events calendar,Events
ATTACH;FMTTYPE=image/png:https://prairietopinerc.ca/wp-content/uploads/2025/06/church.png
END:VEVENT
BEGIN:VEVENT
DTSTART;TZID=America/Winnipeg:20250720T104500
DTEND;TZID=America/Winnipeg:20250720T114500
DTSTAMP:20260424T110734
CREATED:20250624T195913Z
LAST-MODIFIED:20250624T195913Z
UID:10001600-1753008300-1753011900@prairietopinerc.ca
SUMMARY:Church-orama 2025-John Black Memorial United Church
DESCRIPTION:Sunday\, July 20\, 2025 at 10:45 a.m.\, 898 Henderson Hwy\, Winnipeg
URL:https://prairietopinerc.ca/event/church-orama-2025-john-black-memorial-united-church/
LOCATION:John Black Memorial United Church\, 898 Henderson Hwy\, Winnipeg\, MB\, R2K 3T4\, Canada
CATEGORIES:Community of Faith Events calendar,Events
ATTACH;FMTTYPE=image/png:https://prairietopinerc.ca/wp-content/uploads/2025/06/church.png
END:VEVENT
BEGIN:VEVENT
DTSTART;TZID=America/Winnipeg:20250722T130000
DTEND;TZID=America/Winnipeg:20250722T150000
DTSTAMP:20260424T110734
CREATED:20250122T222921Z
LAST-MODIFIED:20250122T222921Z
UID:10001462-1753189200-1753196400@prairietopinerc.ca
SUMMARY:Connection / Prayer/ Communion Zoom Gathering
DESCRIPTION:A Message from Vocational Minister\, Laura Fouhse\nMinistry Personnel in Northern Spirit\, Living Skies\, and Prairie to Pine Regional Councils….(including active\, retired\, honorary associates\, and candidates in appointment) \nIn response to a number of requests (and my own desire) I will be hosting a 1 hour (roughly) connection/prayer/communion Zoom gathering on the 4th Tuesday of each month at 1 pm (CST). We will start next Tuesday (Jan 28). \nYou are welcome to bring your lunch with you to the gathering (but you may need to share with those who forgot) Also bring communion elements (obviously) and a candle (or whatever helps center you). \nHere is the Zoom link. It will be the same link each month\,\nhttps://united-church.zoom.us/j/81483053358
URL:https://prairietopinerc.ca/event/connection-prayer-communion-zoom-gathering/2025-07-22/
LOCATION:via Zoom
CATEGORIES:Events,Regional
ATTACH;FMTTYPE=image/png:https://prairietopinerc.ca/wp-content/uploads/2025/01/Tri-Region-Ministry-Personnel-monthly-Zoom.png
END:VEVENT
BEGIN:VEVENT
DTSTART;TZID=America/Winnipeg:20250724T093000
DTEND;TZID=America/Winnipeg:20250724T123000
DTSTAMP:20260424T110734
CREATED:20230823T015149Z
LAST-MODIFIED:20230823T015149Z
UID:10000740-1753349400-1753360200@prairietopinerc.ca
SUMMARY:Committee on Community of Faith Support
DESCRIPTION:The Committee on Community of Faith Support is holding its regular meeting via Zoom every fourth Thursday of the month.
URL:https://prairietopinerc.ca/event/committee-on-community-of-faith-support/2025-07-24/
CATEGORIES:Events,Regional
END:VEVENT
END:VCALENDAR