BEGIN:VCALENDAR
VERSION:2.0
PRODID:-//Prairie to Pine Regional Council - ECPv6.15.20//NONSGML v1.0//EN
CALSCALE:GREGORIAN
METHOD:PUBLISH
X-WR-CALNAME:Prairie to Pine Regional Council
X-ORIGINAL-URL:https://prairietopinerc.ca
X-WR-CALDESC:Events for Prairie to Pine Regional Council
REFRESH-INTERVAL;VALUE=DURATION:PT1H
X-Robots-Tag:noindex
X-PUBLISHED-TTL:PT1H
BEGIN:VTIMEZONE
TZID:America/Winnipeg
BEGIN:DAYLIGHT
TZOFFSETFROM:-0600
TZOFFSETTO:-0500
TZNAME:CDT
DTSTART:20240310T080000
END:DAYLIGHT
BEGIN:STANDARD
TZOFFSETFROM:-0500
TZOFFSETTO:-0600
TZNAME:CST
DTSTART:20241103T070000
END:STANDARD
BEGIN:DAYLIGHT
TZOFFSETFROM:-0600
TZOFFSETTO:-0500
TZNAME:CDT
DTSTART:20250309T080000
END:DAYLIGHT
BEGIN:STANDARD
TZOFFSETFROM:-0500
TZOFFSETTO:-0600
TZNAME:CST
DTSTART:20251102T070000
END:STANDARD
BEGIN:DAYLIGHT
TZOFFSETFROM:-0600
TZOFFSETTO:-0500
TZNAME:CDT
DTSTART:20260308T080000
END:DAYLIGHT
BEGIN:STANDARD
TZOFFSETFROM:-0500
TZOFFSETTO:-0600
TZNAME:CST
DTSTART:20261101T070000
END:STANDARD
END:VTIMEZONE
BEGIN:VEVENT
DTSTART;TZID=America/Winnipeg:20250713T103000
DTEND;TZID=America/Winnipeg:20250713T113000
DTSTAMP:20260424T151139
CREATED:20250606T182304Z
LAST-MODIFIED:20250609T203850Z
UID:10001589-1752402600-1752406200@prairietopinerc.ca
SUMMARY:Church-orama 2025-Westminster United Church\, Winnipeg
DESCRIPTION:Each Sunday\, from June 29th until August 31st\, seven United Churches in south-central Winnipeg will come together for Sunday worship. All services are at 10:30 a.m. \nFor July 13\, 2025\, Westminster United Church is the host congregation. \nLivestreaming info: www.westminsterchurch.org
URL:https://prairietopinerc.ca/event/church-orama-2025-augustine-united-church-winnipeg-2/
LOCATION:Westminster United Church\, 745 Westminster Avenue\, Winnipeg\, Manitoba\, R3G 1A5\, Canada
CATEGORIES:Community of Faith Events calendar,Events
ATTACH;FMTTYPE=image/png:https://prairietopinerc.ca/wp-content/uploads/2025/06/church.png
END:VEVENT
BEGIN:VEVENT
DTSTART;TZID=America/Winnipeg:20250713T104500
DTEND;TZID=America/Winnipeg:20250713T114500
DTSTAMP:20260424T151139
CREATED:20250624T195716Z
LAST-MODIFIED:20250624T195716Z
UID:10001599-1752403500-1752407100@prairietopinerc.ca
SUMMARY:Church-orama 2025-Immanuel United Church
DESCRIPTION:Sunday\, July 13\, 2025 at 10:45 a.m.\, 755 Golspie St.\, Winnipeg
URL:https://prairietopinerc.ca/event/church-orama-2025-immanuel-united-church/
LOCATION:Immanuel United Church\, 755 Golspie St.\, Winnipeg\, Manitoba\, R2K 2V4\, Canada
CATEGORIES:Community of Faith Events calendar,Events
ATTACH;FMTTYPE=image/png:https://prairietopinerc.ca/wp-content/uploads/2025/06/church.png
END:VEVENT
BEGIN:VEVENT
DTSTART;TZID=America/Winnipeg:20250714T083000
DTEND;TZID=America/Winnipeg:20250718T163000
DTSTAMP:20260424T151139
CREATED:20250312T202600Z
LAST-MODIFIED:20250312T202600Z
UID:10001535-1752481800-1752856200@prairietopinerc.ca
SUMMARY:Earthsong 2025
DESCRIPTION:REGISTRATION FOR EARTHSONG 2025 IS NOW OPEN. \nJoin the fun this summer for a week-long singing experience with some great workshops to help us explore the outdoors\, our artistry\, our music and our connection with the earth\, each other\, and ourselves. \nThe camp runs from July 14 to 18\, 2025\, 8:30am to 4:00pm each day. There’ll be lots of laughter and camaraderie. \nThis is a safe and inclusive event\, open to ANYONE age 16 and up who wants to sing. NO EXPERIENCE REQUIRED. \nRegister now at ucim.org \nEarlybird registration until May 15. \nThis is a program of the Greening Committee at the United Church in Meadowood\, Winnipeg.
URL:https://prairietopinerc.ca/event/earthsong-2025/
LOCATION:United Church in Meadowood\, 1111 Dakota St\, Winnipeg\, MB\, R2N3T7\, Canada
CATEGORIES:Community of Faith Events calendar,Events
ATTACH;FMTTYPE=image/jpeg:https://prairietopinerc.ca/wp-content/uploads/2025/03/Earthsong-2025.jpg
END:VEVENT
END:VCALENDAR