BEGIN:VCALENDAR
VERSION:2.0
PRODID:-//Prairie to Pine Regional Council - ECPv6.15.20//NONSGML v1.0//EN
CALSCALE:GREGORIAN
METHOD:PUBLISH
X-WR-CALNAME:Prairie to Pine Regional Council
X-ORIGINAL-URL:https://prairietopinerc.ca
X-WR-CALDESC:Events for Prairie to Pine Regional Council
REFRESH-INTERVAL;VALUE=DURATION:PT1H
X-Robots-Tag:noindex
X-PUBLISHED-TTL:PT1H
BEGIN:VTIMEZONE
TZID:America/Winnipeg
BEGIN:DAYLIGHT
TZOFFSETFROM:-0600
TZOFFSETTO:-0500
TZNAME:CDT
DTSTART:20240310T080000
END:DAYLIGHT
BEGIN:STANDARD
TZOFFSETFROM:-0500
TZOFFSETTO:-0600
TZNAME:CST
DTSTART:20241103T070000
END:STANDARD
BEGIN:DAYLIGHT
TZOFFSETFROM:-0600
TZOFFSETTO:-0500
TZNAME:CDT
DTSTART:20250309T080000
END:DAYLIGHT
BEGIN:STANDARD
TZOFFSETFROM:-0500
TZOFFSETTO:-0600
TZNAME:CST
DTSTART:20251102T070000
END:STANDARD
BEGIN:DAYLIGHT
TZOFFSETFROM:-0600
TZOFFSETTO:-0500
TZNAME:CDT
DTSTART:20260308T080000
END:DAYLIGHT
BEGIN:STANDARD
TZOFFSETFROM:-0500
TZOFFSETTO:-0600
TZNAME:CST
DTSTART:20261101T070000
END:STANDARD
END:VTIMEZONE
BEGIN:VEVENT
DTSTART;TZID=America/Winnipeg:20250622T100000
DTEND;TZID=America/Winnipeg:20250622T120000
DTSTAMP:20260424T181428
CREATED:20250515T000437Z
LAST-MODIFIED:20250516T024903Z
UID:10001570-1750586400-1750593600@prairietopinerc.ca
SUMMARY:Benito-Kenville Pastoral Charge: Closing Celebration Service and 100th Anniversary Commemoration of UCC
DESCRIPTION:Invitation to the 100th Anniversary and  Closing  Celebration Services on the weekend of June 21& 22\, 2025. \nThe activities are as follows  \nSaturday\, June 21\, Open House (Benito United Church and Kenville United Church) from 1:00 p.m. to 4:00 p.m.\, providing an opportunity to those who wish to do so to visit the church buildings\, take photos\, and look at items on display. \nSunday\, June 22\, 2025\, in each of the churches as follows. \nKenville (Main St. Kenville\, Manitoba\, R0L 1Z0) at 10:00 a.m. with Potluck lunch and time of fellowship to follow. Please contact Merv Beasley at 204-734-4383. \nBenito (148 1 Ave\, Benito\, MB R0L 0C0) at 3:00 p.m. with supper and time of fellowship at the Benito Legion Hall to follow at 5:00 p.m. Please RSVP for supper to Alice Schneider at 204-539-2805 or Martha Verhoek at 421-363-0332.
URL:https://prairietopinerc.ca/event/benito-kenville-pastoral-charge-closing-celebration-service-and-100th-anniversary-commemoration-of-ucc/2025-06-22/1/
LOCATION:Benito United Church
CATEGORIES:100th Anniversary of the UCC,Community of Faith Events calendar,Events
END:VEVENT
BEGIN:VEVENT
DTSTART;TZID=America/Winnipeg:20250622T150000
DTEND;TZID=America/Winnipeg:20250622T170000
DTSTAMP:20260424T181428
CREATED:20250515T000437Z
LAST-MODIFIED:20250516T024903Z
UID:10001571-1750604400-1750611600@prairietopinerc.ca
SUMMARY:Benito-Kenville Pastoral Charge: Closing Celebration Service and 100th Anniversary Commemoration of UCC
DESCRIPTION:Invitation to the 100th Anniversary and  Closing  Celebration Services on the weekend of June 21& 22\, 2025. \nThe activities are as follows  \nSaturday\, June 21\, Open House (Benito United Church and Kenville United Church) from 1:00 p.m. to 4:00 p.m.\, providing an opportunity to those who wish to do so to visit the church buildings\, take photos\, and look at items on display. \nSunday\, June 22\, 2025\, in each of the churches as follows. \nKenville (Main St. Kenville\, Manitoba\, R0L 1Z0) at 10:00 a.m. with Potluck lunch and time of fellowship to follow. Please contact Merv Beasley at 204-734-4383. \nBenito (148 1 Ave\, Benito\, MB R0L 0C0) at 3:00 p.m. with supper and time of fellowship at the Benito Legion Hall to follow at 5:00 p.m. Please RSVP for supper to Alice Schneider at 204-539-2805 or Martha Verhoek at 421-363-0332.
URL:https://prairietopinerc.ca/event/benito-kenville-pastoral-charge-closing-celebration-service-and-100th-anniversary-commemoration-of-ucc/2025-06-22/2/
LOCATION:Benito United Church
CATEGORIES:100th Anniversary of the UCC,Community of Faith Events calendar,Events
END:VEVENT
BEGIN:VEVENT
DTSTART;TZID=America/Winnipeg:20250624T130000
DTEND;TZID=America/Winnipeg:20250624T150000
DTSTAMP:20260424T181428
CREATED:20250122T222921Z
LAST-MODIFIED:20250122T222921Z
UID:10001461-1750770000-1750777200@prairietopinerc.ca
SUMMARY:Connection / Prayer/ Communion Zoom Gathering
DESCRIPTION:A Message from Vocational Minister\, Laura Fouhse\nMinistry Personnel in Northern Spirit\, Living Skies\, and Prairie to Pine Regional Councils….(including active\, retired\, honorary associates\, and candidates in appointment) \nIn response to a number of requests (and my own desire) I will be hosting a 1 hour (roughly) connection/prayer/communion Zoom gathering on the 4th Tuesday of each month at 1 pm (CST). We will start next Tuesday (Jan 28). \nYou are welcome to bring your lunch with you to the gathering (but you may need to share with those who forgot) Also bring communion elements (obviously) and a candle (or whatever helps center you). \nHere is the Zoom link. It will be the same link each month\,\nhttps://united-church.zoom.us/j/81483053358
URL:https://prairietopinerc.ca/event/connection-prayer-communion-zoom-gathering/2025-06-24/
LOCATION:via Zoom
CATEGORIES:Events,Regional
ATTACH;FMTTYPE=image/png:https://prairietopinerc.ca/wp-content/uploads/2025/01/Tri-Region-Ministry-Personnel-monthly-Zoom.png
END:VEVENT
BEGIN:VEVENT
DTSTART;TZID=America/Winnipeg:20250626T093000
DTEND;TZID=America/Winnipeg:20250626T123000
DTSTAMP:20260424T181428
CREATED:20230823T015149Z
LAST-MODIFIED:20230823T015149Z
UID:10000739-1750930200-1750941000@prairietopinerc.ca
SUMMARY:Committee on Community of Faith Support
DESCRIPTION:The Committee on Community of Faith Support is holding its regular meeting via Zoom every fourth Thursday of the month.
URL:https://prairietopinerc.ca/event/committee-on-community-of-faith-support/2025-06-26/
CATEGORIES:Events,Regional
END:VEVENT
END:VCALENDAR