BEGIN:VCALENDAR
VERSION:2.0
PRODID:-//Prairie to Pine Regional Council - ECPv6.15.20//NONSGML v1.0//EN
CALSCALE:GREGORIAN
METHOD:PUBLISH
X-WR-CALNAME:Prairie to Pine Regional Council
X-ORIGINAL-URL:https://prairietopinerc.ca
X-WR-CALDESC:Events for Prairie to Pine Regional Council
REFRESH-INTERVAL;VALUE=DURATION:PT1H
X-Robots-Tag:noindex
X-PUBLISHED-TTL:PT1H
BEGIN:VTIMEZONE
TZID:America/Winnipeg
BEGIN:DAYLIGHT
TZOFFSETFROM:-0600
TZOFFSETTO:-0500
TZNAME:CDT
DTSTART:20240310T080000
END:DAYLIGHT
BEGIN:STANDARD
TZOFFSETFROM:-0500
TZOFFSETTO:-0600
TZNAME:CST
DTSTART:20241103T070000
END:STANDARD
BEGIN:DAYLIGHT
TZOFFSETFROM:-0600
TZOFFSETTO:-0500
TZNAME:CDT
DTSTART:20250309T080000
END:DAYLIGHT
BEGIN:STANDARD
TZOFFSETFROM:-0500
TZOFFSETTO:-0600
TZNAME:CST
DTSTART:20251102T070000
END:STANDARD
BEGIN:DAYLIGHT
TZOFFSETFROM:-0600
TZOFFSETTO:-0500
TZNAME:CDT
DTSTART:20260308T080000
END:DAYLIGHT
BEGIN:STANDARD
TZOFFSETFROM:-0500
TZOFFSETTO:-0600
TZNAME:CST
DTSTART:20261101T070000
END:STANDARD
END:VTIMEZONE
BEGIN:VEVENT
DTSTART;TZID=America/Winnipeg:20250615T103000
DTEND;TZID=America/Winnipeg:20250615T140000
DTSTAMP:20260424T164245
CREATED:20250513T191440Z
LAST-MODIFIED:20250513T191730Z
UID:10001568-1749983400-1749996000@prairietopinerc.ca
SUMMARY:St. John’s United Church Thompson
DESCRIPTION:We have sold our building and are downsizing by moving our congregation to a new location. The final service in our building will be held June 15th\, 2025 at 10:30 AM This will be followed by a potluck lunch. Come help us celebrate and remember! Contact Heather ( 204-679-7560) for further information.
URL:https://prairietopinerc.ca/event/st-johns-united-church-thompson/
LOCATION:St. John’s United Church\, Thompson\, 52 Caribou Road\, Thompson\, Manitoba\, R8N 0L1\, Canada
CATEGORIES:Community of Faith Events calendar,Events
ATTACH;FMTTYPE=image/jpeg:https://prairietopinerc.ca/wp-content/uploads/2025/05/IMG_0632.jpeg
END:VEVENT
BEGIN:VEVENT
DTSTART;TZID=America/Winnipeg:20250615T150000
DTEND;TZID=America/Winnipeg:20250615T170000
DTSTAMP:20260424T164245
CREATED:20250409T191414Z
LAST-MODIFIED:20250523T215309Z
UID:10001548-1749999600-1750006800@prairietopinerc.ca
SUMMARY:Celebration of Ministry Service
DESCRIPTION:Plans are being made for the Annual Celebration of Ministry Service for Prairie to Pine Regional Council to be held on the afternoon of June 15\, 2025 (Sunday) at MacGregor United Church. More details to follow.
URL:https://prairietopinerc.ca/event/celebration-of-ministry-service-3/
LOCATION:MacGregor United Church\, 12 Hampton St. E\, MacGregor\, Manitoba\, R0H 0R0
CATEGORIES:Events,Regional
END:VEVENT
BEGIN:VEVENT
DTSTART;TZID=America/Winnipeg:20250621T100000
DTEND;TZID=America/Winnipeg:20250621T160000
DTSTAMP:20260424T164245
CREATED:20250520T152528Z
LAST-MODIFIED:20250520T152528Z
UID:10001573-1750500000-1750521600@prairietopinerc.ca
SUMMARY:Urban Retreats Garden Tour & Tea/Plant/Craft Sale
DESCRIPTION:The Urban Retreats Garden Tour is back\, with a self-guided tour in the beautiful Deer Lodge area of Winnipeg! Check it out on Saturday\, June 21\, from 10 AM to 4 PM\, rain or shine. All proceeds support 1JustCity’s programs and drop-in community centres. Tickets are $20 and are available at Country Roots Market & Garden\, Jensen’s Nursery & Garden Centre\, Lacoste Garden Centre\, Ron Paul Garden Centre\, St. Mary’s Nursery & Garden Centre\, Schriemers Market Centre\, Shelmerdine Garden Centre\, and online at 1justcity.ca/gardentour. They will also be available at Prairie Spirit United Church\, 207 Thompson Drive\, on the day of the event. \nBe sure to also visit the Manitoba Tea\, Craft & Plant sale from 10 AM to 2 PM at Prairie Spirit United Church. Ask a Master Gardener your questions and purchase a plant. Enjoy artisans\, a bake sale\, door prizes\, tea\, bannock and jam. Admission to the tea and sale is $5 cash at the door. For more information\, see: 1justcity.ca/gardentour. \nWe gratefully acknowledge our gold sponsor\, the Neiles Family Foundation\, our silver sponsor\, Instill Therapies\, and our bronze sponsors: Arnold Bros Transport\, Charleswood United Church\, Cindi French Realtor\, Reliable Mobility\, Sigurdson Financial\, Thomson Funeral Home/Dignity Memorial\, Winnipeg Building\, and anonymous donors.
URL:https://prairietopinerc.ca/event/urban-retreats-garden-tour-tea-plant-craft-sale/
LOCATION:Deer Lodge area\, Winnipeg\, Deer Lodge area\, Winnipeg\, MB\, Canada
CATEGORIES:Community of Faith Events calendar,Events
ATTACH;FMTTYPE=image/jpeg:https://prairietopinerc.ca/wp-content/uploads/2025/05/2025-Garden-Tour-legal-FINAL.jpg
ORGANIZER;CN="1JustCity":MAILTO:gardentourpromotion@1justcity.ca
END:VEVENT
BEGIN:VEVENT
DTSTART;TZID=America/Winnipeg:20250621T130000
DTEND;TZID=America/Winnipeg:20250621T160000
DTSTAMP:20260424T164245
CREATED:20250515T000437Z
LAST-MODIFIED:20250516T024903Z
UID:10001569-1750510800-1750521600@prairietopinerc.ca
SUMMARY:Benito-Kenville Pastoral Charge: Closing Celebration Service and 100th Anniversary Commemoration of UCC
DESCRIPTION:Invitation to the 100th Anniversary and  Closing  Celebration Services on the weekend of June 21& 22\, 2025. \nThe activities are as follows  \nSaturday\, June 21\, Open House (Benito United Church and Kenville United Church) from 1:00 p.m. to 4:00 p.m.\, providing an opportunity to those who wish to do so to visit the church buildings\, take photos\, and look at items on display. \nSunday\, June 22\, 2025\, in each of the churches as follows. \nKenville (Main St. Kenville\, Manitoba\, R0L 1Z0) at 10:00 a.m. with Potluck lunch and time of fellowship to follow. Please contact Merv Beasley at 204-734-4383. \nBenito (148 1 Ave\, Benito\, MB R0L 0C0) at 3:00 p.m. with supper and time of fellowship at the Benito Legion Hall to follow at 5:00 p.m. Please RSVP for supper to Alice Schneider at 204-539-2805 or Martha Verhoek at 421-363-0332.
URL:https://prairietopinerc.ca/event/benito-kenville-pastoral-charge-closing-celebration-service-and-100th-anniversary-commemoration-of-ucc/2025-06-21/
LOCATION:Benito United Church
CATEGORIES:100th Anniversary of the UCC,Community of Faith Events calendar,Events
END:VEVENT
END:VCALENDAR