BEGIN:VCALENDAR
VERSION:2.0
PRODID:-//Prairie to Pine Regional Council - ECPv6.15.20//NONSGML v1.0//EN
CALSCALE:GREGORIAN
METHOD:PUBLISH
X-ORIGINAL-URL:https://prairietopinerc.ca
X-WR-CALDESC:Events for Prairie to Pine Regional Council
REFRESH-INTERVAL;VALUE=DURATION:PT1H
X-Robots-Tag:noindex
X-PUBLISHED-TTL:PT1H
BEGIN:VTIMEZONE
TZID:America/Winnipeg
BEGIN:DAYLIGHT
TZOFFSETFROM:-0600
TZOFFSETTO:-0500
TZNAME:CDT
DTSTART:20240310T080000
END:DAYLIGHT
BEGIN:STANDARD
TZOFFSETFROM:-0500
TZOFFSETTO:-0600
TZNAME:CST
DTSTART:20241103T070000
END:STANDARD
BEGIN:DAYLIGHT
TZOFFSETFROM:-0600
TZOFFSETTO:-0500
TZNAME:CDT
DTSTART:20250309T080000
END:DAYLIGHT
BEGIN:STANDARD
TZOFFSETFROM:-0500
TZOFFSETTO:-0600
TZNAME:CST
DTSTART:20251102T070000
END:STANDARD
BEGIN:DAYLIGHT
TZOFFSETFROM:-0600
TZOFFSETTO:-0500
TZNAME:CDT
DTSTART:20260308T080000
END:DAYLIGHT
BEGIN:STANDARD
TZOFFSETFROM:-0500
TZOFFSETTO:-0600
TZNAME:CST
DTSTART:20261101T070000
END:STANDARD
END:VTIMEZONE
BEGIN:VEVENT
DTSTART;TZID=America/Winnipeg:20250601T103000
DTEND;TZID=America/Winnipeg:20250601T113000
DTSTAMP:20260424T164445
CREATED:20250303T172352Z
LAST-MODIFIED:20250303T172352Z
UID:10001530-1748773800-1748777400@prairietopinerc.ca
SUMMARY:Prairie Spirit United Church-Affirming Celebration
DESCRIPTION:We are thrilled to announce that at a congregational meeting held on February 9th\, Prairie Spirit United Church has voted to become an affirming congregation.  This momentous decision marks our commitment to inclusivity and the affirming of all individuals in fidelity to our motto: “Jesus welcomed everyone; so do we”.  Prairie Spirit will celebrate this significant milestone at Worship on June 1st\, 2025.  More details to come and of course\, everyone is welcome!
URL:https://prairietopinerc.ca/event/prairie-spirit-united-church-affirming-celebration/
LOCATION:Prairie Spirit United Church\, 207 Thompson Drive\, Winnipeg\, Manitoba\, R3J 3E2\, Canada
CATEGORIES:Community of Faith Events calendar,Events
END:VEVENT
BEGIN:VEVENT
DTSTART;TZID=America/Winnipeg:20250601T140000
DTEND;TZID=America/Winnipeg:20250601T160000
DTSTAMP:20260424T164445
CREATED:20250416T213208Z
LAST-MODIFIED:20250416T213208Z
UID:10001553-1748786400-1748793600@prairietopinerc.ca
SUMMARY:Brookdale United Church Affirming Ministry Celebration Service
DESCRIPTION:Brookdale United Church has become an Affirming Ministry! An Affirming Celebration Service will be held on Sunday\, June 1\, 2025\, at 2:00 p.m. at the church (404 McNaughton Avenue). \nRefreshments\, cake\, and fellowship after the service. All are welcome!
URL:https://prairietopinerc.ca/event/brookdale-united-church-affirming-ministry-celebration-service/
LOCATION:Brookdale United Church\, 404 McNaughton Avenue\, Brookdale\, Manitoba\, R0K 0G0\, Canada
CATEGORIES:Community of Faith Events calendar,Events
ATTACH;FMTTYPE=image/jpeg:https://prairietopinerc.ca/wp-content/uploads/2025/04/Brookdale-UC-Affirm-Invite.jpg
END:VEVENT
BEGIN:VEVENT
DTSTART;TZID=America/Winnipeg:20250603T190000
DTEND;TZID=America/Winnipeg:20250603T203000
DTSTAMP:20260424T164445
CREATED:20250507T223649Z
LAST-MODIFIED:20250521T182405Z
UID:10001563-1748977200-1748982600@prairietopinerc.ca
SUMMARY:The Hymns We Sang\, The Hymns We Still Sing: 100 years with Rev. Dr. Mac Watts
DESCRIPTION:We invite you to a presentation by the Rev. Dr. Mac Watts entitled “The Hymns We Sang\, The Hymns We Still Sing – Celebrating 100 years of Hymnody” on Tuesday\, June 3 at 7:00 PM at Charleswood United Church\, 4820 Roblin Blvd. Winnipeg Dr. Watts was ordained by the UCC in 1953 and\, following pastorates and doctoral studies\, enjoyed a long career as professor and Dean of Theology at the University of Winnipeg until his retirement in 1994. His passion for the music of our tradition led him to be a part of the Winnipeg Presbytery Hymn Worship Committee for 35 years. Mac will be accompanied at the organ on June 3 by Dorcas Windsor (though we will all have a chance to sing!).  A reception in the Van Roon Hall will follow the presentation. Charleswood United Church is a fully accessible building with ample parking.
URL:https://prairietopinerc.ca/event/the-hymns-we-sang-the-hymns-we-still-sing-100-years-with-rev-dr-mac-watts/
LOCATION:Charleswood United Church\, 4820 Roblin Blvd\, Winnipeg\, Manitoba\, R3R 0G6\, Canada
CATEGORIES:100th Anniversary of the UCC,Community of Faith Events calendar,Events
END:VEVENT
BEGIN:VEVENT
DTSTART;TZID=America/Winnipeg:20250606T180000
DTEND;TZID=America/Winnipeg:20250608T150000
DTSTAMP:20260424T164445
CREATED:20241113T204501Z
LAST-MODIFIED:20250204T164429Z
UID:10001420-1749232800-1749394800@prairietopinerc.ca
SUMMARY:Wasaga Women's Weekend
DESCRIPTION:Join us at beautiful Clear Lake\, Manitoba for a weekend of fun and relaxation.\nOur theme is “A Kaleidoscope of Peace”.\nThis is your weekend to rejuvenate and take care of yourself in a loving way.\nFun theme: “Dress as your favourite colour” for Saturday variety night. \nClick here for the brochure.
URL:https://prairietopinerc.ca/event/wasaga-womens-weekend-4/
LOCATION:Camp Wasaga\, Onanole\, Manitoba\, Canada
CATEGORIES:Community of Faith Events calendar,Events
ATTACH;FMTTYPE=image/jpeg:https://prairietopinerc.ca/wp-content/uploads/2024/11/Camp-Wasaga-2025-poster.jpg
ORGANIZER;CN="Mavis Allison":MAILTO:wasagawomensweekend@gmail.com
END:VEVENT
BEGIN:VEVENT
DTSTART;TZID=America/Winnipeg:20250607T090000
DTEND;TZID=America/Winnipeg:20250607T140000
DTSTAMP:20260424T164445
CREATED:20250523T042254Z
LAST-MODIFIED:20250523T042254Z
UID:10001575-1749286800-1749304800@prairietopinerc.ca
SUMMARY:John Black Memorial Annual Market Day
DESCRIPTION:Annual Market Day is a large garage sale of household items\, toys\, tools\, sporting goods\, small furniture\, accessories. Also for sale\, plants\, home baking and pies. Come shop and stay for a BBQ lunch.
URL:https://prairietopinerc.ca/event/john-black-memorial-annual-market-day/
LOCATION:John Black Memorial United Church\, 898 Henderson Hwy\, Winnipeg\, MB\, R2K 3T4\, Canada
CATEGORIES:Community of Faith Events calendar,Events
ORGANIZER;CN="John Black Fundraising Group":MAILTO:jblackuc@mymts.net
END:VEVENT
BEGIN:VEVENT
DTSTART;TZID=America/Winnipeg:20250607T190000
DTEND;TZID=America/Winnipeg:20250607T210000
DTSTAMP:20260424T164445
CREATED:20250404T192707Z
LAST-MODIFIED:20250404T192707Z
UID:10001542-1749322800-1749330000@prairietopinerc.ca
SUMMARY:Welcome to Summer Band Concert
DESCRIPTION:Join us for an evening of music with the St. Charles Big Band! Admission by donation\, 50/50 raffle\, slient auction prizes. Doors open at 6:30 p.m.
URL:https://prairietopinerc.ca/event/welcome-to-summer-band-concert/
LOCATION:Headingley Community Centre\, 5353 Portage Ave\, Headingley\, Manitoba\, R4H 1J9\, Canada
CATEGORIES:Community of Faith Events calendar,Events
ATTACH;FMTTYPE=image/jpeg:https://prairietopinerc.ca/wp-content/uploads/2025/04/Band-concert-flyer_June_2025-scaled.jpg
ORGANIZER;CN="Dayna Weiten":MAILTO:dayna@weiten.com
END:VEVENT
END:VCALENDAR