BEGIN:VCALENDAR
VERSION:2.0
PRODID:-//Prairie to Pine Regional Council - ECPv6.15.20//NONSGML v1.0//EN
CALSCALE:GREGORIAN
METHOD:PUBLISH
X-ORIGINAL-URL:https://prairietopinerc.ca
X-WR-CALDESC:Events for Prairie to Pine Regional Council
REFRESH-INTERVAL;VALUE=DURATION:PT1H
X-Robots-Tag:noindex
X-PUBLISHED-TTL:PT1H
BEGIN:VTIMEZONE
TZID:America/Winnipeg
BEGIN:DAYLIGHT
TZOFFSETFROM:-0600
TZOFFSETTO:-0500
TZNAME:CDT
DTSTART:20240310T080000
END:DAYLIGHT
BEGIN:STANDARD
TZOFFSETFROM:-0500
TZOFFSETTO:-0600
TZNAME:CST
DTSTART:20241103T070000
END:STANDARD
BEGIN:DAYLIGHT
TZOFFSETFROM:-0600
TZOFFSETTO:-0500
TZNAME:CDT
DTSTART:20250309T080000
END:DAYLIGHT
BEGIN:STANDARD
TZOFFSETFROM:-0500
TZOFFSETTO:-0600
TZNAME:CST
DTSTART:20251102T070000
END:STANDARD
BEGIN:DAYLIGHT
TZOFFSETFROM:-0600
TZOFFSETTO:-0500
TZNAME:CDT
DTSTART:20260308T080000
END:DAYLIGHT
BEGIN:STANDARD
TZOFFSETFROM:-0500
TZOFFSETTO:-0600
TZNAME:CST
DTSTART:20261101T070000
END:STANDARD
END:VTIMEZONE
BEGIN:VEVENT
DTSTART;TZID=America/Winnipeg:20250504T023000
DTEND;TZID=America/Winnipeg:20250504T163000
DTSTAMP:20260424T195221
CREATED:20250425T204104Z
LAST-MODIFIED:20250425T204243Z
UID:10001556-1746325800-1746376200@prairietopinerc.ca
SUMMARY:Margaret's Choir
DESCRIPTION:Margaret’s Choir\, a 90-voice community choir\, will present a Benefit Concert entitled “Voices of Spring” in support of Heartwood Healing Centre (https://heartwoodcentre.ca/)\, which provides therapy services to adult survivors of childhood sexual abuse. The concert will be held at Prairie Spirit United Church\, 207 Thomson Drive\, on Sunday\, May 4 at 2:30 p.m. \nTickets are $25 for adults and $10 for youth. They can be ordered online at https://margaretschoir.ca/ or purchased at the door.
URL:https://prairietopinerc.ca/event/margarets-choir/
LOCATION:Prairie Spirit United Church\, 207 Thompson Drive\, Winnipeg\, Manitoba\, R3J 3E2\, Canada
CATEGORIES:Community of Faith Events calendar,Events
END:VEVENT
BEGIN:VEVENT
DTSTART;TZID=America/Winnipeg:20250507T103000
DTEND;TZID=America/Winnipeg:20250507T163000
DTSTAMP:20260424T195221
CREATED:20250409T182816Z
LAST-MODIFIED:20250409T182816Z
UID:10001544-1746613800-1746635400@prairietopinerc.ca
SUMMARY:Gathering of Active Ministry Personnel and those in Formal Association
DESCRIPTION:The Committee on Ministry Personnel Support invites all active Ministry Personnel (those in appointments\, calls\, other employment\, or in formal association relationships with Communities of Faith) to make plans to attend the annual Regional Council Clergy Day which will happen this year on May 07\, 2025\, in Brandon\, Manitoba.  The theme for the day will be “Sacred Earth\, Sacred Work” – a day for spiritual renewal\, land-based learning\, and exploring conciliation initiatives with Indigenous partners in Treaty Two territory\, which the Anishinaabeg\, the Dakota Oyate\, and the Red River Métis share.  The schedule will include time spent at the Brandon Residential School and Cemetery site\, conversation and teachings from Elders\, and music. For more information about the leadership and the content of the day and to register by April 17\, 2025\, please see this link. The registration form is also available in Word version
URL:https://prairietopinerc.ca/event/gathering-of-active-ministry-personnel-and-those-in-formal-association/
LOCATION:Knox United Church\, Brandon\, 451 - 18th Street\, Brandon\, MB\, R7A 5Y2\, Canada
CATEGORIES:Events,Regional
END:VEVENT
BEGIN:VEVENT
DTSTART;TZID=America/Winnipeg:20250508T100000
DTEND;TZID=America/Winnipeg:20250508T150000
DTSTAMP:20260424T195221
CREATED:20250219T231125Z
LAST-MODIFIED:20250219T231125Z
UID:10001527-1746698400-1746716400@prairietopinerc.ca
SUMMARY:How Can I Keep from Singing?
DESCRIPTION:You are invited to a Wider Assiniboine Cluster Gathering on May 8\, 2025 from 10 am to 3 pm at the Wawanesa United Church. Please join us for a day of music with new outlooks and new songs (and some old favorites). Please see poster for details.
URL:https://prairietopinerc.ca/event/how-can-i-keep-from-singing/
LOCATION:Wawanesa United Church\, 210 Main St\, Wawanesa\, MB\, Wawanesa\, Manitoba\, R0K 2G0\, Canada
CATEGORIES:Community of Faith Events calendar,Events
ATTACH;FMTTYPE=image/jpeg:https://prairietopinerc.ca/wp-content/uploads/2025/02/music-gathering-2025-scaled.jpg
END:VEVENT
BEGIN:VEVENT
DTSTART;TZID=America/Winnipeg:20250510T133000
DTEND;TZID=America/Winnipeg:20250510T160000
DTSTAMP:20260424T195221
CREATED:20250304T024946Z
LAST-MODIFIED:20250401T004650Z
UID:10001531-1746883800-1746892800@prairietopinerc.ca
SUMMARY:Singing for a Century-TBJIGGN Cluster
DESCRIPTION:The North East Cluster of United Churches: Transcona\, Birds Hill\, John Black\, Immanuel\, Grey Street\, Gordon King and North Kildonan (TBJIGGN) invites you to join our commemoration of the UCC 100th anniversary.  Please note there is limited street parking only and doors will open at 12:30. \nPlease see poster for details. \n 
URL:https://prairietopinerc.ca/event/singing-for-a-century-tbjiggn-cluster/
LOCATION:Gordon King Memorial United Church\, 27 Cobourg Ave\, Winnipeg\, MB R2L 0H4\, Winnipeg\, Manitoba\, R2L 0H4\, Canada
CATEGORIES:100th Anniversary of the UCC,Community of Faith Events calendar,Events
ATTACH;FMTTYPE=image/jpeg:https://prairietopinerc.ca/wp-content/uploads/2025/03/Singing-for-a-Century.jpg
END:VEVENT
END:VCALENDAR