BEGIN:VCALENDAR
VERSION:2.0
PRODID:-//Prairie to Pine Regional Council - ECPv6.15.20//NONSGML v1.0//EN
CALSCALE:GREGORIAN
METHOD:PUBLISH
X-ORIGINAL-URL:https://prairietopinerc.ca
X-WR-CALDESC:Events for Prairie to Pine Regional Council
REFRESH-INTERVAL;VALUE=DURATION:PT1H
X-Robots-Tag:noindex
X-PUBLISHED-TTL:PT1H
BEGIN:VTIMEZONE
TZID:America/Winnipeg
BEGIN:DAYLIGHT
TZOFFSETFROM:-0600
TZOFFSETTO:-0500
TZNAME:CDT
DTSTART:20240310T080000
END:DAYLIGHT
BEGIN:STANDARD
TZOFFSETFROM:-0500
TZOFFSETTO:-0600
TZNAME:CST
DTSTART:20241103T070000
END:STANDARD
BEGIN:DAYLIGHT
TZOFFSETFROM:-0600
TZOFFSETTO:-0500
TZNAME:CDT
DTSTART:20250309T080000
END:DAYLIGHT
BEGIN:STANDARD
TZOFFSETFROM:-0500
TZOFFSETTO:-0600
TZNAME:CST
DTSTART:20251102T070000
END:STANDARD
BEGIN:DAYLIGHT
TZOFFSETFROM:-0600
TZOFFSETTO:-0500
TZNAME:CDT
DTSTART:20260308T080000
END:DAYLIGHT
BEGIN:STANDARD
TZOFFSETFROM:-0500
TZOFFSETTO:-0600
TZNAME:CST
DTSTART:20261101T070000
END:STANDARD
END:VTIMEZONE
BEGIN:VEVENT
DTSTART;TZID=America/Winnipeg:20250422T113000
DTEND;TZID=America/Winnipeg:20250422T130000
DTSTAMP:20260424T212517
CREATED:20250409T202634Z
LAST-MODIFIED:20250409T202651Z
UID:10001550-1745321400-1745326800@prairietopinerc.ca
SUMMARY:Earth Day 2025 Celebration and Rally
DESCRIPTION:Gather at the Manitoba Legislature on April 22nd from 11:30 to 1:00 . This is an opportunity to call on the provincial government to invest in renewable energy and get us off fossil fuels! Come hear singers – Binesi Ikewéwag Singers\, School of Rock\, Raging Grannies\nSpeakers from elementary\, middle and high school. Emcee Clayton Thomas Muller. Bring signs! Celebrate the Earth . Sponsored by Seniors for Climate and Manitoba Energy Justice Coalition.
URL:https://prairietopinerc.ca/event/earth-day-2025-celebration-and-rally/
LOCATION:Manitoba Legislative Building\, 450 Broadway\, Winnipeg\, Manitoba\, R3C 0V8\, Canada
CATEGORIES:Community of Faith Events calendar,Events
ATTACH;FMTTYPE=image/jpeg:https://prairietopinerc.ca/wp-content/uploads/2025/04/Earth-Day-2025.jpg
END:VEVENT
BEGIN:VEVENT
DTSTART;TZID=America/Winnipeg:20250422T130000
DTEND;TZID=America/Winnipeg:20250422T150000
DTSTAMP:20260424T212517
CREATED:20250122T222921Z
LAST-MODIFIED:20250122T222921Z
UID:10001459-1745326800-1745334000@prairietopinerc.ca
SUMMARY:Connection / Prayer/ Communion Zoom Gathering
DESCRIPTION:A Message from Vocational Minister\, Laura Fouhse\nMinistry Personnel in Northern Spirit\, Living Skies\, and Prairie to Pine Regional Councils….(including active\, retired\, honorary associates\, and candidates in appointment) \nIn response to a number of requests (and my own desire) I will be hosting a 1 hour (roughly) connection/prayer/communion Zoom gathering on the 4th Tuesday of each month at 1 pm (CST). We will start next Tuesday (Jan 28). \nYou are welcome to bring your lunch with you to the gathering (but you may need to share with those who forgot) Also bring communion elements (obviously) and a candle (or whatever helps center you). \nHere is the Zoom link. It will be the same link each month\,\nhttps://united-church.zoom.us/j/81483053358
URL:https://prairietopinerc.ca/event/connection-prayer-communion-zoom-gathering/2025-04-22/
LOCATION:via Zoom
CATEGORIES:Events,Regional
ATTACH;FMTTYPE=image/png:https://prairietopinerc.ca/wp-content/uploads/2025/01/Tri-Region-Ministry-Personnel-monthly-Zoom.png
END:VEVENT
BEGIN:VEVENT
DTSTART;VALUE=DATE:20250424
DTEND;VALUE=DATE:20250428
DTSTAMP:20260424T212517
CREATED:20250225T152319Z
LAST-MODIFIED:20250225T152319Z
UID:10001529-1745452800-1745798399@prairietopinerc.ca
SUMMARY:Caught In The Act Co. Presents Murder at Regent Manor
DESCRIPTION:Transcona Memorial United Church’s Caught in the Act Co\, presents its 12th Annual Dinner Theatre production Murder at Regent Manor from April 24-27 at TMUC (209 Yale Ave W.) Tickets are only $55 each ($20 tax receipt) and include a delicious meal and entertaining performance! \nPlay written by Michael Druce and produced by special arrangement with PIONEER DRAMA SERVICE. Denver\, Colorado
URL:https://prairietopinerc.ca/event/caught-in-the-act-co-presents-murder-at-regent-manor/
LOCATION:Transcona Memorial United Church-Winnipeg\, 209 Yale Avenue West\, Winnipeg\, MB\, R2C 1T9\, Canada
CATEGORIES:Community of Faith Events calendar,Events
ATTACH;FMTTYPE=image/jpeg:https://prairietopinerc.ca/wp-content/uploads/2025/02/POSTER_v2.jpg
END:VEVENT
BEGIN:VEVENT
DTSTART;TZID=America/Winnipeg:20250424T093000
DTEND;TZID=America/Winnipeg:20250424T123000
DTSTAMP:20260424T212517
CREATED:20230823T015149Z
LAST-MODIFIED:20230823T015149Z
UID:10000737-1745487000-1745497800@prairietopinerc.ca
SUMMARY:Committee on Community of Faith Support
DESCRIPTION:The Committee on Community of Faith Support is holding its regular meeting via Zoom every fourth Thursday of the month.
URL:https://prairietopinerc.ca/event/committee-on-community-of-faith-support/2025-04-24/
LOCATION:Manitoba
CATEGORIES:Events,Regional
END:VEVENT
BEGIN:VEVENT
DTSTART;TZID=America/Winnipeg:20250426T180000
DTEND;TZID=America/Winnipeg:20250426T210000
DTSTAMP:20260424T212517
CREATED:20250327T161423Z
LAST-MODIFIED:20250401T005017Z
UID:10001540-1745690400-1745701200@prairietopinerc.ca
SUMMARY:A Spring Gala Dinner
DESCRIPTION:To commemorate the 100th Anniversary of The United Church of Canada\, North Kildonan United Church is hosting a Spring Gala Dinner. \nPlease see poster for details.
URL:https://prairietopinerc.ca/event/a-spring-gala-dinner/
LOCATION:Royal Canadian Legion\, 214 Maxwell King Dr\, East St. Paul\, Manitoba\, R2E 0A1\, Canada
CATEGORIES:100th Anniversary of the UCC,Community of Faith Events calendar,Events
ATTACH;FMTTYPE=image/jpeg:https://prairietopinerc.ca/wp-content/uploads/2025/03/1743089708579-581a29ca-ea07-4f37-950c-245d4fa944c3_1.jpg
END:VEVENT
END:VCALENDAR