BEGIN:VCALENDAR
VERSION:2.0
PRODID:-//Prairie to Pine Regional Council - ECPv6.15.20//NONSGML v1.0//EN
CALSCALE:GREGORIAN
METHOD:PUBLISH
X-WR-CALNAME:Prairie to Pine Regional Council
X-ORIGINAL-URL:https://prairietopinerc.ca
X-WR-CALDESC:Events for Prairie to Pine Regional Council
REFRESH-INTERVAL;VALUE=DURATION:PT1H
X-Robots-Tag:noindex
X-PUBLISHED-TTL:PT1H
BEGIN:VTIMEZONE
TZID:America/Winnipeg
BEGIN:DAYLIGHT
TZOFFSETFROM:-0600
TZOFFSETTO:-0500
TZNAME:CDT
DTSTART:20240310T080000
END:DAYLIGHT
BEGIN:STANDARD
TZOFFSETFROM:-0500
TZOFFSETTO:-0600
TZNAME:CST
DTSTART:20241103T070000
END:STANDARD
BEGIN:DAYLIGHT
TZOFFSETFROM:-0600
TZOFFSETTO:-0500
TZNAME:CDT
DTSTART:20250309T080000
END:DAYLIGHT
BEGIN:STANDARD
TZOFFSETFROM:-0500
TZOFFSETTO:-0600
TZNAME:CST
DTSTART:20251102T070000
END:STANDARD
BEGIN:DAYLIGHT
TZOFFSETFROM:-0600
TZOFFSETTO:-0500
TZNAME:CDT
DTSTART:20260308T080000
END:DAYLIGHT
BEGIN:STANDARD
TZOFFSETFROM:-0500
TZOFFSETTO:-0600
TZNAME:CST
DTSTART:20261101T070000
END:STANDARD
END:VTIMEZONE
BEGIN:VEVENT
DTSTART;TZID=America/Winnipeg:20250215T183000
DTEND;TZID=America/Winnipeg:20250217T130000
DTSTAMP:20260425T072522
CREATED:20241206T150151Z
LAST-MODIFIED:20250122T062307Z
UID:10001433-1739644200-1739797200@prairietopinerc.ca
SUMMARY:Zeebu 2025 Regional Youth Retreat in Selkirk\, MB
DESCRIPTION:If you are a grade 7 to 12 youth\, we welcome you to register for the upcoming region-wide youth retreat\, being held at Selkirk United Church in Selkirk\, MB\, Saturday\, Feb 15th to holiday Monday\, Feb 17th. \nMake friends with other youth from across the United Church’s Prairie to Pine Region while exploring a theme through Worship\, Song\, and Inter-active Theme Times. The theme is “Biblical Allyship – A Work in Progress.”  We will explore what that means and how we can be part of that work. The retreat wouldn’t be complete without social time — dancing\, games\, chatting over meals (and canteen treats)! …and then rolling out your sleeping bag on a church floor to dream sweet dreams surrounded by new and old friends resting up for another busy exciting day! \nThe retreat is planned by young people for young people. \nInvite your friends\, neighbours\, cousins (the ones you see often and the ones you would like to see more often!) \nHaven’t been to a retreat before?  – See: Retreat description for potential participants. \nTo allow all to attend\, no matter their family’s financial status\, the fee is suggested on a “pay what you can” scale from full fee of $95 down to $0. \n\nFirst time registrant full fee stays the same right up until the deadline\, to give us time to get the word out to new families – $80\n\nAll return retreat-goers: \n\n$5 off early bird fee if registered by January 9th -$80\nEarly bird fee if registered by January 23rd – $85\nRegistration deadline: Feb 4th – $95\n\nREGISTER HERE \nWe are also looking for leaders age 16+.  Interested?  Apply here ASAP.
URL:https://prairietopinerc.ca/event/zeebu-2025-regional-youth-retreat-in-selkirk-mb/
LOCATION:Selkirk United Church\, 202 McLean Avenue\, Selkirk\, Manitoba\, R1A 0T6\, Canada
CATEGORIES:LGBTQIA+ Affirming,Regional,Young Adults and Youth
END:VEVENT
BEGIN:VEVENT
DTSTART;TZID=America/Winnipeg:20250222T081500
DTEND;TZID=America/Winnipeg:20250222T113000
DTSTAMP:20260425T072522
CREATED:20250129T022235Z
LAST-MODIFIED:20250129T022310Z
UID:10001519-1740212100-1740223800@prairietopinerc.ca
SUMMARY:Dinner Theatre Tickets Sale; Pancake Breakfast
DESCRIPTION:Join the TMUC community as the 11th annual Caught In The Act Co. dinner theatre tickets go on sale. The Transcona Council for Seniors will be holding an optional brunch ($10) and bake sale until 11am. Ticket sales will be held from 8:30am-11:30am and doors open at 8:15am.
URL:https://prairietopinerc.ca/event/dinner-theatre-tickets-sale-pancake-breakfast/
LOCATION:Transcona Memorial United Church\, 209 Yale Ave W.\, Winnipeg\, Manitoba\, R2C 1T9\, Canada
CATEGORIES:Community of Faith Events calendar,Events
ATTACH;FMTTYPE=image/jpeg:https://prairietopinerc.ca/wp-content/uploads/2025/01/TOS-POSTER_final.jpg
END:VEVENT
BEGIN:VEVENT
DTSTART;TZID=America/Winnipeg:20250222T083000
DTEND;TZID=America/Winnipeg:20250222T123000
DTSTAMP:20260425T072522
CREATED:20250204T165629Z
LAST-MODIFIED:20250204T165629Z
UID:10001522-1740213000-1740227400@prairietopinerc.ca
SUMMARY:M&P Training
DESCRIPTION:February 22\, 2025\, on ZOOM from 8:30 a.m. to 12:30 p.m. – Training for Ministry & Personnel Committees. Please send an email with your contact information and community of faith to Cherry Abad (cabad@united-church.ca) to express interest/register for this event. It is recommended that new members of M & P Committees and those who have not attended a training session in the past three years participate in training. Ministry & Personnel Committees are the ONLY required committee in the governance structures of Pastoral Charges and must be in place for the support and oversight of employees and ministry personnel. Pastoral Charges seeking new Ministry Personnel or a renewal of appointment for existing ministry personnel must demonstrate that at least some of their M & P Committee members have had training in the past three years.
URL:https://prairietopinerc.ca/event/mp-training/
LOCATION:Manitoba
CATEGORIES:Events,Regional
END:VEVENT
BEGIN:VEVENT
DTSTART;TZID=America/Winnipeg:20250222T150000
DTEND;TZID=America/Winnipeg:20250222T170000
DTSTAMP:20260425T072522
CREATED:20250115T153009Z
LAST-MODIFIED:20250115T153028Z
UID:10001441-1740236400-1740243600@prairietopinerc.ca
SUMMARY:"The Very Groovy Things" Concert at Fort Garry United Church
DESCRIPTION:Fort Garry United Church will host an awesome concert on Saturday February 22\, 3:00.\nCome hear “The Very Groovy Things” Band!\nThe Very Groovy Things specialize in pop music from the 60s and 70s.\nTickets are $20 frm the church office or at the door.\nCome and groove-out with us!
URL:https://prairietopinerc.ca/event/the-very-groovy-things-concert-at-fort-garry-united-church/
LOCATION:Fort Garry United Church\, 800 Point Rd\, Winnipeg\, MB\, Winnipeg\, Manitoba\, R3T 3L8\, Canada
CATEGORIES:Community of Faith Events calendar,Events
ATTACH;FMTTYPE=image/png:https://prairietopinerc.ca/wp-content/uploads/2025/01/png-Very-Groovy.png
ORGANIZER;CN="Fort Garry United Church":MAILTO:fguc@shaw.ca
END:VEVENT
BEGIN:VEVENT
DTSTART;TZID=America/Winnipeg:20250222T190000
DTEND;TZID=America/Winnipeg:20250222T213000
DTSTAMP:20260425T072522
CREATED:20250118T235333Z
LAST-MODIFIED:20250118T235333Z
UID:10001454-1740250800-1740259800@prairietopinerc.ca
SUMMARY:Open Your Hearts Concert
DESCRIPTION:St. Paul’s United Church invites you to attend its annual Open Your Hearts Concert as a fundraiser for a local organization. This year\, proceeds from the event will go to the Sandy Saulteaux Spiritual Centre. The concert will feature entertainment from local musicians Tracy Kohne and Jamie Steinhoff\, and will include a dessert auction and choice auction. Refreshments are included with admission.
URL:https://prairietopinerc.ca/event/open-your-hearts-concert/
LOCATION:St. Paul’s United Church\, 730 James Avenue\, Beausejour\, MB\, R0E 0C0\, Canada
CATEGORIES:Community of Faith Events calendar,Events
END:VEVENT
END:VCALENDAR