BEGIN:VCALENDAR
VERSION:2.0
PRODID:-//Prairie to Pine Regional Council - ECPv6.15.20//NONSGML v1.0//EN
CALSCALE:GREGORIAN
METHOD:PUBLISH
X-ORIGINAL-URL:https://prairietopinerc.ca
X-WR-CALDESC:Events for Prairie to Pine Regional Council
REFRESH-INTERVAL;VALUE=DURATION:PT1H
X-Robots-Tag:noindex
X-PUBLISHED-TTL:PT1H
BEGIN:VTIMEZONE
TZID:America/Winnipeg
BEGIN:DAYLIGHT
TZOFFSETFROM:-0600
TZOFFSETTO:-0500
TZNAME:CDT
DTSTART:20240310T080000
END:DAYLIGHT
BEGIN:STANDARD
TZOFFSETFROM:-0500
TZOFFSETTO:-0600
TZNAME:CST
DTSTART:20241103T070000
END:STANDARD
BEGIN:DAYLIGHT
TZOFFSETFROM:-0600
TZOFFSETTO:-0500
TZNAME:CDT
DTSTART:20250309T080000
END:DAYLIGHT
BEGIN:STANDARD
TZOFFSETFROM:-0500
TZOFFSETTO:-0600
TZNAME:CST
DTSTART:20251102T070000
END:STANDARD
BEGIN:DAYLIGHT
TZOFFSETFROM:-0600
TZOFFSETTO:-0500
TZNAME:CDT
DTSTART:20260308T080000
END:DAYLIGHT
BEGIN:STANDARD
TZOFFSETFROM:-0500
TZOFFSETTO:-0600
TZNAME:CST
DTSTART:20261101T070000
END:STANDARD
END:VTIMEZONE
BEGIN:VEVENT
DTSTART;TZID=America/Winnipeg:20250202T150000
DTEND;TZID=America/Winnipeg:20250202T170000
DTSTAMP:20260425T072735
CREATED:20250123T214716Z
LAST-MODIFIED:20250123T214716Z
UID:10001518-1738508400-1738515600@prairietopinerc.ca
SUMMARY:Flute Chamber Concert at Westminster
DESCRIPTION:Charmaine’s Birthday Concert\nSunday\, February 2 at 3pm\nWestminster United Church\nin the Concert Hall\, 2nd floor\n(stair access only) \nFeaturing: Wind Chamber Flutes\, Steinbach Flute Quartet\, Sweet Silver Choir\, and University Flute Ensemble \nAn all-flute music program with reception to follow.\nAdmission by donation\, proceeds to Westminster Church.
URL:https://prairietopinerc.ca/event/flute-chamber-concert-at-westminster/
LOCATION:Westminster United Church\, 745 Westminster Avenue\, Winnipeg\, Manitoba\, R3G 1A5\, Canada
CATEGORIES:Community of Faith Events calendar,Events
ATTACH;FMTTYPE=image/jpeg:https://prairietopinerc.ca/wp-content/uploads/2025/01/Flute-Chamber-Concert-Feb.-2-2025-.jpg
ORGANIZER;CN="Westminster United Church":MAILTO:info@westminsterchurch.org
END:VEVENT
BEGIN:VEVENT
DTSTART;TZID=America/Winnipeg:20250205T190000
DTEND;TZID=America/Winnipeg:20250205T203000
DTSTAMP:20260425T072735
CREATED:20250114T204902Z
LAST-MODIFIED:20250114T213436Z
UID:10001440-1738782000-1738787400@prairietopinerc.ca
SUMMARY:Sing Out Proud Prep for Affirming PIE Day!
DESCRIPTION:Prep for PIE Day! Wednesday 5 February 2025 at 7:00-8:30PM CST on Zoom.\nAll Affirming\, in-process\, and exploring ministries welcome\, and all individuals too. Hosted by the Prairie to Pine Equity and Diversity Committee\, we’ll explore our plans for the nation-wide Affirming PIE Day on Friday March 14. This year’s theme is Sing Out Proud\, so come with your creative and in-harmony ideas to share or your questions to ask. Have a look at www.pieday.ca for all the new materials. \nPlease share the link for this event\, but don’t post the Zoom info on your site or social media. \nhttps://united-church.zoom.us/j/83439529462?pwd=hv0sb1N8UZhsbwnNZCxmSEBaOXcbNf.1 |\nMeeting ID: 834 3952 9462        Password: 425248         1 855 703 8985 Canada Toll-free
URL:https://prairietopinerc.ca/event/sing-out-proud-prep-for-affirming-pie-day/
LOCATION:Zoom
CATEGORIES:Intercultural,LGBTQIA+ Affirming,Regional
ATTACH;FMTTYPE=image/png:https://prairietopinerc.ca/wp-content/uploads/2025/01/P2PRC-PIE-Day-2025-prep-1200-x-800-px.png
END:VEVENT
BEGIN:VEVENT
DTSTART;TZID=America/Winnipeg:20250205T190000
DTEND;TZID=America/Winnipeg:20250205T203000
DTSTAMP:20260425T072735
CREATED:20250118T193235Z
LAST-MODIFIED:20250118T193235Z
UID:10001452-1738782000-1738787400@prairietopinerc.ca
SUMMARY:Prep for PIE Day!
DESCRIPTION:Prep for PIE Day! Wednesday 5 February 2025 at 7:00-8:30 PM CST on Zoom.  \nAll Affirming\, in-process\, and exploring ministries welcome\, and all individuals too. Hosted by the Prairie to Pine Equity and Diversity Committee\, we’ll explore our plans for the nationwide Affirming PIE Day on Friday\, March 14. This year’s theme is Sing Out Proud\, so come with your creative and in-harmony ideas to share or your questions to ask. Have a look at www.pieday.ca for all the new materials. \nhttps://united-church.zoom.us/j/83439529462?pwd=hv0sb1N8UZhsbwnNZCxmSEBaOXcbNf.1 | \nMeeting ID: 834 3952 9462 Password: 425248         1 855 703 8985 Canada Toll-free
URL:https://prairietopinerc.ca/event/prep-for-pie-day/
LOCATION:Zoom
CATEGORIES:Community of Faith Events calendar,Events,Regional
END:VEVENT
END:VCALENDAR