BEGIN:VCALENDAR
VERSION:2.0
PRODID:-//Prairie to Pine Regional Council - ECPv6.15.20//NONSGML v1.0//EN
CALSCALE:GREGORIAN
METHOD:PUBLISH
X-ORIGINAL-URL:https://prairietopinerc.ca
X-WR-CALDESC:Events for Prairie to Pine Regional Council
REFRESH-INTERVAL;VALUE=DURATION:PT1H
X-Robots-Tag:noindex
X-PUBLISHED-TTL:PT1H
BEGIN:VTIMEZONE
TZID:America/Winnipeg
BEGIN:DAYLIGHT
TZOFFSETFROM:-0600
TZOFFSETTO:-0500
TZNAME:CDT
DTSTART:20240310T080000
END:DAYLIGHT
BEGIN:STANDARD
TZOFFSETFROM:-0500
TZOFFSETTO:-0600
TZNAME:CST
DTSTART:20241103T070000
END:STANDARD
BEGIN:DAYLIGHT
TZOFFSETFROM:-0600
TZOFFSETTO:-0500
TZNAME:CDT
DTSTART:20250309T080000
END:DAYLIGHT
BEGIN:STANDARD
TZOFFSETFROM:-0500
TZOFFSETTO:-0600
TZNAME:CST
DTSTART:20251102T070000
END:STANDARD
BEGIN:DAYLIGHT
TZOFFSETFROM:-0600
TZOFFSETTO:-0500
TZNAME:CDT
DTSTART:20260308T080000
END:DAYLIGHT
BEGIN:STANDARD
TZOFFSETFROM:-0500
TZOFFSETTO:-0600
TZNAME:CST
DTSTART:20261101T070000
END:STANDARD
END:VTIMEZONE
BEGIN:VEVENT
DTSTART;TZID=America/Winnipeg:20250110T193000
DTEND;TZID=America/Winnipeg:20250112T113000
DTSTAMP:20260425T072733
CREATED:20241206T130651Z
LAST-MODIFIED:20241206T131038Z
UID:10001432-1736537400-1736681400@prairietopinerc.ca
SUMMARY:YAAY Leadership Event
DESCRIPTION:For Future Leaders wanting to Pursue Leadership Roles \nWhere: Trinity UC in Portage la Prairie \nWho: Youth from Prairie to Pine Region\, interested in learning leadership skills \nWill include leadership games\, travelling youth group leadership\, attending a YAAY meeting\, meals/snacks\, social time\, and a sleepover for 2 nights. \nLimited space available. Register now to reserve your spot! \nRegistration
URL:https://prairietopinerc.ca/event/yaay-leadership-event/
LOCATION:Trinity United Church – Portage la Prairie\, 15 Tupper Street\, South\, Portage la Prairie\, Manitoba\, R1N 1W7\, Canada
CATEGORIES:Events,LGBTQIA+ Affirming,Regional,Young Adults and Youth
END:VEVENT
BEGIN:VEVENT
DTSTART;TZID=America/Winnipeg:20250114T100000
DTEND;TZID=America/Winnipeg:20250114T100000
DTSTAMP:20260425T072733
CREATED:20220112T031438Z
LAST-MODIFIED:20220815T213753Z
UID:10000441-1736848800-1736848800@prairietopinerc.ca
SUMMARY:Pastoral Relations Commission meeting
DESCRIPTION:
URL:https://prairietopinerc.ca/event/pastoral-relations-commission-meeting/2025-01-14/
LOCATION:Manitoba
CATEGORIES:Events,Regional
END:VEVENT
BEGIN:VEVENT
DTSTART;VALUE=DATE:20250118
DTEND;VALUE=DATE:20250126
DTSTAMP:20260425T072733
CREATED:20250114T000046Z
LAST-MODIFIED:20250114T003625Z
UID:10001439-1737158400-1737849599@prairietopinerc.ca
SUMMARY:Week of Prayer for Christian Unity
DESCRIPTION:Week of Prayer for Christian Unity\, 18-25 January 2025.  \nAn annual global ecumenical celebration. All resources for Canada are here! Remember to post your service on our community of faith events calendar\, please- let’s share these opportunities widely. \nSend your posters to prairietopine@united-church.ca so we can share them. \nHere’s the Winnipeg worship services poster.
URL:https://prairietopinerc.ca/event/week-of-prayer-for-christian-unity/
LOCATION:Manitoba and NW Ontario\, Canada
CATEGORIES:Community of Faith Events calendar,Intercultural
ATTACH;FMTTYPE=image/jpeg:https://prairietopinerc.ca/wp-content/uploads/2025/01/WPCU-2025-Poster-scaled.jpg
END:VEVENT
BEGIN:VEVENT
DTSTART;VALUE=DATE:20250118
DTEND;VALUE=DATE:20250119
DTSTAMP:20260425T072733
CREATED:20250118T185646Z
LAST-MODIFIED:20250118T192643Z
UID:10001450-1737158400-1737244799@prairietopinerc.ca
SUMMARY:Week of Prayer for Christian Unity-January 18 Day 1
DESCRIPTION:SATURDAY\, January 18 Day 1 “The fatherhood and care of God who rules the universe”\nPray at home today Isaiah 63:15-17; Psalm 139; 1 Corinthians 8:5-6
URL:https://prairietopinerc.ca/event/week-of-prayer-for-christian-unity-january-18-day-1/
LOCATION:Manitoba
CATEGORIES:Community of Faith Events calendar,Events
END:VEVENT
END:VCALENDAR