BEGIN:VCALENDAR
VERSION:2.0
PRODID:-//Prairie to Pine Regional Council - ECPv6.15.20//NONSGML v1.0//EN
CALSCALE:GREGORIAN
METHOD:PUBLISH
X-WR-CALNAME:Prairie to Pine Regional Council
X-ORIGINAL-URL:https://prairietopinerc.ca
X-WR-CALDESC:Events for Prairie to Pine Regional Council
REFRESH-INTERVAL;VALUE=DURATION:PT1H
X-Robots-Tag:noindex
X-PUBLISHED-TTL:PT1H
BEGIN:VTIMEZONE
TZID:America/Winnipeg
BEGIN:DAYLIGHT
TZOFFSETFROM:-0600
TZOFFSETTO:-0500
TZNAME:CDT
DTSTART:20230312T080000
END:DAYLIGHT
BEGIN:STANDARD
TZOFFSETFROM:-0500
TZOFFSETTO:-0600
TZNAME:CST
DTSTART:20231105T070000
END:STANDARD
BEGIN:DAYLIGHT
TZOFFSETFROM:-0600
TZOFFSETTO:-0500
TZNAME:CDT
DTSTART:20240310T080000
END:DAYLIGHT
BEGIN:STANDARD
TZOFFSETFROM:-0500
TZOFFSETTO:-0600
TZNAME:CST
DTSTART:20241103T070000
END:STANDARD
BEGIN:DAYLIGHT
TZOFFSETFROM:-0600
TZOFFSETTO:-0500
TZNAME:CDT
DTSTART:20250309T080000
END:DAYLIGHT
BEGIN:STANDARD
TZOFFSETFROM:-0500
TZOFFSETTO:-0600
TZNAME:CST
DTSTART:20251102T070000
END:STANDARD
END:VTIMEZONE
BEGIN:VEVENT
DTSTART;TZID=America/Winnipeg:20241217T190000
DTEND;TZID=America/Winnipeg:20241217T200000
DTSTAMP:20260425T082502
CREATED:20241203T175632Z
LAST-MODIFIED:20241203T175632Z
UID:10001429-1734462000-1734465600@prairietopinerc.ca
SUMMARY:Blue Christmas Service
DESCRIPTION:McClure United Church\,\n533 Greenwood Place\, Winnipeg \nWe hold a Blue Christmas Service to recognize that the world’s Christmas festivities can often seem superficial and trivial to those who have been experiencing loss and sorrow\, or who are struggling with trials in life. We believe that a service is needed that can get us beyond the tinsel and the froth\, one to which we can bring our losses and name them\, in which we can hear deeper words of hope than the world has to offer\, and through which we might bind ourselves more closely to the one from whom we have true tidings of comfort and joy – Emmanuel\, God with us. \nPlease join us all are welcome.
URL:https://prairietopinerc.ca/event/blue-christmas-service-2/
LOCATION:McClure United Church\, 533 Greenwood Pl.\, Winnipeg\, Manitoba\, R3G 3M1\, Canada
CATEGORIES:Community of Faith Events calendar,Events
ATTACH;FMTTYPE=image/jpeg:https://prairietopinerc.ca/wp-content/uploads/2024/12/Blue-Christmas-Service-POSTER-2024_page-0001.jpg
END:VEVENT
BEGIN:VEVENT
DTSTART;TZID=America/Winnipeg:20241220T173000
DTEND;TZID=America/Winnipeg:20241220T193000
DTSTAMP:20260425T082502
CREATED:20241209T180955Z
LAST-MODIFIED:20241209T180955Z
UID:10001436-1734715800-1734723000@prairietopinerc.ca
SUMMARY:Messy Church Christmas
DESCRIPTION:Messy Church is an innovative church concept that brings together generations of family\, mixtures of people\, whole and wholesome food\, creative play and crafting to form a community worshiping together. \nPlease join in the fun and celebrate Messy Christmas at TMUC! RSVP recommended\, as supper will be served. Please call 204-222-1331 or email office@tmuc.ca and indicate how many will be joining in the fun. This is an all ages/all families event.
URL:https://prairietopinerc.ca/event/messy-church-christmas/
LOCATION:Transcona Memorial United Church\, 209 Yale Ave W.\, Winnipeg\, Manitoba\, R2C 1T9\, Canada
CATEGORIES:Community of Faith Events calendar,Events
ATTACH;FMTTYPE=image/jpeg:https://prairietopinerc.ca/wp-content/uploads/2024/12/MC-scaled.jpg
END:VEVENT
BEGIN:VEVENT
DTSTART;TZID=America/Winnipeg:20241220T190000
DTEND;TZID=America/Winnipeg:20241220T200000
DTSTAMP:20260425T082502
CREATED:20241212T014826Z
LAST-MODIFIED:20241212T014826Z
UID:10001437-1734721200-1734724800@prairietopinerc.ca
SUMMARY:Trinity Brandon Blue Christmas
DESCRIPTION:Blue Christmas – a Service of Hope and Remembrance will take place at Trinity United Church Brandon (1515- 6th Street) on Friday\, December 20th at 7:00 pm. For many people\, the Christmas season does not bring with it the joy and happiness that is often associated with this time of year. Individuals may be facing the holiday after the death of a loved one; after a separation or divorce; facing illness with a loved one or self and so forth. This service will have more of a quiet\, somber feel and the scriptures\, music and meditation will be focused on the comfort God offers during dark times.
URL:https://prairietopinerc.ca/event/trinity-brandon-blue-christmas/
LOCATION:Trinity United Church-Brandon\, 1515-6th Street\, Brandon\, Manitoba\, R7A 6B3\, Canada
CATEGORIES:Community of Faith Events calendar,Events
ATTACH;FMTTYPE=image/png:https://prairietopinerc.ca/wp-content/uploads/2024/12/Blue-Christmas.png
END:VEVENT
BEGIN:VEVENT
DTSTART;TZID=America/Winnipeg:20241220T190000
DTEND;TZID=America/Winnipeg:20241220T210000
DTSTAMP:20260425T082502
CREATED:20241118T143349Z
LAST-MODIFIED:20241118T143349Z
UID:10001425-1734721200-1734728400@prairietopinerc.ca
SUMMARY:Celebrate the Season
DESCRIPTION:Join us on Friday\, December 20th\, 2024 as we celebrate the season with an evening of Christmas Music and Carols.\nOur Own OBUC Choir will perform Cantata “Night of a Father’s Love” and community performers will entertain with song and musical acts. Refreshments and time to visit will follow the performance. \nTickets are available at the door or before hand from the church office. $20 for adults with youth and children free. Proceeds go towards the life and work of Oak Bank United Church. \nFor more information please call 204-444-2815 or email obucadminasst@mymts.net
URL:https://prairietopinerc.ca/event/celebrate-the-season/
LOCATION:Oakbank United Church\, 582 Balsam Cres\, Oakbank\, MB\, Canada
CATEGORIES:Community of Faith Events calendar,Events
ATTACH;FMTTYPE=image/png:https://prairietopinerc.ca/wp-content/uploads/2024/11/Celebrate-the-Season.png
END:VEVENT
END:VCALENDAR