BEGIN:VCALENDAR
VERSION:2.0
PRODID:-//Prairie to Pine Regional Council - ECPv6.15.20//NONSGML v1.0//EN
CALSCALE:GREGORIAN
METHOD:PUBLISH
X-ORIGINAL-URL:https://prairietopinerc.ca
X-WR-CALDESC:Events for Prairie to Pine Regional Council
REFRESH-INTERVAL;VALUE=DURATION:PT1H
X-Robots-Tag:noindex
X-PUBLISHED-TTL:PT1H
BEGIN:VTIMEZONE
TZID:America/Winnipeg
BEGIN:DAYLIGHT
TZOFFSETFROM:-0600
TZOFFSETTO:-0500
TZNAME:CDT
DTSTART:20230312T080000
END:DAYLIGHT
BEGIN:STANDARD
TZOFFSETFROM:-0500
TZOFFSETTO:-0600
TZNAME:CST
DTSTART:20231105T070000
END:STANDARD
BEGIN:DAYLIGHT
TZOFFSETFROM:-0600
TZOFFSETTO:-0500
TZNAME:CDT
DTSTART:20240310T080000
END:DAYLIGHT
BEGIN:STANDARD
TZOFFSETFROM:-0500
TZOFFSETTO:-0600
TZNAME:CST
DTSTART:20241103T070000
END:STANDARD
BEGIN:DAYLIGHT
TZOFFSETFROM:-0600
TZOFFSETTO:-0500
TZNAME:CDT
DTSTART:20250309T080000
END:DAYLIGHT
BEGIN:STANDARD
TZOFFSETFROM:-0500
TZOFFSETTO:-0600
TZNAME:CST
DTSTART:20251102T070000
END:STANDARD
END:VTIMEZONE
BEGIN:VEVENT
DTSTART;TZID=America/Winnipeg:20241103T140000
DTEND;TZID=America/Winnipeg:20241103T160000
DTSTAMP:20260425T100735
CREATED:20241029T050216Z
LAST-MODIFIED:20241029T050216Z
UID:10001416-1730642400-1730649600@prairietopinerc.ca
SUMMARY:Covenanting Service-First United Church\, Dryden
DESCRIPTION:First United Church\, Dryden and St. Andrew’s United Church\, Sioux Lookout will celebrate their new Collaborative Ministry with one another\, their Minister Jamie Miller and the Prairie to Pine Regional Council . A service will be held on Sunday\, November 03\, 2024 at First United Church\, Dryden  23 Van Horne Avenue  at  2:00 p.m. All are welcome to join in.
URL:https://prairietopinerc.ca/event/covenanting-service-first-united-church-dryden/
LOCATION:First United Church\, 23 Van Horne Ave\, Dryden\, ON\, Canada
CATEGORIES:Community of Faith Events calendar,Events,Regional
END:VEVENT
BEGIN:VEVENT
DTSTART;TZID=America/Winnipeg:20241105T150000
DTEND;TZID=America/Winnipeg:20241105T150000
DTSTAMP:20260425T100735
CREATED:20220112T004818Z
LAST-MODIFIED:20220907T162050Z
UID:10000403-1730818800-1730818800@prairietopinerc.ca
SUMMARY:Ministry Personnel Support Gathering
DESCRIPTION:Gatherings will be held every first Tuesday of the month at 3:00 p.m. Here is the Zoom link information.
URL:https://prairietopinerc.ca/event/ministry-personnel-support-gathering-12/2024-11-05/
LOCATION:Manitoba
CATEGORIES:Events,Regional
END:VEVENT
END:VCALENDAR