BEGIN:VCALENDAR
VERSION:2.0
PRODID:-//Prairie to Pine Regional Council - ECPv6.15.20//NONSGML v1.0//EN
CALSCALE:GREGORIAN
METHOD:PUBLISH
X-WR-CALNAME:Prairie to Pine Regional Council
X-ORIGINAL-URL:https://prairietopinerc.ca
X-WR-CALDESC:Events for Prairie to Pine Regional Council
REFRESH-INTERVAL;VALUE=DURATION:PT1H
X-Robots-Tag:noindex
X-PUBLISHED-TTL:PT1H
BEGIN:VTIMEZONE
TZID:America/Winnipeg
BEGIN:DAYLIGHT
TZOFFSETFROM:-0600
TZOFFSETTO:-0500
TZNAME:CDT
DTSTART:20230312T080000
END:DAYLIGHT
BEGIN:STANDARD
TZOFFSETFROM:-0500
TZOFFSETTO:-0600
TZNAME:CST
DTSTART:20231105T070000
END:STANDARD
BEGIN:DAYLIGHT
TZOFFSETFROM:-0600
TZOFFSETTO:-0500
TZNAME:CDT
DTSTART:20240310T080000
END:DAYLIGHT
BEGIN:STANDARD
TZOFFSETFROM:-0500
TZOFFSETTO:-0600
TZNAME:CST
DTSTART:20241103T070000
END:STANDARD
BEGIN:DAYLIGHT
TZOFFSETFROM:-0600
TZOFFSETTO:-0500
TZNAME:CDT
DTSTART:20250309T080000
END:DAYLIGHT
BEGIN:STANDARD
TZOFFSETFROM:-0500
TZOFFSETTO:-0600
TZNAME:CST
DTSTART:20251102T070000
END:STANDARD
END:VTIMEZONE
BEGIN:VEVENT
DTSTART;TZID=America/Winnipeg:20241025T183000
DTEND;TZID=America/Winnipeg:20241027T130000
DTSTAMP:20260425T115616
CREATED:20240911T130229Z
LAST-MODIFIED:20240919T204058Z
UID:10001395-1729881000-1730034000@prairietopinerc.ca
SUMMARY:ALF 2024 Regional Youth Retreat in Winnipeg\, MB
DESCRIPTION:If you are a grade 7 to 12 youth\, we welcome you to register for the upcoming region-wide youth retreat\, being held at Gordon King Memorial United Church in Winnipeg\, MB\, Friday\, Oct 25th to Sunday\, Oct 27th. \nMake friends with other youth from across the United Church’s Prairie to Pine Region while exploring an Olympics inspired theme through Worship\, Song\, and Inter-active “Sharing the Torch” Theme Times.  The retreat wouldn’t be complete without social time — dancing\, games\, chatting over meals (and canteen treats)! …and then rolling out your sleeping bag on the church floor to dream sweet dreams surrounded by new and old friends resting up for another busy exciting day! \nThe retreat is planned by young people for young people. \nInvite your friends\, neighbours\, cousins (the ones you see often and the ones you would like to see more often!) \nHaven’t been to a retreat before?  – See: Retreat description for potential participants. \nTo allow all to attend\, no matter their family’s financial status\, the fee is suggested on a “pay what you can” scale from full fee of $95 down to $0. \n\nFirst time registrant fee stays the same right up until the deadline\, to give us time to get the word out to new families – $80\n\nAll return retreat-goers: \n\n$5 off early bird fee if registered by 10am Sept 14th -$80\nEarly bird fee if registered by Sept 26th – $85\nRegistration deadline: Oct 14th – $95\n\nREGISTER HERE \nWe are also looking for leaders age 16+.  Interested?  Apply here ASAP.
URL:https://prairietopinerc.ca/event/alf-2024-regional-youth-retreat-in-winnipeg-mb/
LOCATION:Gordon King Memorial United Church\, 27 Cobourg Ave\, Winnipeg\, MB R2L 0H4\, Winnipeg\, Manitoba\, R2L 0H4\, Canada
CATEGORIES:Intercultural,LGBTQIA+ Affirming,Regional,Right Relations,Worship,Young Adults and Youth
END:VEVENT
BEGIN:VEVENT
DTSTART;TZID=America/Winnipeg:20241030T190000
DTEND;TZID=America/Winnipeg:20241030T203000
DTSTAMP:20260425T115616
CREATED:20241007T181137Z
LAST-MODIFIED:20241009T183816Z
UID:10001412-1730314800-1730320200@prairietopinerc.ca
SUMMARY:The Affirming process: the good\, the bad\, and the ugly!
DESCRIPTION:Come join the Prairie to Pine Equity and Diversity Committee in its continuing community connection series\, open to all who support 2SLGBTQIA+ Affirming journeys and commitments. We’ll take a deeper look at the process for becoming an Affirming ministry: struggles\, joys\, and strategies. All welcome. \nhttps://united-church.zoom.us/j/87806217155?pwd=9DQtkRJ29mLYejbco7oi68eSn8P3MQ.1\nMeeting ID: 878 0621 7155 Password: 727974        Phone:  855 703 8985 Canada Toll-free
URL:https://prairietopinerc.ca/event/the-affirming-process-the-good-the-bad-and-the-ugly/
LOCATION:Zoom
CATEGORIES:Events,Intercultural,LGBTQIA+ Affirming,Regional
ATTACH;FMTTYPE=image/png:https://prairietopinerc.ca/wp-content/uploads/2024/10/the-affirming-process.png
END:VEVENT
BEGIN:VEVENT
DTSTART;TZID=America/Winnipeg:20241102T100000
DTEND;TZID=America/Winnipeg:20241102T120000
DTSTAMP:20260425T115616
CREATED:20241011T214643Z
LAST-MODIFIED:20241011T214643Z
UID:10001414-1730541600-1730548800@prairietopinerc.ca
SUMMARY:Christmas Bazaar
DESCRIPTION:You are invited to a Christmas Bazaar on Saturday\, November 2\, from 10 a.m. to 12 noon at North Kildonan United Church\, 174 Pentland St. (between Gilmore and McIvor Avenues). Home baking\, crafts\, jams\, pickles\, perogies and a Kids Touch ‘n Take table will be featured. Refreshments will be available. Free admission. Building is accessible and there is lots of parking.
URL:https://prairietopinerc.ca/event/christmas-bazaar-2/
LOCATION:North Kildonan United Church\, 174 Pentland St\, Winnipeg\, MB\, Canada
CATEGORIES:Community of Faith Events calendar,Events
ORGANIZER;CN="North Kildonan United Church":MAILTO:nkuc@mymts.net
END:VEVENT
BEGIN:VEVENT
DTSTART;TZID=America/Winnipeg:20241102T190000
DTEND;TZID=America/Winnipeg:20241102T210000
DTSTAMP:20260425T115616
CREATED:20241010T163935Z
LAST-MODIFIED:20241010T163935Z
UID:10001413-1730574000-1730581200@prairietopinerc.ca
SUMMARY:Falling for Dance and Music
DESCRIPTION:Come join us for a fabulous evening of music and dance.\nWe’ve invited our rental groups to share their amazing talent with us.\nYou’ll be delighted by choirs and bands and a dancing group!\nThe audience will get a chance to sing too!
URL:https://prairietopinerc.ca/event/falling-for-dance-and-music/
LOCATION:Fort Garry United Church\, 800 Point Rd\, Winnipeg\, MB\, Winnipeg\, Manitoba\, R3T 3L8\, Canada
CATEGORIES:Community of Faith Events calendar,Events
ATTACH;FMTTYPE=image/jpeg:https://prairietopinerc.ca/wp-content/uploads/2024/10/Copy-of-Copy-of-Event-Flyer-Made-with-PosterMyWall.jpg
ORGANIZER;CN="Fort Garry United Church":MAILTO:fguc@shaw.ca
END:VEVENT
BEGIN:VEVENT
DTSTART;TZID=America/Winnipeg:20241102T190000
DTEND;TZID=America/Winnipeg:20241102T213000
DTSTAMP:20260425T115616
CREATED:20241002T204517Z
LAST-MODIFIED:20241002T204517Z
UID:10001410-1730574000-1730583000@prairietopinerc.ca
SUMMARY:Fundraising concert featuring The Sisters of the Holy Rock
DESCRIPTION:Prairies Spirit United Church\, 207 Thompson Drive\, Winnipeg is holding a fundraising concert featuring The Sisters of the Holy Rock. Proceeds will go to the C.O.O.L. Project. a grow project for the Canadian Foodgrains Bank. \nTickets are available from Sherry Thom\, sthom338@shaw.ca. (204) 918–8714
URL:https://prairietopinerc.ca/event/fundraising-concert-featuring-the-sisters-of-the-holy-rock/
LOCATION:Prairie Spirit United Church\, 207 Thompson Drive\, Winnipeg\, Manitoba\, R3J 3E2\, Canada
CATEGORIES:Community of Faith Events calendar,Events
ATTACH;FMTTYPE=image/jpeg:https://prairietopinerc.ca/wp-content/uploads/2024/10/Sisters_Poster_color.jpg
ORGANIZER;CN="Prairie Spirit United Church":MAILTO:PrairieSpiritUC@shaw.ca
END:VEVENT
END:VCALENDAR