BEGIN:VCALENDAR
VERSION:2.0
PRODID:-//Prairie to Pine Regional Council - ECPv6.15.20//NONSGML v1.0//EN
CALSCALE:GREGORIAN
METHOD:PUBLISH
X-WR-CALNAME:Prairie to Pine Regional Council
X-ORIGINAL-URL:https://prairietopinerc.ca
X-WR-CALDESC:Events for Prairie to Pine Regional Council
REFRESH-INTERVAL;VALUE=DURATION:PT1H
X-Robots-Tag:noindex
X-PUBLISHED-TTL:PT1H
BEGIN:VTIMEZONE
TZID:America/Winnipeg
BEGIN:DAYLIGHT
TZOFFSETFROM:-0600
TZOFFSETTO:-0500
TZNAME:CDT
DTSTART:20230312T080000
END:DAYLIGHT
BEGIN:STANDARD
TZOFFSETFROM:-0500
TZOFFSETTO:-0600
TZNAME:CST
DTSTART:20231105T070000
END:STANDARD
BEGIN:DAYLIGHT
TZOFFSETFROM:-0600
TZOFFSETTO:-0500
TZNAME:CDT
DTSTART:20240310T080000
END:DAYLIGHT
BEGIN:STANDARD
TZOFFSETFROM:-0500
TZOFFSETTO:-0600
TZNAME:CST
DTSTART:20241103T070000
END:STANDARD
BEGIN:DAYLIGHT
TZOFFSETFROM:-0600
TZOFFSETTO:-0500
TZNAME:CDT
DTSTART:20250309T080000
END:DAYLIGHT
BEGIN:STANDARD
TZOFFSETFROM:-0500
TZOFFSETTO:-0600
TZNAME:CST
DTSTART:20251102T070000
END:STANDARD
END:VTIMEZONE
BEGIN:VEVENT
DTSTART;TZID=America/Winnipeg:20241017T190000
DTEND;TZID=America/Winnipeg:20241017T210000
DTSTAMP:20260425T115616
CREATED:20240925T150316Z
LAST-MODIFIED:20240925T150317Z
UID:10000946-1729191600-1729198800@prairietopinerc.ca
SUMMARY:2024 Regional Council Meeting (Online)
DESCRIPTION:Join us for the online Regional Council Meeting on October 10 and 17 (7:00 to 9:00 p.m.). More details to follow.
URL:https://prairietopinerc.ca/event/2024-regional-council-meeting-2/
LOCATION:Online
CATEGORIES:Events,Regional
END:VEVENT
BEGIN:VEVENT
DTSTART;TZID=America/Winnipeg:20241019T190000
DTEND;TZID=America/Winnipeg:20241019T210000
DTSTAMP:20260425T115616
CREATED:20240918T220031Z
LAST-MODIFIED:20240918T220031Z
UID:10001397-1729364400-1729371600@prairietopinerc.ca
SUMMARY:North Kildonan United Church Quiz Night
DESCRIPTION:A fun night of trivia\, friends\, and fellowship for all ages. Tickets are $20 each\, includes social food. Tables of 8. Doors open at 6:00 PM.
URL:https://prairietopinerc.ca/event/north-kildonan-united-church-quiz-night/
LOCATION:North Kildonan Community Centre\, 1144 Kingsford Place\, Winnipeg\, 1144 Kingsford Place\, Winnipeg\, Manitoba\, R2G 0K4\, Canada
CATEGORIES:Community of Faith Events calendar,Events
ORGANIZER;CN="North Kildonan United Church":MAILTO:nkuc@mymts.net
END:VEVENT
BEGIN:VEVENT
DTSTART;TZID=America/Winnipeg:20241019T190000
DTEND;TZID=America/Winnipeg:20241019T213000
DTSTAMP:20260425T115616
CREATED:20240926T155723Z
LAST-MODIFIED:20240926T155723Z
UID:10001406-1729364400-1729373400@prairietopinerc.ca
SUMMARY:Praise & Worship
DESCRIPTION:Join us for an evening of Praise & Worship\nSaturday\, October 19\, 2024 @7:00 pm\nFeaturing Second Chance Band with the Trinity United and Good Shepherd Anglican choirs \nProceeds from this event will support “Alpha House” https://www.alphahouseproject.ca/about-us/ \nTrinity United Church\n933 Summerside Avenue\, Winnipeg\, Manitoba\nDonations welcome
URL:https://prairietopinerc.ca/event/praise-worship/
LOCATION:Trinity United Church-Winnipeg\, 933 Summerside Avenue\, Winnipeg\, Manitoba\, R3T 4Y1\, Canada
CATEGORIES:Community of Faith Events calendar,Events
ATTACH;FMTTYPE=image/jpeg:https://prairietopinerc.ca/wp-content/uploads/2024/09/PW-Image.jpg
ORGANIZER;CN="Trinity United Church-Winnipeg":MAILTO:tuc@mymts.net
END:VEVENT
END:VCALENDAR