BEGIN:VCALENDAR
VERSION:2.0
PRODID:-//Prairie to Pine Regional Council - ECPv6.15.20//NONSGML v1.0//EN
CALSCALE:GREGORIAN
METHOD:PUBLISH
X-ORIGINAL-URL:https://prairietopinerc.ca
X-WR-CALDESC:Events for Prairie to Pine Regional Council
REFRESH-INTERVAL;VALUE=DURATION:PT1H
X-Robots-Tag:noindex
X-PUBLISHED-TTL:PT1H
BEGIN:VTIMEZONE
TZID:America/Winnipeg
BEGIN:DAYLIGHT
TZOFFSETFROM:-0600
TZOFFSETTO:-0500
TZNAME:CDT
DTSTART:20230312T080000
END:DAYLIGHT
BEGIN:STANDARD
TZOFFSETFROM:-0500
TZOFFSETTO:-0600
TZNAME:CST
DTSTART:20231105T070000
END:STANDARD
BEGIN:DAYLIGHT
TZOFFSETFROM:-0600
TZOFFSETTO:-0500
TZNAME:CDT
DTSTART:20240310T080000
END:DAYLIGHT
BEGIN:STANDARD
TZOFFSETFROM:-0500
TZOFFSETTO:-0600
TZNAME:CST
DTSTART:20241103T070000
END:STANDARD
BEGIN:DAYLIGHT
TZOFFSETFROM:-0600
TZOFFSETTO:-0500
TZNAME:CDT
DTSTART:20250309T080000
END:DAYLIGHT
BEGIN:STANDARD
TZOFFSETFROM:-0500
TZOFFSETTO:-0600
TZNAME:CST
DTSTART:20251102T070000
END:STANDARD
END:VTIMEZONE
BEGIN:VEVENT
DTSTART;TZID=America/Winnipeg:20240929T150000
DTEND;TZID=America/Winnipeg:20240929T163000
DTSTAMP:20260425T100735
CREATED:20240925T145518Z
LAST-MODIFIED:20240925T145518Z
UID:10001400-1727622000-1727627400@prairietopinerc.ca
SUMMARY:Covenanting Service-Grey Street United Church
DESCRIPTION:Covenanting service at Grey Street United Church\, Winnipeg on September 29\, 2024 at 3:00 p.m.\, celebrating the new Collaborative Ministry with Gordon King Memorial United Church with Patrick Woodbeck as Minister.
URL:https://prairietopinerc.ca/event/covenanting-service-grey-street-united-church/
LOCATION:Grey Street United Church\, 651 Sandhurst Ave.\, Winnipeg\, Manitoba\, R2L 1B1\, Canada
CATEGORIES:Community of Faith Events calendar,Events,Regional
END:VEVENT
BEGIN:VEVENT
DTSTART;TZID=America/Winnipeg:20240929T160000
DTEND;TZID=America/Winnipeg:20240929T190000
DTSTAMP:20260425T100735
CREATED:20240906T001529Z
LAST-MODIFIED:20240906T001529Z
UID:10001391-1727625600-1727636400@prairietopinerc.ca
SUMMARY:Food Truck Fundraiser to Support Glenboro United Church
DESCRIPTION:Glenboro United Church is having a Food Truck Fundraiser in Glenboro on Sunday Sept. 29-you can pre-order by Sept. 25 a rib dinner ($25) and pick it up from 4-6 or order from the truck’s full menu with a portion of proceeds going to the Church from 6-7. Tickets can be purchased at Glenboro Pharmacy or Glenboro Homehardware.
URL:https://prairietopinerc.ca/event/food-truck-fundraiser-to-support-glenboro-united-church/
LOCATION:Manitoba
CATEGORIES:Community of Faith Events calendar,Events
END:VEVENT
BEGIN:VEVENT
DTSTART;TZID=America/Winnipeg:20241001T110000
DTEND;TZID=America/Winnipeg:20241001T140000
DTSTAMP:20260425T100735
CREATED:20240828T150649Z
LAST-MODIFIED:20240909T214903Z
UID:10001390-1727780400-1727791200@prairietopinerc.ca
SUMMARY:Seniors for Climate (Climate Action EXPO)
DESCRIPTION:The Expo will be an opportunity to meet and have discussions with Winnipeg seniors and to browse 30 exhibits providing all kinds of solutions to help us all move forward. \nOur event is one of 60 planned across the country by Seniors for Climate. We are seniors deeply alarmed by the climate crisis. Our goal is to build a cross-Canada community of seniors to create a live able future. We need faster and better climate action. \nAdditional information is on our websites seniorsforclimate.org and considerclimatemb.ca/events. Here is a link for a videoclip: https://www.youtube.com/watch?v=4uv7_LzRkeE \nOctober First is National Seniors Day. Seniors for Climate is holding a Seniors Climate Action Day across Canada. Join us to learn what you can do to create a sustainable future. \nTuesday\, October 1st\, 11 am to 2 pm @ The Forks
URL:https://prairietopinerc.ca/event/seniors-for-climate-climate-action-expo/
LOCATION:The Forks Centre Field\, 1 Forks Market Rd\, Winnipeg\, Manitoba\, R3C 4X1\, Canada
CATEGORIES:Community of Faith Events calendar,Events
ATTACH;FMTTYPE=image/jpeg:https://prairietopinerc.ca/wp-content/uploads/2024/08/Seniors-for-Climate-2.jpg
END:VEVENT
BEGIN:VEVENT
DTSTART;TZID=America/Winnipeg:20241001T150000
DTEND;TZID=America/Winnipeg:20241001T150000
DTSTAMP:20260425T100735
CREATED:20220112T004818Z
LAST-MODIFIED:20220907T162050Z
UID:10000402-1727794800-1727794800@prairietopinerc.ca
SUMMARY:Ministry Personnel Support Gathering
DESCRIPTION:Gatherings will be held every first Tuesday of the month at 3:00 p.m. Here is the Zoom link information.
URL:https://prairietopinerc.ca/event/ministry-personnel-support-gathering-12/2024-10-01/
LOCATION:Manitoba
CATEGORIES:Events,Regional
END:VEVENT
BEGIN:VEVENT
DTSTART;TZID=America/Winnipeg:20241005T153000
DTEND;TZID=America/Winnipeg:20241005T170000
DTSTAMP:20260425T100735
CREATED:20240924T144038Z
LAST-MODIFIED:20240924T144038Z
UID:10001399-1728142200-1728147600@prairietopinerc.ca
SUMMARY:Messy Church at Harrow\, 355 Mulvey Ave.
DESCRIPTION:Pets are Special ! Open to all. Story video about St. Francis and the Wolf\, Pet Blessings with Rev. Marc\, crafts and snacks. If possible\, bring a donation for the Humane Society (cans of cat or dog food\, pet toys \, litter etc.) You may bring your pet\, on a leash or in carrier\, or bring a photo to share with others. You do not have to have a pet to participate as we can guarantee there will be some live pets as well as some small children bring stuffies.
URL:https://prairietopinerc.ca/event/messy-church-at-harrow-355-mulvey-ave/
LOCATION:Harrow United Church\, 955 Mulvey Avenue\, Winnipeg\, Manitoba\, R3M 1G8\, Canada
CATEGORIES:Community of Faith Events calendar,Events
END:VEVENT
BEGIN:VEVENT
DTSTART;TZID=America/Winnipeg:20241005T153000
DTEND;TZID=America/Winnipeg:20241005T170000
DTSTAMP:20260425T100735
CREATED:20240925T213046Z
LAST-MODIFIED:20240925T213046Z
UID:10001403-1728142200-1728147600@prairietopinerc.ca
SUMMARY:Messy Church at Harrow UC\, 955 Mulvey Ave. (Winnipeg)
DESCRIPTION:Pets are Special ! All ages event. Pet blessings\, video story about St. Francis and the Wolf\, crafts and snacks. Bring a donation for the Humane Society (pet food\, toys\, litter etc.)
URL:https://prairietopinerc.ca/event/messy-church-at-harrow-uc-955-mulvey-ave-winnipeg/
LOCATION:Harrow United Church\, 955 Mulvey Avenue\, Winnipeg\, Manitoba\, R3M 1G8\, Canada
CATEGORIES:Community of Faith Events calendar,Events
ATTACH;FMTTYPE=image/jpeg:https://prairietopinerc.ca/wp-content/uploads/2024/09/A6F63259-C7EA-47CB-82D3-F42A7889897F.jpeg
END:VEVENT
END:VCALENDAR