BEGIN:VCALENDAR
VERSION:2.0
PRODID:-//Prairie to Pine Regional Council - ECPv6.15.20//NONSGML v1.0//EN
CALSCALE:GREGORIAN
METHOD:PUBLISH
X-WR-CALNAME:Prairie to Pine Regional Council
X-ORIGINAL-URL:https://prairietopinerc.ca
X-WR-CALDESC:Events for Prairie to Pine Regional Council
REFRESH-INTERVAL;VALUE=DURATION:PT1H
X-Robots-Tag:noindex
X-PUBLISHED-TTL:PT1H
BEGIN:VTIMEZONE
TZID:America/Winnipeg
BEGIN:DAYLIGHT
TZOFFSETFROM:-0600
TZOFFSETTO:-0500
TZNAME:CDT
DTSTART:20230312T080000
END:DAYLIGHT
BEGIN:STANDARD
TZOFFSETFROM:-0500
TZOFFSETTO:-0600
TZNAME:CST
DTSTART:20231105T070000
END:STANDARD
BEGIN:DAYLIGHT
TZOFFSETFROM:-0600
TZOFFSETTO:-0500
TZNAME:CDT
DTSTART:20240310T080000
END:DAYLIGHT
BEGIN:STANDARD
TZOFFSETFROM:-0500
TZOFFSETTO:-0600
TZNAME:CST
DTSTART:20241103T070000
END:STANDARD
BEGIN:DAYLIGHT
TZOFFSETFROM:-0600
TZOFFSETTO:-0500
TZNAME:CDT
DTSTART:20250309T080000
END:DAYLIGHT
BEGIN:STANDARD
TZOFFSETFROM:-0500
TZOFFSETTO:-0600
TZNAME:CST
DTSTART:20251102T070000
END:STANDARD
END:VTIMEZONE
BEGIN:VEVENT
DTSTART;TZID=America/Winnipeg:20240915T130000
DTEND;TZID=America/Winnipeg:20240915T160000
DTSTAMP:20260425T115612
CREATED:20240823T191543Z
LAST-MODIFIED:20240828T150013Z
UID:10001389-1726405200-1726416000@prairietopinerc.ca
SUMMARY:We Are All Treaty People Celebration 
DESCRIPTION:The Forks Centre Field Sunday\, September\, 15\, 2024\,  1 – 4 p.m. (Pipe and Water ceremony starting at 12 noon.) \nJoin us for music and dance by Indigenous and non-Indigenous performers\, information about Treaties\, Indigenous arts and crafts\, free food\, family-friendly games and fun. \nFeaturing: Fontine\, Scott Nolan\, Duncan Mercredi\, Island Breeze Manitoba and more! \nOrganized by MCC Manitoba with Winnipeg Quakers\, TRC Action Committee United Church\, and the Diocese of Rupert’s Land (Anglican) in partnership with the Treaty Relations Commission of Manitoba (TRCM).
URL:https://prairietopinerc.ca/event/we-are-all-treaty-people-celebration-2/
LOCATION:The Forks Centre Field\, 1 Forks Market Rd\, Winnipeg\, Manitoba\, R3C 4X1\, Canada
CATEGORIES:Community of Faith Events calendar,Events
ATTACH;FMTTYPE=application/pdf:https://prairietopinerc.ca/wp-content/uploads/2024/08/WeAreAllTreatyPeopleCelebration24_poster_Final.pdf
END:VEVENT
END:VCALENDAR