BEGIN:VCALENDAR
VERSION:2.0
PRODID:-//Prairie to Pine Regional Council - ECPv6.15.20//NONSGML v1.0//EN
CALSCALE:GREGORIAN
METHOD:PUBLISH
X-WR-CALNAME:Prairie to Pine Regional Council
X-ORIGINAL-URL:https://prairietopinerc.ca
X-WR-CALDESC:Events for Prairie to Pine Regional Council
REFRESH-INTERVAL;VALUE=DURATION:PT1H
X-Robots-Tag:noindex
X-PUBLISHED-TTL:PT1H
BEGIN:VTIMEZONE
TZID:America/Winnipeg
BEGIN:DAYLIGHT
TZOFFSETFROM:-0600
TZOFFSETTO:-0500
TZNAME:CDT
DTSTART:20230312T080000
END:DAYLIGHT
BEGIN:STANDARD
TZOFFSETFROM:-0500
TZOFFSETTO:-0600
TZNAME:CST
DTSTART:20231105T070000
END:STANDARD
BEGIN:DAYLIGHT
TZOFFSETFROM:-0600
TZOFFSETTO:-0500
TZNAME:CDT
DTSTART:20240310T080000
END:DAYLIGHT
BEGIN:STANDARD
TZOFFSETFROM:-0500
TZOFFSETTO:-0600
TZNAME:CST
DTSTART:20241103T070000
END:STANDARD
BEGIN:DAYLIGHT
TZOFFSETFROM:-0600
TZOFFSETTO:-0500
TZNAME:CDT
DTSTART:20250309T080000
END:DAYLIGHT
BEGIN:STANDARD
TZOFFSETFROM:-0500
TZOFFSETTO:-0600
TZNAME:CST
DTSTART:20251102T070000
END:STANDARD
END:VTIMEZONE
BEGIN:VEVENT
DTSTART;TZID=America/Winnipeg:20240708T090000
DTEND;TZID=America/Winnipeg:20240802T150000
DTSTAMP:20260425T115617
CREATED:20240605T160438Z
LAST-MODIFIED:20240605T160438Z
UID:10000997-1720429200-1722610800@prairietopinerc.ca
SUMMARY:Manitoba Summer Day Camps
DESCRIPTION:Summer day camps at different locations are being offered by A Rocha Manitoba.  A Rocha Manitoba is a local environmental and faith-based nonprofit. These camps are designed to educate and captivate young minds about environmental stewardship and care in creation. \n\nRiver East\, July 8 (9:00 am)-July 12 (3 pm) CDT\, Registration: $135\nCommunity Roots Resource Centre\, July 15 (9:00 am)-July 19 (3:00 pm) CDT\, Registration $135\nSt. Margaret’s\, July 29 (9:00 am)-August 2 (3:00 p\,) CDT. Registration: $135
URL:https://prairietopinerc.ca/event/manitoba-summer-day-camps/
LOCATION:Manitoba
CATEGORIES:Community of Faith Events calendar,Events
END:VEVENT
BEGIN:VEVENT
DTSTART;TZID=America/Winnipeg:20240709T083000
DTEND;TZID=America/Winnipeg:20240802T160000
DTSTAMP:20260425T115617
CREATED:20240605T161717Z
LAST-MODIFIED:20240605T161717Z
UID:10000998-1720513800-1722614400@prairietopinerc.ca
SUMMARY:Earthsong
DESCRIPTION:Earthsong is a local vacation you can give yourself!  (July 29 through August 2\, 2024\, 8:30 to 4:00) Whether you are a seasoned singer or new to singing there is a place for you in Earthsong.  Build connections with Earth and other people as we lift our voices in song and explore movement\, community and spiritual practices which will encourage creative expressions of gratitude\, lament and hope for Creation.  Making time for joy is a practical way to heal ourselves and heal Earth. \nAll you need is a desire to sing and love for Earth. NO EXPERIENCE REQUIRED. \nClick here for more information.
URL:https://prairietopinerc.ca/event/earthsong/
LOCATION:United Church in Meadowood\, 1111 Dakota St\, Winnipeg\, MB\, R2N3T7\, Canada
CATEGORIES:Community of Faith Events calendar,Events
ATTACH;FMTTYPE=image/jpeg:https://prairietopinerc.ca/wp-content/uploads/2024/06/2024-earthsong-poster-MC-FB-1640x924-1.jpg
END:VEVENT
BEGIN:VEVENT
DTSTART;TZID=America/Winnipeg:20240721T110000
DTEND;TZID=America/Winnipeg:20240721T120000
DTSTAMP:20260425T115617
CREATED:20240419T174952Z
LAST-MODIFIED:20240419T174952Z
UID:10000973-1721559600-1721563200@prairietopinerc.ca
SUMMARY:Summer Sunday Services at West Hawk Lake UC begins May 19th
DESCRIPTION:We are pleased to announce that the Summer Worship Service at West Hawk United Church will held at 11:00 am every Sunday until at least the September long weekend. (RC Chapel once again will be held on Sundays at 9 am.) \nA variety of supply ministers and lay leadership will attend each service. The Steering Committee is also receptive to making facilities available for other appropriate uses and gatherings such as weddings\, funerals\, family gatherings\, retreats\, \nFor more info contact Mike Balshaw: westhawk.unitedchurch@gmail.com
URL:https://prairietopinerc.ca/event/summer-sunday-services-at-west-hawk-lake-uc-begins-may-19th/2024-07-21/
LOCATION:West Hawk Lake United Church\, Provincial Trunk Hwy 44\, Whiteshell\, Manitoba\, R0E 2H0\, Canada
CATEGORIES:Community of Faith Events calendar,Events
END:VEVENT
BEGIN:VEVENT
DTSTART;TZID=America/Winnipeg:20240722T093000
DTEND;TZID=America/Winnipeg:20240726T150000
DTSTAMP:20260425T115617
CREATED:20240605T145305Z
LAST-MODIFIED:20240605T145305Z
UID:10000995-1721640600-1722006000@prairietopinerc.ca
SUMMARY:Westworth United Church (Winnipeg) Daily Vacation Bible School
DESCRIPTION:Join us at Westworth as we explore Compassion Camp: What Every Living Thing Needs\, and explore what all living things need to live – shelter\, food\, water\, air\, and community though the lens of Psalm 104.  \nJuly 22-26\, 2024\, 9:30 am-3:00 pm\, Westworth United Church (1750 Grosvenor Avenue\, Winnipeg)
URL:https://prairietopinerc.ca/event/westworth-united-church-winnipeg-daily-vacation-bible-school/
LOCATION:Westworth United Church\, 1750 Grosvenor Avenue\, Winnipeg\, Manitoba\, R3N 0H9\, Canada
CATEGORIES:Community of Faith Events calendar,Events
ATTACH;FMTTYPE=application/pdf:https://prairietopinerc.ca/wp-content/uploads/2024/06/2024-Westworth-UC-VBS.pdf
END:VEVENT
BEGIN:VEVENT
DTSTART;TZID=America/Winnipeg:20240722T190000
DTEND;TZID=America/Winnipeg:20240722T203000
DTSTAMP:20260425T115617
CREATED:20240517T211539Z
LAST-MODIFIED:20240517T211540Z
UID:10000935-1721674800-1721680200@prairietopinerc.ca
SUMMARY:Climate justice and financing open monthly meetings
DESCRIPTION:Prairie to Pine’s monthly online meeting on climate justice and financing\, 22nd of every month\, 7:00 PM\nYour or your community of faith have received a letter from Prairie to Pine encouraging  you to start a conversation with your bank or credit union  about where your money is invested.  The concern has to do with the billions of dollars that Canadian banks are investing in fossil fuel expansion- and the good those funds could do if invested in sustainable\, community-based energy. All the background documents and the latest news are here on our Climate Justice webpage. \nWe will be offering a monthly Zoom forum  at 7:00PM CDT (CST after the time change) on the 22nd of each month over the coming year. This will be your opportunity to discuss actions\, ask questions\, get support and celebrate action. We want to support you to take action\, to express your concerns\, to explore what divesting might mean for you or your community of faith. All welcome! You can also contact committee chairperson Lynda Trono at lyndatrono(at)gmail(dot)com \nRecurring link details for:\nMay 22\, 2024 07:00 PM \nSaturday Jun 22\, 2024 07:00 PM \nMonday  Jul 22\, 2024 07:00 PM \nThursday   Aug 22\, 2024 07:00 PM \nSunday Sep 22\, 2024 07:00 PM \nTuesday  Oct 22\, 2024 07:00 PM \nFriday Nov 22\, 2024 07:00 PM \n(It’s likely we aren’t meeting Dec 22!) \nMeeting ID: 830 1029 1982 \nPassword: 274282 \n855 703 8985 Canada Toll-free \nMonthly recurring link: https://united-church.zoom.us/j/83010291982?pwd=IxEWfaGQPPJQXZwph3VctYlMtPq4bX.1 \nPlease download and import the following iCalendar (.ics) files to your calendar to help you keep track!\nhttps://united-church.zoom.us/meeting/tZctdumqpzojEtbc1bf7Z19Tmwsv_X-gMir_/ics?icsToken=98tyKuGrrjoqGN2UuRGFRpwqAoj4c-rxmH5Ej7dfn07nBXdpM1rCO_VRJI1HXd_9 \n 
URL:https://prairietopinerc.ca/event/earth-week-climate-justice-and-financing-open-meeting-2/2024-07-22/
LOCATION:Zoom
CATEGORIES:Events,Regional
ATTACH;FMTTYPE=image/png:https://prairietopinerc.ca/wp-content/uploads/2023/06/EarthMoreValuableThanMoney.png
END:VEVENT
BEGIN:VEVENT
DTSTART;TZID=America/Winnipeg:20240725T093000
DTEND;TZID=America/Winnipeg:20240725T123000
DTSTAMP:20260425T115617
CREATED:20230823T015149Z
LAST-MODIFIED:20230823T015149Z
UID:10000728-1721899800-1721910600@prairietopinerc.ca
SUMMARY:Committee on Community of Faith Support
DESCRIPTION:The Committee on Community of Faith Support is holding its regular meeting via Zoom every fourth Thursday of the month.
URL:https://prairietopinerc.ca/event/committee-on-community-of-faith-support/2024-07-25/
LOCATION:Manitoba
CATEGORIES:Events,Regional
END:VEVENT
END:VCALENDAR