BEGIN:VCALENDAR
VERSION:2.0
PRODID:-//Prairie to Pine Regional Council - ECPv6.15.20//NONSGML v1.0//EN
CALSCALE:GREGORIAN
METHOD:PUBLISH
X-WR-CALNAME:Prairie to Pine Regional Council
X-ORIGINAL-URL:https://prairietopinerc.ca
X-WR-CALDESC:Events for Prairie to Pine Regional Council
REFRESH-INTERVAL;VALUE=DURATION:PT1H
X-Robots-Tag:noindex
X-PUBLISHED-TTL:PT1H
BEGIN:VTIMEZONE
TZID:America/Winnipeg
BEGIN:DAYLIGHT
TZOFFSETFROM:-0600
TZOFFSETTO:-0500
TZNAME:CDT
DTSTART:20230312T080000
END:DAYLIGHT
BEGIN:STANDARD
TZOFFSETFROM:-0500
TZOFFSETTO:-0600
TZNAME:CST
DTSTART:20231105T070000
END:STANDARD
BEGIN:DAYLIGHT
TZOFFSETFROM:-0600
TZOFFSETTO:-0500
TZNAME:CDT
DTSTART:20240310T080000
END:DAYLIGHT
BEGIN:STANDARD
TZOFFSETFROM:-0500
TZOFFSETTO:-0600
TZNAME:CST
DTSTART:20241103T070000
END:STANDARD
BEGIN:DAYLIGHT
TZOFFSETFROM:-0600
TZOFFSETTO:-0500
TZNAME:CDT
DTSTART:20250309T080000
END:DAYLIGHT
BEGIN:STANDARD
TZOFFSETFROM:-0500
TZOFFSETTO:-0600
TZNAME:CST
DTSTART:20251102T070000
END:STANDARD
END:VTIMEZONE
BEGIN:VEVENT
DTSTART;TZID=America/Winnipeg:20240630T110000
DTEND;TZID=America/Winnipeg:20240630T120000
DTSTAMP:20260425T115617
CREATED:20240419T174952Z
LAST-MODIFIED:20240419T174952Z
UID:10000970-1719745200-1719748800@prairietopinerc.ca
SUMMARY:Summer Sunday Services at West Hawk Lake UC begins May 19th
DESCRIPTION:We are pleased to announce that the Summer Worship Service at West Hawk United Church will held at 11:00 am every Sunday until at least the September long weekend. (RC Chapel once again will be held on Sundays at 9 am.) \nA variety of supply ministers and lay leadership will attend each service. The Steering Committee is also receptive to making facilities available for other appropriate uses and gatherings such as weddings\, funerals\, family gatherings\, retreats\, \nFor more info contact Mike Balshaw: westhawk.unitedchurch@gmail.com
URL:https://prairietopinerc.ca/event/summer-sunday-services-at-west-hawk-lake-uc-begins-may-19th/2024-06-30/
LOCATION:West Hawk Lake United Church\, Provincial Trunk Hwy 44\, Whiteshell\, Manitoba\, R0E 2H0\, Canada
CATEGORIES:Community of Faith Events calendar,Events
END:VEVENT
BEGIN:VEVENT
DTSTART;TZID=America/Winnipeg:20240702T150000
DTEND;TZID=America/Winnipeg:20240702T150000
DTSTAMP:20260425T115617
CREATED:20220112T004818Z
LAST-MODIFIED:20220907T162050Z
UID:10000399-1719932400-1719932400@prairietopinerc.ca
SUMMARY:Ministry Personnel Support Gathering
DESCRIPTION:Gatherings will be held every first Tuesday of the month at 3:00 p.m. Here is the Zoom link information.
URL:https://prairietopinerc.ca/event/ministry-personnel-support-gathering-12/2024-07-02/
LOCATION:Manitoba
CATEGORIES:Events,Regional
END:VEVENT
BEGIN:VEVENT
DTSTART;TZID=America/Winnipeg:20240706T100000
DTEND;TZID=America/Winnipeg:20240706T110000
DTSTAMP:20260425T115617
CREATED:20240619T023732Z
LAST-MODIFIED:20240619T023732Z
UID:10001378-1720260000-1720263600@prairietopinerc.ca
SUMMARY:Summer Wild Church event
DESCRIPTION:When: Saturday\, July 6\, 10am \nWhere: 5740 Highway 26\, 3 km east of Poplar Point\, MB. Take Hwy 1\, then north on Hwy 430\, then east on Hwy 26 through Poplar Point to #5740. Look for the “Oxbow Brand” Wagon Wheel at end of the driveway \nWhat: Approximately 1 hour outdoor service including song\, prayer\, dance\, and “wandering and wondering” time \nDetails: There are washrooms available. We will gather rain or shine\, so dress for the weather and bring water. The wandering time will be at your own pace\, in a backyard or in forested areas (be aware there still may be ticks out). Bring a lawn chair if you wish to sit during the gathered times. \nWe encourage you to host your own Wild Church experience close to where you live. A copy of the service that you may use or adapt can be found here: https://docs.google.com/document/d/1-bKJgb6i7F4EggqZxD-HliiyF13WlwHnZJyNXszb4bk/edit?usp=drive_link  \nFor more information\, please contact Brenda Brand\, Karen Tjaden\, or Kristin Woodburke
URL:https://prairietopinerc.ca/event/summer-wild-church-event/
LOCATION:Oxbow Brand Home\, 5740 Highway 26\, Poplar Point\, MB\, Canada
CATEGORIES:Community of Faith Events calendar,Events,Regional,Worship
ATTACH;FMTTYPE=image/png:https://prairietopinerc.ca/wp-content/uploads/2024/06/Screenshot-50.png
END:VEVENT
END:VCALENDAR