BEGIN:VCALENDAR
VERSION:2.0
PRODID:-//Prairie to Pine Regional Council - ECPv6.15.20//NONSGML v1.0//EN
CALSCALE:GREGORIAN
METHOD:PUBLISH
X-ORIGINAL-URL:https://prairietopinerc.ca
X-WR-CALDESC:Events for Prairie to Pine Regional Council
REFRESH-INTERVAL;VALUE=DURATION:PT1H
X-Robots-Tag:noindex
X-PUBLISHED-TTL:PT1H
BEGIN:VTIMEZONE
TZID:America/Winnipeg
BEGIN:DAYLIGHT
TZOFFSETFROM:-0600
TZOFFSETTO:-0500
TZNAME:CDT
DTSTART:20240310T080000
END:DAYLIGHT
BEGIN:STANDARD
TZOFFSETFROM:-0500
TZOFFSETTO:-0600
TZNAME:CST
DTSTART:20241103T070000
END:STANDARD
BEGIN:DAYLIGHT
TZOFFSETFROM:-0600
TZOFFSETTO:-0500
TZNAME:CDT
DTSTART:20250309T080000
END:DAYLIGHT
BEGIN:STANDARD
TZOFFSETFROM:-0500
TZOFFSETTO:-0600
TZNAME:CST
DTSTART:20251102T070000
END:STANDARD
BEGIN:DAYLIGHT
TZOFFSETFROM:-0600
TZOFFSETTO:-0500
TZNAME:CDT
DTSTART:20260308T080000
END:DAYLIGHT
BEGIN:STANDARD
TZOFFSETFROM:-0500
TZOFFSETTO:-0600
TZNAME:CST
DTSTART:20261101T070000
END:STANDARD
END:VTIMEZONE
BEGIN:VEVENT
DTSTART;TZID=America/Winnipeg:20250418T190000
DTEND;TZID=America/Winnipeg:20250418T210000
DTSTAMP:20260425T060914
CREATED:20250321T040549Z
LAST-MODIFIED:20250403T221228Z
UID:10001538-1745002800-1745010000@prairietopinerc.ca
SUMMARY:Holy Week Traveling Youth Group
DESCRIPTION:Our April Event is happening at The United Church in Meadowood (1111 Dakota St.) on April 18th Good Friday from 7-9pm for youth Grade 5-12. \nJoin us on Good Friday to explore Holy Week as we journey from the Cross to the Grave to the Sky through dramatic bible retellings\, music\, games\, relay races\, crafts and snacks. \nCome show off your creative writing skills or your dramatic acting skills as we retell the stories of Jesus entering Jerusalem on palm sunday\, hung on the cross on Good Friday\, and resurrected on Easter Sunday. \nThen show off your creativity as we decorate easter eggs and egg-shaped cookies for snack. Do you know what the egg represents? \nLastly are you competitive? Come compete in Easter themed games and relay races. \nSign up Here Now
URL:https://prairietopinerc.ca/event/holy-week-traveling-youth-group/
LOCATION:United Church in Meadowood\, 1111 Dakota St\, Winnipeg\, MB\, R2N3T7\, Canada
CATEGORIES:Community of Faith Events calendar,Events,Young Adults and Youth
ATTACH;FMTTYPE=image/png:https://prairietopinerc.ca/wp-content/uploads/2025/03/April-2025-TYG.png
END:VEVENT
END:VCALENDAR