BEGIN:VCALENDAR
VERSION:2.0
PRODID:-//Prairie to Pine Regional Council - ECPv6.15.20//NONSGML v1.0//EN
CALSCALE:GREGORIAN
METHOD:PUBLISH
X-WR-CALNAME:Prairie to Pine Regional Council
X-ORIGINAL-URL:https://prairietopinerc.ca
X-WR-CALDESC:Events for Prairie to Pine Regional Council
REFRESH-INTERVAL;VALUE=DURATION:PT1H
X-Robots-Tag:noindex
X-PUBLISHED-TTL:PT1H
BEGIN:VTIMEZONE
TZID:America/Winnipeg
BEGIN:DAYLIGHT
TZOFFSETFROM:-0600
TZOFFSETTO:-0500
TZNAME:CDT
DTSTART:20240310T080000
END:DAYLIGHT
BEGIN:STANDARD
TZOFFSETFROM:-0500
TZOFFSETTO:-0600
TZNAME:CST
DTSTART:20241103T070000
END:STANDARD
BEGIN:DAYLIGHT
TZOFFSETFROM:-0600
TZOFFSETTO:-0500
TZNAME:CDT
DTSTART:20250309T080000
END:DAYLIGHT
BEGIN:STANDARD
TZOFFSETFROM:-0500
TZOFFSETTO:-0600
TZNAME:CST
DTSTART:20251102T070000
END:STANDARD
BEGIN:DAYLIGHT
TZOFFSETFROM:-0600
TZOFFSETTO:-0500
TZNAME:CDT
DTSTART:20260308T080000
END:DAYLIGHT
BEGIN:STANDARD
TZOFFSETFROM:-0500
TZOFFSETTO:-0600
TZNAME:CST
DTSTART:20261101T070000
END:STANDARD
END:VTIMEZONE
BEGIN:VEVENT
DTSTART;TZID=America/Winnipeg:20250910T163000
DTEND;TZID=America/Winnipeg:20250910T183000
DTSTAMP:20260424T080320
CREATED:20250723T202129Z
LAST-MODIFIED:20250723T202129Z
UID:10001611-1757521800-1757529000@prairietopinerc.ca
SUMMARY:Fort Garry United Church Community BBQ
DESCRIPTION:Annual Community BBQ.\nDate: Wednesday\, September 10\, 2025\nTime: 4:30 to 6:30 PM\nLocation: Fort Garry United Church\, 800 Point Road Winnipeg\nThis event is a highlight of our year\, drawing friends and neighbours for an evening of delicious food\, fun activities\, and live music. We offer a full BBQ supper—hot dogs\, salads\, cookies\, and ice cream—for just $5 per person\, making it a popular and well-attended gathering.\nWe are inviting local groups and organizations to host a table at the BBQ. This is a great opportunity to connect with our community\, share information about your programs or services\, and enjoy a warm and welcoming atmosphere.
URL:https://prairietopinerc.ca/event/fort-garry-united-church-community-bbq/
LOCATION:Fort Garry United Church\, 800 Point Rd\, Winnipeg\, MB\, Winnipeg\, Manitoba\, R3T 3L8\, Canada
CATEGORIES:Community of Faith Events calendar,Events
ATTACH;FMTTYPE=image/jpeg:https://prairietopinerc.ca/wp-content/uploads/2025/07/Communtiy-BBQ-Made-with-PosterMyWall-2.jpg
ORGANIZER;CN="Mavis Allison":MAILTO:wasagawomensweekend@gmail.com
END:VEVENT
BEGIN:VEVENT
DTSTART;TZID=America/Winnipeg:20250912T190000
DTEND;TZID=America/Winnipeg:20250914T120000
DTSTAMP:20260424T080320
CREATED:20250902T171920Z
LAST-MODIFIED:20250902T171920Z
UID:10001618-1757703600-1757851200@prairietopinerc.ca
SUMMARY:Youth Leadership Retreat
DESCRIPTION:Leadership Event\nfor Future Leaders wanting to pursue Leadership Roles\nFriday Sept 12th to Sunday Sept 14th\, 2025 \nChurchill Park United Church\n525 Beresford Ave. Winnipeg\, MB \nWhile the ALF Planning Team is meeting\, future leaders will gather in the same building to learn leadership skills. They will join in a YAAY meeting\, plan and lead a Travelling Youth Group that other children and youth will attend Saturday evening\, and participate in worship on Sunday morning. \nTo make it both a good learning environment and a manageable event for our hosts\, SPACE IS LIMITED so YOUTH be sure to click on the blue button below ASAP to let us know if you’re interested.
URL:https://prairietopinerc.ca/event/youth-leadership-retreat/
LOCATION:Churchill Park United Church\, 525 Beresford Ave\, Winnipeg\, Manitoba\, R3L 1J4\, Canada
CATEGORIES:Community of Faith Events calendar,Events,Regional,Young Adults and Youth
ATTACH;FMTTYPE=image/jpeg:https://prairietopinerc.ca/wp-content/uploads/2025/08/Leadership-Event-2025.jpg
END:VEVENT
BEGIN:VEVENT
DTSTART;TZID=America/Winnipeg:20250913T190000
DTEND;TZID=America/Winnipeg:20250913T210000
DTSTAMP:20260424T080320
CREATED:20250908T164759Z
LAST-MODIFIED:20250909T002642Z
UID:10001890-1757790000-1757797200@prairietopinerc.ca
SUMMARY:Travelling Youth Group
DESCRIPTION:Travelling Youth Group is back for a new school year! Are you Grade 6-12? Join us Saturday September 13th 7-9pm at Churchill Park United Church for Activities and worship led by the leadership event participants. \nRegister Here
URL:https://prairietopinerc.ca/event/traveling-youth-group-2/
LOCATION:Churchill Park United Church\, 525 Beresford Ave\, Winnipeg\, Manitoba\, R3L 1J4\, Canada
CATEGORIES:Community of Faith Events calendar,Events,Regional,Young Adults and Youth
ATTACH;FMTTYPE=image/jpeg:https://prairietopinerc.ca/wp-content/uploads/2025/09/TYG-Sept-2025.jpeg
END:VEVENT
END:VCALENDAR