BEGIN:VCALENDAR
VERSION:2.0
PRODID:-//Prairie to Pine Regional Council - ECPv6.15.20//NONSGML v1.0//EN
CALSCALE:GREGORIAN
METHOD:PUBLISH
X-ORIGINAL-URL:https://prairietopinerc.ca
X-WR-CALDESC:Events for Prairie to Pine Regional Council
REFRESH-INTERVAL;VALUE=DURATION:PT1H
X-Robots-Tag:noindex
X-PUBLISHED-TTL:PT1H
BEGIN:VTIMEZONE
TZID:America/Winnipeg
BEGIN:DAYLIGHT
TZOFFSETFROM:-0600
TZOFFSETTO:-0500
TZNAME:CDT
DTSTART:20230312T080000
END:DAYLIGHT
BEGIN:STANDARD
TZOFFSETFROM:-0500
TZOFFSETTO:-0600
TZNAME:CST
DTSTART:20231105T070000
END:STANDARD
BEGIN:DAYLIGHT
TZOFFSETFROM:-0600
TZOFFSETTO:-0500
TZNAME:CDT
DTSTART:20240310T080000
END:DAYLIGHT
BEGIN:STANDARD
TZOFFSETFROM:-0500
TZOFFSETTO:-0600
TZNAME:CST
DTSTART:20241103T070000
END:STANDARD
BEGIN:DAYLIGHT
TZOFFSETFROM:-0600
TZOFFSETTO:-0500
TZNAME:CDT
DTSTART:20250309T080000
END:DAYLIGHT
BEGIN:STANDARD
TZOFFSETFROM:-0500
TZOFFSETTO:-0600
TZNAME:CST
DTSTART:20251102T070000
END:STANDARD
END:VTIMEZONE
BEGIN:VEVENT
DTSTART;TZID=America/Winnipeg:20241026T100000
DTEND;TZID=America/Winnipeg:20241026T130000
DTSTAMP:20260425T085353
CREATED:20240926T205509Z
LAST-MODIFIED:20240926T205509Z
UID:10001409-1729936800-1729947600@prairietopinerc.ca
SUMMARY:Timeless Treasures and Ye Olde English Tearoom
DESCRIPTION:Annual Sale and Tea Room at Westworth United Church. \nMark your calendar because you don’t want to miss the Westworth Timeless Treasures Sale and English Tea Room on Saturday October 26th from 10 a.m. to 1 p.m.! Bring your own shopping bag for some great shopping and then join us in the English Tea Room (parlour) for a fine cup of tea or coffee and home-made scones with jam and clotted cream. We will also have Ken Martin’s art work for sale in the sanctuary. \nDebit and credit are now available. Make it a special day and please invite your friends and neighbours! They will be glad you did.
URL:https://prairietopinerc.ca/event/timeless-treasures-and-ye-olde-english-tearoom-2/
LOCATION:Westworth United Church\, 1750 Grosvenor Avenue\, Winnipeg\, Manitoba\, R3N 0H9\, Canada
CATEGORIES:Community of Faith Events calendar,Events
ATTACH;FMTTYPE=image/jpeg:https://prairietopinerc.ca/wp-content/uploads/2024/09/Bazaar-poster-letter.jpg
END:VEVENT
END:VCALENDAR