BEGIN:VCALENDAR
VERSION:2.0
PRODID:-//Prairie to Pine Regional Council - ECPv6.15.20//NONSGML v1.0//EN
CALSCALE:GREGORIAN
METHOD:PUBLISH
X-ORIGINAL-URL:https://prairietopinerc.ca
X-WR-CALDESC:Events for Prairie to Pine Regional Council
REFRESH-INTERVAL;VALUE=DURATION:PT1H
X-Robots-Tag:noindex
X-PUBLISHED-TTL:PT1H
BEGIN:VTIMEZONE
TZID:America/Winnipeg
BEGIN:DAYLIGHT
TZOFFSETFROM:-0600
TZOFFSETTO:-0500
TZNAME:CDT
DTSTART:20250309T080000
END:DAYLIGHT
BEGIN:STANDARD
TZOFFSETFROM:-0500
TZOFFSETTO:-0600
TZNAME:CST
DTSTART:20251102T070000
END:STANDARD
BEGIN:DAYLIGHT
TZOFFSETFROM:-0600
TZOFFSETTO:-0500
TZNAME:CDT
DTSTART:20260308T080000
END:DAYLIGHT
BEGIN:STANDARD
TZOFFSETFROM:-0500
TZOFFSETTO:-0600
TZNAME:CST
DTSTART:20261101T070000
END:STANDARD
BEGIN:DAYLIGHT
TZOFFSETFROM:-0600
TZOFFSETTO:-0500
TZNAME:CDT
DTSTART:20270314T080000
END:DAYLIGHT
BEGIN:STANDARD
TZOFFSETFROM:-0500
TZOFFSETTO:-0600
TZNAME:CST
DTSTART:20271107T070000
END:STANDARD
END:VTIMEZONE
BEGIN:VEVENT
DTSTART;TZID=America/Winnipeg:20260203T150000
DTEND;TZID=America/Winnipeg:20260203T160000
DTSTAMP:20260422T095359
CREATED:20250924T171839Z
LAST-MODIFIED:20250924T171839Z
UID:10001974-1770130800-1770134400@prairietopinerc.ca
SUMMARY:Ministry Personnel Support Online Gathering
DESCRIPTION:Ministry Personnel Support Gathering. Tuesday\,  November 4\, 2025\, at 3:00 p.m. The monthly opportunity for Ministry Personnel from Prairie to Pine Regional Council (active & retired) to connect with one another via ZOOM. Here is the Zoom link information.
URL:https://prairietopinerc.ca/event/ministry-personnel-support-online-gathering/2026-02-03/
LOCATION:via Zoom
CATEGORIES:Events,Regional
END:VEVENT
BEGIN:VEVENT
DTSTART;TZID=America/Winnipeg:20260204T140000
DTEND;TZID=America/Winnipeg:20260204T150000
DTSTAMP:20260422T095359
CREATED:20250905T180848Z
LAST-MODIFIED:20250905T181104Z
UID:10001648-1770213600-1770217200@prairietopinerc.ca
SUMMARY:Online Bible Study with Jordan Cantwell
DESCRIPTION:Every Wednesday at 1 pm (SK time) \nDeep conversation \nSpiritual friendships \nFaith exploration \nNew participants always welcome! \nContact jcantwell@united-church.ca for more information. \nClick here to join:  https://bit.ly/41Vh93V
URL:https://prairietopinerc.ca/event/online-bible-study-with-jordan-cantwell/2026-02-04/
LOCATION:Online
CATEGORIES:Community of Faith Events calendar,Events,Regional
END:VEVENT
BEGIN:VEVENT
DTSTART;TZID=America/Winnipeg:20260211T140000
DTEND;TZID=America/Winnipeg:20260211T150000
DTSTAMP:20260422T095359
CREATED:20250905T180848Z
LAST-MODIFIED:20250905T181104Z
UID:10001649-1770818400-1770822000@prairietopinerc.ca
SUMMARY:Online Bible Study with Jordan Cantwell
DESCRIPTION:Every Wednesday at 1 pm (SK time) \nDeep conversation \nSpiritual friendships \nFaith exploration \nNew participants always welcome! \nContact jcantwell@united-church.ca for more information. \nClick here to join:  https://bit.ly/41Vh93V
URL:https://prairietopinerc.ca/event/online-bible-study-with-jordan-cantwell/2026-02-11/
LOCATION:Online
CATEGORIES:Community of Faith Events calendar,Events,Regional
END:VEVENT
BEGIN:VEVENT
DTSTART;TZID=America/Winnipeg:20260213T170000
DTEND;TZID=America/Winnipeg:20260213T190000
DTSTAMP:20260422T095359
CREATED:20250917T163306Z
LAST-MODIFIED:20260114T200124Z
UID:10001899-1771002000-1771009200@prairietopinerc.ca
SUMMARY:Messy Church
DESCRIPTION:WHAT IS MESSY CHURCH? \nMessy Church is an alternative way of Worship and Celebration! . It is rooted in the word of God\, and this is expressed in a variety of creative ways. It is a community of friends and families. It is for everyone between the ages of 3 and 95! You will be greeted with a warm welcome. There is a story on the evening’s theme. There is a communal and yummy meal. Following the meal\, there are 10 activity stations. There is something for young children\, something for trendy teens\, and something for thoughtful and creative adults. In fact …. Something for everyone. \nThe theme of the first Messy Church is God’s love personally experienced and also expressed through empathy. There is no better time to Pass it On! \nWe invite you to join us:\nOctober 10\,2025\, 5pm -7pm\nFort Garry United Church (800 Point Road\, Winnipeg)
URL:https://prairietopinerc.ca/event/messy-church-2/2026-02-13/
LOCATION:Fort Garry United Church\, 800 Point Rd\, Winnipeg\, MB\, Winnipeg\, Manitoba\, R3T 3L8\, Canada
CATEGORIES:Community of Faith Events calendar,Events
ORGANIZER;CN="Mavis Allison":MAILTO:wasagawomensweekend@gmail.com
END:VEVENT
BEGIN:VEVENT
DTSTART;TZID=America/Winnipeg:20260213T170000
DTEND;TZID=America/Winnipeg:20260213T220000
DTSTAMP:20260422T095359
CREATED:20260107T212415Z
LAST-MODIFIED:20260107T212415Z
UID:10002151-1771002000-1771020000@prairietopinerc.ca
SUMMARY:Dinner Theatre
DESCRIPTION:Join us February 13 for an evening of great food\, laughter\, and classic suspense!\nDoors open at 5:00 pm | Dinner at 6pm and Show to follow. \nEnjoy appetizers\, a roast beef dinner\, and exciting auction prizes—all for $50. \nThe evening features The 39 Steps\, presented by Hood and Dagger Productions\, adapted by Patrick Barlow from the novel by John Buchan and the classic film by Alfred Hitchcock. \n🎟️ Tickets: Contact Prairie Spirit United Church for tickets and information about payment options. 204-832-1000 or office@prairiespirituc.org \nDon’t miss this fun-filled night out—bring a friend and enjoy dinner and theatre together!
URL:https://prairietopinerc.ca/event/dinner-theatre/
LOCATION:Prairie Spirit United Church\, 207 Thompson Drive\, Winnipeg\, Manitoba\, R3J 3E2\, Canada
CATEGORIES:Community of Faith Events calendar,Events
ATTACH;FMTTYPE=image/jpeg:https://prairietopinerc.ca/wp-content/uploads/2026/01/39-Steps-Poster.jpg
ORGANIZER;CN="Prairie Spirit United Church":MAILTO:PrairieSpiritUC@shaw.ca
END:VEVENT
BEGIN:VEVENT
DTSTART;VALUE=DATE:20260214
DTEND;VALUE=DATE:20260215
DTSTAMP:20260422T095359
CREATED:20251211T014543Z
LAST-MODIFIED:20251211T014543Z
UID:10002072-1771027200-1771113599@prairietopinerc.ca
SUMMARY:Pink Triangle Day
DESCRIPTION:
URL:https://prairietopinerc.ca/event/pink-triangle-day/
LOCATION:MB
CATEGORIES:Events,Regional
END:VEVENT
BEGIN:VEVENT
DTSTART;TZID=America/Winnipeg:20260218T140000
DTEND;TZID=America/Winnipeg:20260218T150000
DTSTAMP:20260422T095359
CREATED:20250905T180848Z
LAST-MODIFIED:20250905T181104Z
UID:10001650-1771423200-1771426800@prairietopinerc.ca
SUMMARY:Online Bible Study with Jordan Cantwell
DESCRIPTION:Every Wednesday at 1 pm (SK time) \nDeep conversation \nSpiritual friendships \nFaith exploration \nNew participants always welcome! \nContact jcantwell@united-church.ca for more information. \nClick here to join:  https://bit.ly/41Vh93V
URL:https://prairietopinerc.ca/event/online-bible-study-with-jordan-cantwell/2026-02-18/
LOCATION:Online
CATEGORIES:Community of Faith Events calendar,Events,Regional
END:VEVENT
BEGIN:VEVENT
DTSTART;VALUE=DATE:20260220
DTEND;VALUE=DATE:20260221
DTSTAMP:20260422T095359
CREATED:20251211T014616Z
LAST-MODIFIED:20251211T014616Z
UID:10002073-1771545600-1771631999@prairietopinerc.ca
SUMMARY:World Day of Social Justice
DESCRIPTION:
URL:https://prairietopinerc.ca/event/world-day-of-social-justice/
LOCATION:MB
CATEGORIES:Events,Regional
END:VEVENT
BEGIN:VEVENT
DTSTART;TZID=America/Winnipeg:20260220T173000
DTEND;TZID=America/Winnipeg:20260220T193000
DTSTAMP:20260422T095359
CREATED:20250917T194031Z
LAST-MODIFIED:20250917T194031Z
UID:10001964-1771608600-1771615800@prairietopinerc.ca
SUMMARY:Messy Church
DESCRIPTION:Messy Church is church that is fun! It celebrates faith with creativity and hospitality! \nIt is Biblically based!\nIt is for everyone — all generations together!\nIt is a growing international community filled with enthusiasm and ideas to share Good News.\nAll are Welcome! \nJoin us at TMUC for Messy Church: stories\, songs\, crafts and a shared meal!
URL:https://prairietopinerc.ca/event/messy-church-8/
LOCATION:Transcona Memorial United Church\, 209 Yale Ave W.\, Winnipeg\, Manitoba\, R2C 1T9\, Canada
CATEGORIES:Community of Faith Events calendar,Events
ATTACH;FMTTYPE=image/png:https://prairietopinerc.ca/wp-content/uploads/2025/09/Image-4.png
END:VEVENT
BEGIN:VEVENT
DTSTART;TZID=America/Winnipeg:20260220T183000
DTEND;TZID=America/Winnipeg:20260222T130000
DTSTAMP:20260422T095359
CREATED:20251202T233549Z
LAST-MODIFIED:20260122T232831Z
UID:10002065-1771612200-1771765200@prairietopinerc.ca
SUMMARY:Zeebu 2026 Youth Retreat
DESCRIPTION: \n\nTheme: “Knowing our Neighbours: Many Religions\, One Community”\nIf you are a grade 7 to 12 youth\, we welcome you to join us at Harrow United Church in Winnipeg from February 20th to 22nd to learn about different faiths. \nMake friends with other youth from across the United Church’s Prairie to Pine Region while exploring the theme through Worship\, Song\, and Inter-active Theme Times\, probably including visits to one or more places of worship of people who practice other faith traditions than Christian. \nThe retreat wouldn’t be complete without social time — dancing\, games\, chatting over meals (and canteen treats)! …and then rolling out your sleeping bag on a church floor to dream sweet dreams surrounded by new and old friends resting up for another busy exciting day! \nThe retreat is planned by young people for young people. \nInvite your friends\, neighbours\, cousins (the ones you see often and the ones you would like to see more often!) \nHaven’t been to a retreat before?  – See: Retreat description for potential participants. \nTo allow all to attend\, no matter their family’s financial status\, the fee is suggested on a “pay what you can” scale from full fee of $100 down to $0\, with discounts for early registration. \n\nFirst time registrants enjoy a discounted fee of $85 right up to the registration deadline\, to give us time to get the word out to new families\n\nAll return retreat-goers: \n\n$5 off early bird fee if registered by Jan 9th -$85\nEarly bird fee if registered by Jan 28th – $90\nRegistration deadline: Feb 9th – $100\n\nSubsidized fees of $50 or $0 are also offered in the registration form for use by those who need that option. \nREGISTER HERE \nWe are also looking for leaders age 16+.  Interested?  Apply here ASAP.
URL:https://prairietopinerc.ca/event/zeebu-2026-youth-retreat/
LOCATION:Harrow United Church\, 955 Mulvey Avenue\, Winnipeg\, Manitoba\, R3M 1G8\, Canada
CATEGORIES:Events,Intercultural,LGBTQIA+ Affirming,Regional,Young Adults and Youth
ATTACH;FMTTYPE=image/jpeg:https://prairietopinerc.ca/wp-content/uploads/2025/12/ALF-2025-Group-pic-scaled-e1764712038169.jpg
END:VEVENT
BEGIN:VEVENT
DTSTART;TZID=America/Winnipeg:20260221T083000
DTEND;TZID=America/Winnipeg:20260221T113000
DTSTAMP:20260422T095359
CREATED:20260119T033913Z
LAST-MODIFIED:20260119T033913Z
UID:10002156-1771662600-1771673400@prairietopinerc.ca
SUMMARY:Dinner Theatre Tickets Sale & Pancake Breakfast
DESCRIPTION:All aboard!!! Get ready to set sail this April when the 13th Annual Caught in the Act Dinner Theatre presented by Transcona Memorial United Church launches Nothing But the Truth April 17\, 18 & 19 and April 25 & 26. Tickets go on sale Saturday February 21 from 8:30 am-11:30 am (Doors open at 8:15 am). Tickets are only $55 each ($20 tax receipt) and include a delicious meal and entertaining performance! Due to popular demand\, we’ve added an additional Saturday and Sunday performance and we expect all tickets will move fast! For more information on tickets and the production\, visit tmuc.ca/dinner-theatre. Sea you soon!\nPlay written by Philip J. Anderson and produced by special arrangement with PIONEER DRAMA SERVICE. Denver\, Colorado
URL:https://prairietopinerc.ca/event/dinner-theatre-tickets-sale-pancake-breakfast-2/
LOCATION:Transcona Memorial United Church\, 209 Yale Ave W.\, Winnipeg\, Manitoba\, R2C 1T9\, Canada
CATEGORIES:Community of Faith Events calendar,Events
ATTACH;FMTTYPE=image/jpeg:https://prairietopinerc.ca/wp-content/uploads/2026/01/TMUC-Dinner-Theatre-Poster-FINAL-1.pdf.jpg
END:VEVENT
BEGIN:VEVENT
DTSTART;TZID=America/Winnipeg:20260223T174500
DTEND;TZID=America/Winnipeg:20260223T210000
DTSTAMP:20260422T095359
CREATED:20260211T155242Z
LAST-MODIFIED:20260211T160020Z
UID:10002161-1771868700-1771880400@prairietopinerc.ca
SUMMARY:Walking with the Thunderbirdz
DESCRIPTION:Have you ever volunteered with one of the organizations that walks in Winnipeg’s inner city?  The Thunderbirdz is one of those groups with whom United Church youth and adults have been connecting since 2021. When we walk\, we present a friendly face and an offer of a sandwich or a bottle of water to someone for whom one of those things might be just what they need. \nWe have organized to walk again with the Thunderbirdz on Monday\, February 23rd\, 2026. \nMaybe you’d like to walk with us\, or maybe you’d like to make and bag individual portions of sandwiches/cookies/ Rice Krispy cake or buy fruit\, water\, granola bars\, socks or mitts for walkers to carry out to people. \nWe meet downtown at 5:45 pm with a backpack to carry items we will hand out.  Details in registration. \nRegister or offer food by clicking here \nQuestions: Contact Twila 204-781-8124
URL:https://prairietopinerc.ca/event/walking-with-the-thunderbirdz-3/
LOCATION:West end of parking lot at 181 Higgins\, 181 Higgins\, Winnipeg\, Manitoba\, Canada
CATEGORIES:Events,Intercultural,LGBTQIA+ Affirming,Regional,Right Relations,Young Adults and Youth
ATTACH;FMTTYPE=image/png:https://prairietopinerc.ca/wp-content/uploads/2026/02/2026-01-SMRUC-Tbirdz-walk.png
END:VEVENT
BEGIN:VEVENT
DTSTART;TZID=America/Winnipeg:20260224T130000
DTEND;TZID=America/Winnipeg:20260224T150000
DTSTAMP:20260422T095359
CREATED:20250122T222921Z
LAST-MODIFIED:20250122T222921Z
UID:10001469-1771938000-1771945200@prairietopinerc.ca
SUMMARY:Connection / Prayer/ Communion Zoom Gathering
DESCRIPTION:A Message from Vocational Minister\, Laura Fouhse\nMinistry Personnel in Northern Spirit\, Living Skies\, and Prairie to Pine Regional Councils….(including active\, retired\, honorary associates\, and candidates in appointment) \nIn response to a number of requests (and my own desire) I will be hosting a 1 hour (roughly) connection/prayer/communion Zoom gathering on the 4th Tuesday of each month at 1 pm (CST). We will start next Tuesday (Jan 28). \nYou are welcome to bring your lunch with you to the gathering (but you may need to share with those who forgot) Also bring communion elements (obviously) and a candle (or whatever helps center you). \nHere is the Zoom link. It will be the same link each month\,\nhttps://united-church.zoom.us/j/81483053358
URL:https://prairietopinerc.ca/event/connection-prayer-communion-zoom-gathering/2026-02-24/
LOCATION:via Zoom
CATEGORIES:Events,Regional
ATTACH;FMTTYPE=image/png:https://prairietopinerc.ca/wp-content/uploads/2025/01/Tri-Region-Ministry-Personnel-monthly-Zoom.png
END:VEVENT
BEGIN:VEVENT
DTSTART;VALUE=DATE:20260225
DTEND;VALUE=DATE:20260226
DTSTAMP:20260422T095359
CREATED:20251211T014646Z
LAST-MODIFIED:20251211T014646Z
UID:10002074-1771977600-1772063999@prairietopinerc.ca
SUMMARY:Pink Shirt Day
DESCRIPTION:
URL:https://prairietopinerc.ca/event/pink-shirt-day/
LOCATION:MB
CATEGORIES:Events,Regional
END:VEVENT
BEGIN:VEVENT
DTSTART;TZID=America/Winnipeg:20260225T140000
DTEND;TZID=America/Winnipeg:20260225T150000
DTSTAMP:20260422T095359
CREATED:20250905T180848Z
LAST-MODIFIED:20250905T181104Z
UID:10001651-1772028000-1772031600@prairietopinerc.ca
SUMMARY:Online Bible Study with Jordan Cantwell
DESCRIPTION:Every Wednesday at 1 pm (SK time) \nDeep conversation \nSpiritual friendships \nFaith exploration \nNew participants always welcome! \nContact jcantwell@united-church.ca for more information. \nClick here to join:  https://bit.ly/41Vh93V
URL:https://prairietopinerc.ca/event/online-bible-study-with-jordan-cantwell/2026-02-25/
LOCATION:Online
CATEGORIES:Community of Faith Events calendar,Events,Regional
END:VEVENT
BEGIN:VEVENT
DTSTART;TZID=America/Winnipeg:20260226T093000
DTEND;TZID=America/Winnipeg:20260226T123000
DTSTAMP:20260422T095359
CREATED:20230823T015149Z
LAST-MODIFIED:20230823T015149Z
UID:10000747-1772098200-1772109000@prairietopinerc.ca
SUMMARY:Committee on Community of Faith Support
DESCRIPTION:The Committee on Community of Faith Support is holding its regular meeting via Zoom every fourth Thursday of the month.
URL:https://prairietopinerc.ca/event/committee-on-community-of-faith-support/2026-02-26/
LOCATION:MB
CATEGORIES:Events,Regional
END:VEVENT
BEGIN:VEVENT
DTSTART;TZID=America/Winnipeg:20260228T183000
DTEND;TZID=America/Winnipeg:20260228T210000
DTSTAMP:20260422T095359
CREATED:20260121T202227Z
LAST-MODIFIED:20260121T202227Z
UID:10002157-1772303400-1772312400@prairietopinerc.ca
SUMMARY:Quiz Night
DESCRIPTION:Hosted by the United Church Women \nSaturday\, February 28th\nTranscona Memorial United Church\n209 Yale Ave. West\nQuiz starts 7 pm Doors open 6:30 pm\nRussell Antymis – Quiz MC \n6-8 people per team/table\nTickets $20 per person \nCall Cathie Morgan Matula\n204-222-0124\nor\ncathiemorgan7@gmail.com \nor contact\nthe Church Office\noffice@tmuc.ca \nBring your own snacks for your team (Coffee/Canned Drinks for sale $1.00) \nRegister as a team or to be placed on a team \nCome join us for a fun night of fascinating facts\, fellowship\, and frivolity!
URL:https://prairietopinerc.ca/event/quiz-night/
LOCATION:Transcona Memorial United Church\, 209 Yale Ave W.\, Winnipeg\, Manitoba\, R2C 1T9\, Canada
CATEGORIES:Community of Faith Events calendar,Events
ATTACH;FMTTYPE=image/png:https://prairietopinerc.ca/wp-content/uploads/2026/01/Quiz-Night-TMUC.pdf.png
END:VEVENT
END:VCALENDAR