BEGIN:VCALENDAR
VERSION:2.0
PRODID:-//Prairie to Pine Regional Council - ECPv6.15.20//NONSGML v1.0//EN
CALSCALE:GREGORIAN
METHOD:PUBLISH
X-ORIGINAL-URL:https://prairietopinerc.ca
X-WR-CALDESC:Events for Prairie to Pine Regional Council
REFRESH-INTERVAL;VALUE=DURATION:PT1H
X-Robots-Tag:noindex
X-PUBLISHED-TTL:PT1H
BEGIN:VTIMEZONE
TZID:America/Winnipeg
BEGIN:DAYLIGHT
TZOFFSETFROM:-0600
TZOFFSETTO:-0500
TZNAME:CDT
DTSTART:20240310T080000
END:DAYLIGHT
BEGIN:STANDARD
TZOFFSETFROM:-0500
TZOFFSETTO:-0600
TZNAME:CST
DTSTART:20241103T070000
END:STANDARD
BEGIN:DAYLIGHT
TZOFFSETFROM:-0600
TZOFFSETTO:-0500
TZNAME:CDT
DTSTART:20250309T080000
END:DAYLIGHT
BEGIN:STANDARD
TZOFFSETFROM:-0500
TZOFFSETTO:-0600
TZNAME:CST
DTSTART:20251102T070000
END:STANDARD
BEGIN:DAYLIGHT
TZOFFSETFROM:-0600
TZOFFSETTO:-0500
TZNAME:CDT
DTSTART:20260308T080000
END:DAYLIGHT
BEGIN:STANDARD
TZOFFSETFROM:-0500
TZOFFSETTO:-0600
TZNAME:CST
DTSTART:20261101T070000
END:STANDARD
END:VTIMEZONE
BEGIN:VEVENT
DTSTART;TZID=America/Winnipeg:20251001T140000
DTEND;TZID=America/Winnipeg:20251001T150000
DTSTAMP:20260424T085107
CREATED:20250905T180848Z
LAST-MODIFIED:20250905T181104Z
UID:10001630-1759327200-1759330800@prairietopinerc.ca
SUMMARY:Online Bible Study with Jordan Cantwell
DESCRIPTION:Every Wednesday at 1 pm (SK time) \nDeep conversation \nSpiritual friendships \nFaith exploration \nNew participants always welcome! \nContact jcantwell@united-church.ca for more information. \nClick here to join:  https://bit.ly/41Vh93V
URL:https://prairietopinerc.ca/event/online-bible-study-with-jordan-cantwell/2025-10-01/
LOCATION:Online
CATEGORIES:Community of Faith Events calendar,Events,Regional
END:VEVENT
BEGIN:VEVENT
DTSTART;TZID=America/Winnipeg:20251003T183000
DTEND;TZID=America/Winnipeg:20251003T220000
DTSTAMP:20260424T085107
CREATED:20250910T190729Z
LAST-MODIFIED:20250910T190729Z
UID:10001892-1759516200-1759528800@prairietopinerc.ca
SUMMARY:Transcona Memorial United Church Time & Talent Auction
DESCRIPTION:Join in the fun and laughter as we gather for our annual Time & Talent Auction. Silent bidding and live bidding\, snacks available for purchase. Doors will open at 6:30\, bidding begins at 7 pm sharp. Admission is free!
URL:https://prairietopinerc.ca/event/transcona-memorial-united-church-time-talent-auction/
LOCATION:Transcona Memorial United Church\, 209 Yale Ave W.\, Winnipeg\, Manitoba\, R2C 1T9\, Canada
CATEGORIES:Community of Faith Events calendar,Events
ATTACH;FMTTYPE=image/jpeg:https://prairietopinerc.ca/wp-content/uploads/2025/09/TMUCs-TIme-Talent-auction.jpg
END:VEVENT
BEGIN:VEVENT
DTSTART;TZID=America/Winnipeg:20251008T140000
DTEND;TZID=America/Winnipeg:20251008T150000
DTSTAMP:20260424T085107
CREATED:20250905T180848Z
LAST-MODIFIED:20250905T181104Z
UID:10001631-1759932000-1759935600@prairietopinerc.ca
SUMMARY:Online Bible Study with Jordan Cantwell
DESCRIPTION:Every Wednesday at 1 pm (SK time) \nDeep conversation \nSpiritual friendships \nFaith exploration \nNew participants always welcome! \nContact jcantwell@united-church.ca for more information. \nClick here to join:  https://bit.ly/41Vh93V
URL:https://prairietopinerc.ca/event/online-bible-study-with-jordan-cantwell/2025-10-08/
LOCATION:Online
CATEGORIES:Community of Faith Events calendar,Events,Regional
END:VEVENT
BEGIN:VEVENT
DTSTART;TZID=America/Winnipeg:20251008T180000
DTEND;TZID=America/Winnipeg:20251008T200000
DTSTAMP:20260424T085107
CREATED:20250902T170909Z
LAST-MODIFIED:20250902T170909Z
UID:10001617-1759946400-1759953600@prairietopinerc.ca
SUMMARY:Seniors Supporting Seniors Through Fun and Learning
DESCRIPTION:Join us for a discussion about the basics of Artificial Intelligence with presenter David Gerhard\, Head of the Computer Science Department at U of M and AI Expert.
URL:https://prairietopinerc.ca/event/seniors-supporting-seniors-through-fun-and-learning-2/
LOCATION:Westworth United Church\, 1750 Grosvenor Avenue\, Winnipeg\, Manitoba\, R3N 0H9\, Canada
CATEGORIES:Community of Faith Events calendar,Events
ATTACH;FMTTYPE=image/jpeg:https://prairietopinerc.ca/wp-content/uploads/2025/08/Artificial-Intelligence-for-Beginners-Presenter-David-Gerhard-U-of-M-Head-of-Computer-Science-AI-expert-October-8-2025-at-6-p.m.-Living-in-Two-Worlds-The-Ukrainian-Experience-in-Winnipeg-Presen.jpg
ORGANIZER;CN="Westworth Centre":MAILTO:office@westworth.ca
END:VEVENT
BEGIN:VEVENT
DTSTART;TZID=America/Winnipeg:20251010T170000
DTEND;TZID=America/Winnipeg:20251010T190000
DTSTAMP:20260424T085107
CREATED:20250917T163306Z
LAST-MODIFIED:20260114T200124Z
UID:10001895-1760115600-1760122800@prairietopinerc.ca
SUMMARY:Messy Church
DESCRIPTION:WHAT IS MESSY CHURCH? \nMessy Church is an alternative way of Worship and Celebration! . It is rooted in the word of God\, and this is expressed in a variety of creative ways. It is a community of friends and families. It is for everyone between the ages of 3 and 95! You will be greeted with a warm welcome. There is a story on the evening’s theme. There is a communal and yummy meal. Following the meal\, there are 10 activity stations. There is something for young children\, something for trendy teens\, and something for thoughtful and creative adults. In fact …. Something for everyone. \nThe theme of the first Messy Church is God’s love personally experienced and also expressed through empathy. There is no better time to Pass it On! \nWe invite you to join us:\nOctober 10\,2025\, 5pm -7pm\nFort Garry United Church (800 Point Road\, Winnipeg)
URL:https://prairietopinerc.ca/event/messy-church-2/2025-10-10/
LOCATION:Fort Garry United Church\, 800 Point Rd\, Winnipeg\, MB\, Winnipeg\, Manitoba\, R3T 3L8\, Canada
CATEGORIES:Community of Faith Events calendar,Events
ORGANIZER;CN="Mavis Allison":MAILTO:wasagawomensweekend@gmail.com
END:VEVENT
BEGIN:VEVENT
DTSTART;TZID=America/Winnipeg:20251015T140000
DTEND;TZID=America/Winnipeg:20251015T150000
DTSTAMP:20260424T085107
CREATED:20250905T180848Z
LAST-MODIFIED:20250905T181104Z
UID:10001632-1760536800-1760540400@prairietopinerc.ca
SUMMARY:Online Bible Study with Jordan Cantwell
DESCRIPTION:Every Wednesday at 1 pm (SK time) \nDeep conversation \nSpiritual friendships \nFaith exploration \nNew participants always welcome! \nContact jcantwell@united-church.ca for more information. \nClick here to join:  https://bit.ly/41Vh93V
URL:https://prairietopinerc.ca/event/online-bible-study-with-jordan-cantwell/2025-10-15/
LOCATION:Online
CATEGORIES:Community of Faith Events calendar,Events,Regional
END:VEVENT
BEGIN:VEVENT
DTSTART;TZID=America/Winnipeg:20251016T130000
DTEND;TZID=America/Winnipeg:20251016T140000
DTSTAMP:20260424T085107
CREATED:20250919T184252Z
LAST-MODIFIED:20250919T184252Z
UID:10001968-1760619600-1760623200@prairietopinerc.ca
SUMMARY:Messy Church Canada-October 16\, 2025
DESCRIPTION:Messy Church is a way of being church for everyone – families and others from youngest to oldest. It is based on creativity\, hospitality\, and celebration\, and of course\, it is Christ-centred and for all ages.  Headquartered at St. Andrew’s College\, Messy Church Canada encourages and supports leaders in starting and growing Messy Churches.  There are gatherings on ZOOM that link Messy Church leaders from coast to coast to coast and there are regular mailings that share information.  Messy Church reaches into the community and connects with people\, helping all to see and know God’s love and care for them and for all of creation.  Messy Churches find their homes in many church denominations.  Messy Church Canada is the Canadian chapter of an international movement\, a ministry of Bible Reading Fellowship in the UK. \nPlease join Messy Church Canada on October 16\, 2025\, via Zoom as we share some ideas about Messy Church and offer some tips and ideas for starting a Messy Church. Please click here for more information.
URL:https://prairietopinerc.ca/event/messy-church-canada-october-16-2025/
LOCATION:Zoom
CATEGORIES:Community of Faith Events calendar,Events
ATTACH;FMTTYPE=image/png:https://prairietopinerc.ca/wp-content/uploads/2025/09/Image-7.png
END:VEVENT
BEGIN:VEVENT
DTSTART;TZID=America/Winnipeg:20251017T100000
DTEND;TZID=America/Winnipeg:20251017T150000
DTSTAMP:20260424T085107
CREATED:20250917T165501Z
LAST-MODIFIED:20250917T165501Z
UID:10001956-1760695200-1760713200@prairietopinerc.ca
SUMMARY:LLWL In-Person Gathering
DESCRIPTION:Plans are underway by the Committee on Lay Ministry/Lay Leadership Support for the annual in-person gathering of those in training for or functioning as Licensed Lay Worship Leaders throughout Prairie to Pine Regional Council. The gathering will be held on Friday\, October 17\, 2025\, from 10:00 a.m. to 3:00 p.m. at Mackenzie United Church (85 – 11th Street\, Portage La Prairie\, MB). The day will include time for worship\, networking\, sharing with the Committee on Lay Ministry\, Lay Leadership Support\, and engagement by staff from the Centre of Christian Studies on the theme of the use of “storytelling” in/as worship. A registration form will be sent to all LLWLs and CDM -Worship Leaders soon\, and is due back by October 09\, 2025.
URL:https://prairietopinerc.ca/event/llwl-in-person-gathering/
LOCATION:McKenzie United Church\, 85-11th Street NW\, Portage la Prairie\, Manitoba\, R1N 2S2\, Canada
CATEGORIES:Events,Regional
END:VEVENT
BEGIN:VEVENT
DTSTART;TZID=America/Winnipeg:20251017T100000
DTEND;TZID=America/Winnipeg:20251017T150000
DTSTAMP:20260424T085107
CREATED:20250924T170945Z
LAST-MODIFIED:20250924T172122Z
UID:10001970-1760695200-1760713200@prairietopinerc.ca
SUMMARY:Licensed Lay Worship Leaders and Congregational Designated Minister-Worship Leaders
DESCRIPTION:The annual gathering of those in training for or functioning as Licensed Lay Worship Leaders and Congregational Designated Minister-Worship Leaders throughout Prairie to Pine Regional Council sponsored by the Committee on Lay Ministry/Lay Leadership Support will be held on Friday\, October 17\, 2025 from 10: 00 a.m. to 3:00 p.m. at Mackenzie United Church (85 – 11th Street\, Portage La Prairie\, MB). Gather to connect and reflect on the theme of Storytelling. Registrations due by October 09\, 2025. Please contact Cherry Abad (cabad@united-church.ca).
URL:https://prairietopinerc.ca/event/licensed-lay-worship-leaders-and-congregational-designated-minister-worship-leaders/
LOCATION:McKenzie United Church\, 85-11th Street NW\, Portage la Prairie\, Manitoba\, R1N 2S2\, Canada
CATEGORIES:Community of Faith Events calendar,Events,Regional
END:VEVENT
BEGIN:VEVENT
DTSTART;TZID=America/Winnipeg:20251017T173000
DTEND;TZID=America/Winnipeg:20251017T193000
DTSTAMP:20260424T085107
CREATED:20250917T193812Z
LAST-MODIFIED:20250917T193812Z
UID:10001960-1760722200-1760729400@prairietopinerc.ca
SUMMARY:Messy Church
DESCRIPTION:Messy Church is church that is fun! It celebrates faith with creativity and hospitality! \nIt is Biblically based!\nIt is for everyone — all generations together!\nIt is a growing international community filled with enthusiasm and ideas to share Good News.\nAll are Welcome! \nJoin us at TMUC for Messy Church: stories\, songs\, crafts and a shared meal.
URL:https://prairietopinerc.ca/event/messy-church-4/
LOCATION:Transcona Memorial United Church\, 209 Yale Ave W.\, Winnipeg\, Manitoba\, R2C 1T9\, Canada
CATEGORIES:Community of Faith Events calendar,Events
ATTACH;FMTTYPE=image/png:https://prairietopinerc.ca/wp-content/uploads/2025/09/Image-2.png
END:VEVENT
BEGIN:VEVENT
DTSTART;TZID=America/Winnipeg:20251017T180000
DTEND;TZID=America/Winnipeg:20251018T150000
DTSTAMP:20260424T085107
CREATED:20251006T171942Z
LAST-MODIFIED:20251006T171942Z
UID:10002034-1760724000-1760799600@prairietopinerc.ca
SUMMARY:TMUC Book Sale
DESCRIPTION:The 23rd edition of the TMUC Book Group presents a book\, puzzle and music sale.
URL:https://prairietopinerc.ca/event/tmuc-book-sale/
LOCATION:Transcona Memorial United Church\, 209 Yale Ave W.\, Winnipeg\, Manitoba\, R2C 1T9\, Canada
CATEGORIES:Community of Faith Events calendar,Events
ATTACH;FMTTYPE=image/png:https://prairietopinerc.ca/wp-content/uploads/2025/10/SALE-1.png
END:VEVENT
BEGIN:VEVENT
DTSTART;TZID=America/Winnipeg:20251019T133000
DTEND;TZID=America/Winnipeg:20251019T163000
DTSTAMP:20260424T085107
CREATED:20250929T181006Z
LAST-MODIFIED:20250929T181006Z
UID:10002033-1760880600-1760891400@prairietopinerc.ca
SUMMARY:Treherne United Church Homecoming Centennial Celebration
DESCRIPTION:A 1:30 service with a guest minister and greetings from special guests will also include the senior choir and a reunion of the junior choir as well as numerous musical guests. Refreshments and fellowship will follow.\nThe proceeds of the offering have been designated for the purchase of baby formula.
URL:https://prairietopinerc.ca/event/treherne-united-church-homecoming-centennial-celebration/
LOCATION:Treherne United Church\, 186 Boyne St.\, Treherne\, Manitoba\, R0G 2V0\, Canada
CATEGORIES:100th Anniversary of the UCC,Community of Faith Events calendar,Events
END:VEVENT
BEGIN:VEVENT
DTSTART;TZID=America/Winnipeg:20251019T143000
DTEND;TZID=America/Winnipeg:20251019T153000
DTSTAMP:20260424T085107
CREATED:20250904T163651Z
LAST-MODIFIED:20251016T155630Z
UID:10001626-1760884200-1760887800@prairietopinerc.ca
SUMMARY:Covenanting Service-Kindred Spirits Collaborative Ministry
DESCRIPTION:October 19\, 2025\, at 2:30 p.m.\, John Black Memorial United Church\, a Covenanting Service celebrating the pastoral relationship between Kindred Spirits Collaborative Ministry (John Black Memorial United Church and Immanuel United Church\, Winnipeg)\, the Reverend Oluwajimi Dairo (Ordained Minister in the Admissions Program)\, and Prairie to Pine Regional Council.
URL:https://prairietopinerc.ca/event/covenanting-service-kindred-spirits-collaborative-ministry/
LOCATION:John Black Memorial United Church\, 898 Henderson Hwy\, Winnipeg\, MB\, R2K 3T4\, Canada
CATEGORIES:Community of Faith Events calendar,Events,Regional
END:VEVENT
BEGIN:VEVENT
DTSTART;TZID=America/Winnipeg:20251019T150000
DTEND;TZID=America/Winnipeg:20251019T170000
DTSTAMP:20260424T085107
CREATED:20251018T154256Z
LAST-MODIFIED:20251018T154256Z
UID:10002037-1760886000-1760893200@prairietopinerc.ca
SUMMARY:The Fly and Camel Café presents The New House Band
DESCRIPTION:The Fly and Camel Café presents The New House Band with special guests\, Julian Read and Bruce Waldie. Sunday\, October 19th at 3:00 PM. St. Mary’s Road United Church\, 613 St. Mary’s Road. No Admission Charge – Free Will offering
URL:https://prairietopinerc.ca/event/the-fly-and-camel-cafe-presents-the-new-house-band/
LOCATION:St. Mary’s Road United Church\, 613 St. Mary's Road\, Winnipeg\, MB\, Canada
CATEGORIES:Community of Faith Events calendar,Events
END:VEVENT
BEGIN:VEVENT
DTSTART;VALUE=DATE:20251022
DTEND;VALUE=DATE:20251023
DTSTAMP:20260424T085107
CREATED:20251020T152502Z
LAST-MODIFIED:20251020T152502Z
UID:10002038-1761091200-1761177599@prairietopinerc.ca
SUMMARY:Fundraising event in support of 1JustCity and Oak Table
DESCRIPTION:Win one round-trip flight for two guests to any regularly scheduled and marketed WestJet destination!\nWith this flight package\, you will receive a brand new set of luggage\, valued at $209.00. \nYour support helps make a difference in the lives of the most vulnerable within our communities. \n*No cash value. Taxes\, fees\, and surcharges not included. Blackout dates and restrictions apply. \nRaffle draw will be held at the fundraising dinner on October 22\, 2025. \nFor more information\, visit https://www.fundingchange.ca/1justcity-inc/aNq5GIOmdn96DosP?ref=aNrTC_1rgX9wXyaD  \n 
URL:https://prairietopinerc.ca/event/fundraising-event-in-support-of-1justcity-and-oak-table/
CATEGORIES:Community of Faith Events calendar,Events
ATTACH;FMTTYPE=image/png:https://prairietopinerc.ca/wp-content/uploads/2025/10/WestJet-OT-Poster.png
END:VEVENT
BEGIN:VEVENT
DTSTART;TZID=America/Winnipeg:20251022T140000
DTEND;TZID=America/Winnipeg:20251022T150000
DTSTAMP:20260424T085107
CREATED:20250905T180848Z
LAST-MODIFIED:20250905T181104Z
UID:10001633-1761141600-1761145200@prairietopinerc.ca
SUMMARY:Online Bible Study with Jordan Cantwell
DESCRIPTION:Every Wednesday at 1 pm (SK time) \nDeep conversation \nSpiritual friendships \nFaith exploration \nNew participants always welcome! \nContact jcantwell@united-church.ca for more information. \nClick here to join:  https://bit.ly/41Vh93V
URL:https://prairietopinerc.ca/event/online-bible-study-with-jordan-cantwell/2025-10-22/
LOCATION:Online
CATEGORIES:Community of Faith Events calendar,Events,Regional
END:VEVENT
BEGIN:VEVENT
DTSTART;TZID=America/Winnipeg:20251022T173000
DTEND;TZID=America/Winnipeg:20251022T203000
DTSTAMP:20260424T085107
CREATED:20250816T040830Z
LAST-MODIFIED:20250816T040830Z
UID:10001615-1761154200-1761165000@prairietopinerc.ca
SUMMARY:Help Set The Table-Oak Table Fundraising Dinner
DESCRIPTION:Help Set The Table for food\, friendship\, and belonging. \nJoin us for an evening that nourishes our community with compassion\, connection\, and dignity. \nWednesday\, October 22\, 2025\, Charleswood United Church (4820 Roblin Boulevard\, Winnipeg). \nDoors: 5:30 PM; Dinner: 6:30 PM \nFor more information\, email execadmin@oaktable.ca
URL:https://prairietopinerc.ca/event/help-set-the-table-oak-table-fundraising-dinner/
LOCATION:Charleswood United Church\, 4820 Roblin Blvd\, Winnipeg\, Manitoba\, R3R 0G6\, Canada
CATEGORIES:Community of Faith Events calendar,Events
ATTACH;FMTTYPE=image/png:https://prairietopinerc.ca/wp-content/uploads/2025/08/Oak-Table-Dinner-Poster.png
END:VEVENT
BEGIN:VEVENT
DTSTART;TZID=America/Winnipeg:20251023T093000
DTEND;TZID=America/Winnipeg:20251023T123000
DTSTAMP:20260424T085107
CREATED:20230823T015149Z
LAST-MODIFIED:20230823T015149Z
UID:10000743-1761211800-1761222600@prairietopinerc.ca
SUMMARY:Committee on Community of Faith Support
DESCRIPTION:The Committee on Community of Faith Support is holding its regular meeting via Zoom every fourth Thursday of the month.
URL:https://prairietopinerc.ca/event/committee-on-community-of-faith-support/2025-10-23/
CATEGORIES:Events,Regional
END:VEVENT
BEGIN:VEVENT
DTSTART;VALUE=DATE:20251024
DTEND;VALUE=DATE:20251027
DTSTAMP:20260424T085107
CREATED:20250515T194642Z
LAST-MODIFIED:20250927T172405Z
UID:10001572-1761264000-1761523199@prairietopinerc.ca
SUMMARY:ALF 2025 Youth Retreat
DESCRIPTION:If you are a grade 7 to 12 youth\, we welcome you to join us in Virden\, MB from October 24th to 26th to explore the history of the United Church in commemoration of the 100th anniversary of the United Church of Canada. \nMake friends with other youth from across the United Church’s Prairie to Pine Region while exploring the theme through Worship\, Song\, and Inter-active Theme Times.  The retreat wouldn’t be complete without social time — dancing\, games\, chatting over meals (and canteen treats)! …and then rolling out your sleeping bag on a church floor to dream sweet dreams surrounded by new and old friends resting up for another busy exciting day! \nThe retreat is planned by young people for young people. \nInvite your friends\, neighbours\, cousins (the ones you see often and the ones you would like to see more often!) \nHaven’t been to a retreat before?  – See: Retreat description for potential participants. \nTo allow all to attend\, no matter their family’s financial status\, the fee is suggested on a “pay what you can” scale from full fee of $95 down to $0. \n\nFirst time registrant full fee stays the same right up until the deadline\, to give us time to get the word out to new families – $80\n\nAll return retreat-goers: \n\n$5 off early bird fee if registered by Sept 12th -$80\nEarly bird fee if registered by Oct 5th – $85\nRegistration deadline: Oct 15th – $95\n\nREGISTER HERE \nWe are also looking for leaders age 16+.  Interested?  Apply here ASAP.
URL:https://prairietopinerc.ca/event/alf-2025-history-of-the-united-church-youth-retreat/
LOCATION:St. Paul’s United Church\, Virden\, 286 Nelson St W\, Virden\, Manitoba\, R0M 2C0\, Canada
CATEGORIES:100th Anniversary of the UCC,Events,Intercultural,LGBTQIA+ Affirming,Regional,Young Adults and Youth
ATTACH;FMTTYPE=image/jpeg:https://prairietopinerc.ca/wp-content/uploads/2025/05/ALF-2024-Group-Pic-1-scaled-e1754588765770.jpg
END:VEVENT
BEGIN:VEVENT
DTSTART;TZID=America/Winnipeg:20251028T130000
DTEND;TZID=America/Winnipeg:20251028T150000
DTSTAMP:20260424T085107
CREATED:20250122T222921Z
LAST-MODIFIED:20250122T222921Z
UID:10001465-1761656400-1761663600@prairietopinerc.ca
SUMMARY:Connection / Prayer/ Communion Zoom Gathering
DESCRIPTION:A Message from Vocational Minister\, Laura Fouhse\nMinistry Personnel in Northern Spirit\, Living Skies\, and Prairie to Pine Regional Councils….(including active\, retired\, honorary associates\, and candidates in appointment) \nIn response to a number of requests (and my own desire) I will be hosting a 1 hour (roughly) connection/prayer/communion Zoom gathering on the 4th Tuesday of each month at 1 pm (CST). We will start next Tuesday (Jan 28). \nYou are welcome to bring your lunch with you to the gathering (but you may need to share with those who forgot) Also bring communion elements (obviously) and a candle (or whatever helps center you). \nHere is the Zoom link. It will be the same link each month\,\nhttps://united-church.zoom.us/j/81483053358
URL:https://prairietopinerc.ca/event/connection-prayer-communion-zoom-gathering/2025-10-28/
LOCATION:via Zoom
CATEGORIES:Events,Regional
ATTACH;FMTTYPE=image/png:https://prairietopinerc.ca/wp-content/uploads/2025/01/Tri-Region-Ministry-Personnel-monthly-Zoom.png
END:VEVENT
BEGIN:VEVENT
DTSTART;TZID=America/Winnipeg:20251029T140000
DTEND;TZID=America/Winnipeg:20251029T150000
DTSTAMP:20260424T085107
CREATED:20250905T180848Z
LAST-MODIFIED:20250905T181104Z
UID:10001634-1761746400-1761750000@prairietopinerc.ca
SUMMARY:Online Bible Study with Jordan Cantwell
DESCRIPTION:Every Wednesday at 1 pm (SK time) \nDeep conversation \nSpiritual friendships \nFaith exploration \nNew participants always welcome! \nContact jcantwell@united-church.ca for more information. \nClick here to join:  https://bit.ly/41Vh93V
URL:https://prairietopinerc.ca/event/online-bible-study-with-jordan-cantwell/2025-10-29/
LOCATION:Online
CATEGORIES:Community of Faith Events calendar,Events,Regional
END:VEVENT
END:VCALENDAR