BEGIN:VCALENDAR
VERSION:2.0
PRODID:-//Prairie to Pine Regional Council - ECPv6.15.20//NONSGML v1.0//EN
CALSCALE:GREGORIAN
METHOD:PUBLISH
X-ORIGINAL-URL:https://prairietopinerc.ca
X-WR-CALDESC:Events for Prairie to Pine Regional Council
REFRESH-INTERVAL;VALUE=DURATION:PT1H
X-Robots-Tag:noindex
X-PUBLISHED-TTL:PT1H
BEGIN:VTIMEZONE
TZID:America/Winnipeg
BEGIN:DAYLIGHT
TZOFFSETFROM:-0600
TZOFFSETTO:-0500
TZNAME:CDT
DTSTART:20240310T080000
END:DAYLIGHT
BEGIN:STANDARD
TZOFFSETFROM:-0500
TZOFFSETTO:-0600
TZNAME:CST
DTSTART:20241103T070000
END:STANDARD
BEGIN:DAYLIGHT
TZOFFSETFROM:-0600
TZOFFSETTO:-0500
TZNAME:CDT
DTSTART:20250309T080000
END:DAYLIGHT
BEGIN:STANDARD
TZOFFSETFROM:-0500
TZOFFSETTO:-0600
TZNAME:CST
DTSTART:20251102T070000
END:STANDARD
BEGIN:DAYLIGHT
TZOFFSETFROM:-0600
TZOFFSETTO:-0500
TZNAME:CDT
DTSTART:20260308T080000
END:DAYLIGHT
BEGIN:STANDARD
TZOFFSETFROM:-0500
TZOFFSETTO:-0600
TZNAME:CST
DTSTART:20261101T070000
END:STANDARD
END:VTIMEZONE
BEGIN:VEVENT
DTSTART;TZID=America/Winnipeg:20250305T183000
DTEND;TZID=America/Winnipeg:20250305T200000
DTSTAMP:20260424T181702
CREATED:20250203T215026Z
LAST-MODIFIED:20250203T215026Z
UID:10001521-1741199400-1741204800@prairietopinerc.ca
SUMMARY:Learning about Children's ages and stages as they pertain to Theology
DESCRIPTION:Wednesday\, March 5 at 6:30 p.m. is the first of four webinars in the I am a Changemaker Network. The other three are focused on the anti-racism curriculum for children. This one will be valid for use with that curriculum or any church work with children. \nOur speaker is Dave Csinos\, who is the Associate Professor of Practical Theology at the Atlantic School of Theology\, where he directs the new Diploma in Intergenerational Faith Formation program. The author/editor of several books\, he also serves as founder of Faith Forward and research director of Family Faith Every Day. \nDuring his webinar\, you’ll hear about the intersections between theology and childhood. We’ll consider how children of different ages make theological meaning\, how leaders can spark their theological imaginations\, and how different theological conceptions of children impact the formational work of faith communities. \nFor more details click here.
URL:https://prairietopinerc.ca/event/learning-about-childrens-ages-and-stages-as-they-pertain-to-theology/
LOCATION:Online
CATEGORIES:Events,Intercultural,Leaders of Children,Regional
END:VEVENT
BEGIN:VEVENT
DTSTART;TZID=America/Winnipeg:20250307T020000
DTEND;TZID=America/Winnipeg:20250307T160000
DTSTAMP:20260424T181702
CREATED:20250306T164639Z
LAST-MODIFIED:20250306T164639Z
UID:10001533-1741312800-1741363200@prairietopinerc.ca
SUMMARY:World Day of Prayer
DESCRIPTION:You are invited as we celebrate the World Day of Prayer at Little Britain United Church (5879 Hwy. #9\nLockport\, MB R1A 2P7) on March 7\, 2025 from 2:00 to 4:00 pm.
URL:https://prairietopinerc.ca/event/world-day-of-prayer-2/
LOCATION:Little Britain United Church\, 5879 Highway 9 - Lockport\, MB\, MB\, R1A 2P7\, Canada
CATEGORIES:Community of Faith Events calendar,Events
ORGANIZER;CN="Little Britain United":MAILTO:LBUC@mymts.net
END:VEVENT
BEGIN:VEVENT
DTSTART;TZID=America/Winnipeg:20250307T133000
DTEND;TZID=America/Winnipeg:20250307T153000
DTSTAMP:20260424T181702
CREATED:20250213T021530Z
LAST-MODIFIED:20250213T021530Z
UID:10001525-1741354200-1741361400@prairietopinerc.ca
SUMMARY:World Day of Prayer
DESCRIPTION:Transcona Memorial United Church\, 209 Yale Ave. West\, will be hosting a World Day of Prayer service on Friday\, March 7th\, 2025 at 1:30 p.m. All are welcome. This year’s service is written by the women of the Cook Islands. Refreshments will be served after the service.
URL:https://prairietopinerc.ca/event/world-day-of-prayer/
LOCATION:Transcona Memorial United Church-Winnipeg\, 209 Yale Avenue West\, Winnipeg\, MB\, R2C 1T9\, Canada
CATEGORIES:Community of Faith Events calendar,Events
ATTACH;FMTTYPE=image/jpeg:https://prairietopinerc.ca/wp-content/uploads/2025/02/Poster-jpg-W-D-of-Prayer.jpg
END:VEVENT
BEGIN:VEVENT
DTSTART;TZID=America/Winnipeg:20250307T140000
DTEND;TZID=America/Winnipeg:20250307T153000
DTSTAMP:20260424T181702
CREATED:20250220T162418Z
LAST-MODIFIED:20250220T163431Z
UID:10001528-1741356000-1741361400@prairietopinerc.ca
SUMMARY:World Day of Prayer 2025
DESCRIPTION:The World Day of Prayer Service for 2025 was written by the World Day of Prayer Committee of Cook Islands\, prepared and adapted for use in Canada by the Women’s Inter-Church Council of Canada. We look forward to gathering together after several years of not meeting. It will be good to sing and pray together in our fractured world.
URL:https://prairietopinerc.ca/event/world-day-of-prayer-2025/
LOCATION:Harrow United Church\, 955 Mulvey Avenue\, Winnipeg\, Manitoba\, R3M 1G8\, Canada
CATEGORIES:Community of Faith Events calendar,Events
ATTACH;FMTTYPE=image/jpeg:https://prairietopinerc.ca/wp-content/uploads/2025/02/World-Day-of-Prayer-2025-Harrow-UC.jpg
ORGANIZER;CN="Shirley May":MAILTO:viessa@mymts.net
END:VEVENT
BEGIN:VEVENT
DTSTART;TZID=America/Winnipeg:20250315T150000
DTEND;TZID=America/Winnipeg:20250315T190000
DTSTAMP:20260424T181702
CREATED:20250203T210544Z
LAST-MODIFIED:20250210T204235Z
UID:10001520-1742050800-1742065200@prairietopinerc.ca
SUMMARY:Traveling Youth Group: Family Movie; Dinner Event
DESCRIPTION:For our March event we are hosting a youth family movie screening and dinner. We will be attending the Winnipeg Freeze Frame festival held at Salle Pauline-Boutal Theatre (CCFM) 340 Provencher Boulevard. We will see the movie Uproar from 3pm-4:45pm. \nUproar is a coming-of-age tale of a 17-year-old Indigenous boy from New Zealand who is struggling to find his identity and voice while being faced with Racism both at school and the community when protest erupt. \nWe will then head to Grey Street United Church (651 Sandhurst Ave\, East Elmwood) for Dinner and discussion about the movie (and a few mixer games for fun!) from 5-7pm. \nBe aware this movie is rated PG-13 for language and Violence. Youth must have parent permission to attend and a ride from the theatre to the church. We recommend youth attend with a parent if possible. Youth of any age are welcome. If you are unsure about the movie please check out the reviews on this website or watch the Trailer here. \nThis Event is Completely Free thanks to the wonderful members of Grey Street United. Please register all family members that will be attending the event (and don’t forget to click the link in the form to reserve your tickets for the festival). \nRegister Here
URL:https://prairietopinerc.ca/event/traveling-youth-group-family-movie-dinner-event/
LOCATION:Grey Street United Church\, 651 Sandhurst Ave.\, Winnipeg\, Manitoba\, R2L 1B1\, Canada
CATEGORIES:Community of Faith Events calendar,Events,Regional,Young Adults and Youth
ATTACH;FMTTYPE=image/png:https://prairietopinerc.ca/wp-content/uploads/2025/02/Traveling-Youth-Group.png
END:VEVENT
BEGIN:VEVENT
DTSTART;TZID=America/Winnipeg:20250323T130000
DTEND;TZID=America/Winnipeg:20250323T160000
DTSTAMP:20260424T181702
CREATED:20250122T061746Z
LAST-MODIFIED:20250306T180855Z
UID:10001455-1742734800-1742745600@prairietopinerc.ca
SUMMARY:Western P2P Youth Event
DESCRIPTION:An afternoon of fun with friends and horses!\nFor Youth Grades 5 to 12\nPlanned by YAAY’s* Western Reps\, especially for youth in their part of the Prairie to Pine Region \nThroughout the afternoon\, there will be 3 main stations. Each one will be about compassion and patience. \nWe will not be riding any horses instead we will be focusing on connecting with horses and seeing their compassion and patience with us. You will get to brush multiple horses\, lead them and let them show us things we don’t understand. \nYou will also have time to connect with other youth and explore your faith while reflecting on the theme. \n  \nSee this letter for more details.\nPrairie Breeze Stables requires this Prairie Breeze Stables waiver to be signed for each participant. This is pretty standard procedure for businesses that offer activities where there is potential for risk\, even though the risk is low when participants follow the instructions of the guides. \nRegister here\nNote: if we don’t have 12 registrants by March 16th\, we will have to cancel the event\, so please register now!  Hannah awaits your registration! \n*YAAY is the regional Young Adult And Youth Committee
URL:https://prairietopinerc.ca/event/western-p2p-youth-event/
LOCATION:Prairie Breeze Stables\, Baker Road\, Brandon\, Manitoba\, R7A 7R2\, Canada
CATEGORIES:Events,Intercultural,LGBTQIA+ Affirming,Regional,Young Adults and Youth
END:VEVENT
BEGIN:VEVENT
DTSTART;TZID=America/Winnipeg:20250325T130000
DTEND;TZID=America/Winnipeg:20250325T150000
DTSTAMP:20260424T181702
CREATED:20250122T222921Z
LAST-MODIFIED:20250122T222921Z
UID:10001458-1742907600-1742914800@prairietopinerc.ca
SUMMARY:Connection / Prayer/ Communion Zoom Gathering
DESCRIPTION:A Message from Vocational Minister\, Laura Fouhse\nMinistry Personnel in Northern Spirit\, Living Skies\, and Prairie to Pine Regional Councils….(including active\, retired\, honorary associates\, and candidates in appointment) \nIn response to a number of requests (and my own desire) I will be hosting a 1 hour (roughly) connection/prayer/communion Zoom gathering on the 4th Tuesday of each month at 1 pm (CST). We will start next Tuesday (Jan 28). \nYou are welcome to bring your lunch with you to the gathering (but you may need to share with those who forgot) Also bring communion elements (obviously) and a candle (or whatever helps center you). \nHere is the Zoom link. It will be the same link each month\,\nhttps://united-church.zoom.us/j/81483053358
URL:https://prairietopinerc.ca/event/connection-prayer-communion-zoom-gathering/2025-03-25/
LOCATION:via Zoom
CATEGORIES:Events,Regional
ATTACH;FMTTYPE=image/png:https://prairietopinerc.ca/wp-content/uploads/2025/01/Tri-Region-Ministry-Personnel-monthly-Zoom.png
END:VEVENT
BEGIN:VEVENT
DTSTART;TZID=America/Winnipeg:20250325T190000
DTEND;TZID=America/Winnipeg:20250325T200000
DTSTAMP:20260424T181702
CREATED:20250306T181836Z
LAST-MODIFIED:20250306T181836Z
UID:10001534-1742929200-1742932800@prairietopinerc.ca
SUMMARY:Nominations Open House and Centennial Trivia!
DESCRIPTION: Tuesday March 25\, 7:00PM CST on Zoom. Let’s say this right off the top: There will be a United Church Centennial trivia contest! There will be prizes! \nWho is this mysterious committee called “Nominations”? Are they friendly? Even cool? How does someone go about getting to know all the groups that make up our Regional Council governance and program\, and looking at how they join in their work? Do I have the skills and ideas the Regional Council is looking for? We have answers!  (Hint: almost all of them are “yes”). \nRegional Council representatives to your community of faith: we would love to see you. This is a brief connecting opportunity for you and your community of faith. If you can bring one person from your community of faith along\, that would be wonderful. \nZoom details\nhttps://united-church.zoom.us/j/89566016560?pwd=3b2eo6uXBjP54SO8fBTlJxhKCVDtIw.1 \nMeeting ID: 895 6601 6560\nPassword: 398194\n855 703 8985 Canada Toll-free
URL:https://prairietopinerc.ca/event/nominations-open-house-and-centennial-trivia/
LOCATION:Zoom
CATEGORIES:100th Anniversary of the UCC,Regional
ATTACH;FMTTYPE=image/png:https://prairietopinerc.ca/wp-content/uploads/2025/03/Nominations-Open-House-P2P-March-2025-landscape.png
END:VEVENT
BEGIN:VEVENT
DTSTART;TZID=America/Winnipeg:20250327T093000
DTEND;TZID=America/Winnipeg:20250327T123000
DTSTAMP:20260424T181702
CREATED:20230823T015149Z
LAST-MODIFIED:20230823T015149Z
UID:10000736-1743067800-1743078600@prairietopinerc.ca
SUMMARY:Committee on Community of Faith Support
DESCRIPTION:The Committee on Community of Faith Support is holding its regular meeting via Zoom every fourth Thursday of the month.
URL:https://prairietopinerc.ca/event/committee-on-community-of-faith-support/2025-03-27/
CATEGORIES:Events,Regional
END:VEVENT
END:VCALENDAR