BEGIN:VCALENDAR
VERSION:2.0
PRODID:-//Prairie to Pine Regional Council - ECPv6.15.20//NONSGML v1.0//EN
CALSCALE:GREGORIAN
METHOD:PUBLISH
X-ORIGINAL-URL:https://prairietopinerc.ca
X-WR-CALDESC:Events for Prairie to Pine Regional Council
REFRESH-INTERVAL;VALUE=DURATION:PT1H
X-Robots-Tag:noindex
X-PUBLISHED-TTL:PT1H
BEGIN:VTIMEZONE
TZID:America/Winnipeg
BEGIN:DAYLIGHT
TZOFFSETFROM:-0600
TZOFFSETTO:-0500
TZNAME:CDT
DTSTART:20230312T080000
END:DAYLIGHT
BEGIN:STANDARD
TZOFFSETFROM:-0500
TZOFFSETTO:-0600
TZNAME:CST
DTSTART:20231105T070000
END:STANDARD
BEGIN:DAYLIGHT
TZOFFSETFROM:-0600
TZOFFSETTO:-0500
TZNAME:CDT
DTSTART:20240310T080000
END:DAYLIGHT
BEGIN:STANDARD
TZOFFSETFROM:-0500
TZOFFSETTO:-0600
TZNAME:CST
DTSTART:20241103T070000
END:STANDARD
BEGIN:DAYLIGHT
TZOFFSETFROM:-0600
TZOFFSETTO:-0500
TZNAME:CDT
DTSTART:20250309T080000
END:DAYLIGHT
BEGIN:STANDARD
TZOFFSETFROM:-0500
TZOFFSETTO:-0600
TZNAME:CST
DTSTART:20251102T070000
END:STANDARD
END:VTIMEZONE
BEGIN:VEVENT
DTSTART;TZID=America/Winnipeg:20241102T100000
DTEND;TZID=America/Winnipeg:20241102T120000
DTSTAMP:20260425T100737
CREATED:20241011T214643Z
LAST-MODIFIED:20241011T214643Z
UID:10001414-1730541600-1730548800@prairietopinerc.ca
SUMMARY:Christmas Bazaar
DESCRIPTION:You are invited to a Christmas Bazaar on Saturday\, November 2\, from 10 a.m. to 12 noon at North Kildonan United Church\, 174 Pentland St. (between Gilmore and McIvor Avenues). Home baking\, crafts\, jams\, pickles\, perogies and a Kids Touch ‘n Take table will be featured. Refreshments will be available. Free admission. Building is accessible and there is lots of parking.
URL:https://prairietopinerc.ca/event/christmas-bazaar-2/
LOCATION:North Kildonan United Church\, 174 Pentland St\, Winnipeg\, MB\, Canada
CATEGORIES:Community of Faith Events calendar,Events
ORGANIZER;CN="North Kildonan United Church":MAILTO:nkuc@mymts.net
END:VEVENT
BEGIN:VEVENT
DTSTART;TZID=America/Winnipeg:20241102T190000
DTEND;TZID=America/Winnipeg:20241102T210000
DTSTAMP:20260425T100737
CREATED:20241010T163935Z
LAST-MODIFIED:20241010T163935Z
UID:10001413-1730574000-1730581200@prairietopinerc.ca
SUMMARY:Falling for Dance and Music
DESCRIPTION:Come join us for a fabulous evening of music and dance.\nWe’ve invited our rental groups to share their amazing talent with us.\nYou’ll be delighted by choirs and bands and a dancing group!\nThe audience will get a chance to sing too!
URL:https://prairietopinerc.ca/event/falling-for-dance-and-music/
LOCATION:Fort Garry United Church\, 800 Point Rd\, Winnipeg\, MB\, Winnipeg\, Manitoba\, R3T 3L8\, Canada
CATEGORIES:Community of Faith Events calendar,Events
ATTACH;FMTTYPE=image/jpeg:https://prairietopinerc.ca/wp-content/uploads/2024/10/Copy-of-Copy-of-Event-Flyer-Made-with-PosterMyWall.jpg
ORGANIZER;CN="Fort Garry United Church":MAILTO:fguc@shaw.ca
END:VEVENT
BEGIN:VEVENT
DTSTART;TZID=America/Winnipeg:20241102T190000
DTEND;TZID=America/Winnipeg:20241102T213000
DTSTAMP:20260425T100737
CREATED:20241002T204517Z
LAST-MODIFIED:20241002T204517Z
UID:10001410-1730574000-1730583000@prairietopinerc.ca
SUMMARY:Fundraising concert featuring The Sisters of the Holy Rock
DESCRIPTION:Prairies Spirit United Church\, 207 Thompson Drive\, Winnipeg is holding a fundraising concert featuring The Sisters of the Holy Rock. Proceeds will go to the C.O.O.L. Project. a grow project for the Canadian Foodgrains Bank. \nTickets are available from Sherry Thom\, sthom338@shaw.ca. (204) 918–8714
URL:https://prairietopinerc.ca/event/fundraising-concert-featuring-the-sisters-of-the-holy-rock/
LOCATION:Prairie Spirit United Church\, 207 Thompson Drive\, Winnipeg\, Manitoba\, R3J 3E2\, Canada
CATEGORIES:Community of Faith Events calendar,Events
ATTACH;FMTTYPE=image/jpeg:https://prairietopinerc.ca/wp-content/uploads/2024/10/Sisters_Poster_color.jpg
ORGANIZER;CN="Prairie Spirit United Church":MAILTO:PrairieSpiritUC@shaw.ca
END:VEVENT
BEGIN:VEVENT
DTSTART;TZID=America/Winnipeg:20241103T140000
DTEND;TZID=America/Winnipeg:20241103T160000
DTSTAMP:20260425T100737
CREATED:20241029T050216Z
LAST-MODIFIED:20241029T050216Z
UID:10001416-1730642400-1730649600@prairietopinerc.ca
SUMMARY:Covenanting Service-First United Church\, Dryden
DESCRIPTION:First United Church\, Dryden and St. Andrew’s United Church\, Sioux Lookout will celebrate their new Collaborative Ministry with one another\, their Minister Jamie Miller and the Prairie to Pine Regional Council . A service will be held on Sunday\, November 03\, 2024 at First United Church\, Dryden  23 Van Horne Avenue  at  2:00 p.m. All are welcome to join in.
URL:https://prairietopinerc.ca/event/covenanting-service-first-united-church-dryden/
LOCATION:First United Church\, 23 Van Horne Ave\, Dryden\, ON\, Canada
CATEGORIES:Community of Faith Events calendar,Events,Regional
END:VEVENT
BEGIN:VEVENT
DTSTART;TZID=America/Winnipeg:20241105T150000
DTEND;TZID=America/Winnipeg:20241105T150000
DTSTAMP:20260425T100737
CREATED:20220112T004818Z
LAST-MODIFIED:20220907T162050Z
UID:10000403-1730818800-1730818800@prairietopinerc.ca
SUMMARY:Ministry Personnel Support Gathering
DESCRIPTION:Gatherings will be held every first Tuesday of the month at 3:00 p.m. Here is the Zoom link information.
URL:https://prairietopinerc.ca/event/ministry-personnel-support-gathering-12/2024-11-05/
LOCATION:Manitoba
CATEGORIES:Events,Regional
END:VEVENT
BEGIN:VEVENT
DTSTART;TZID=America/Winnipeg:20241112T100000
DTEND;TZID=America/Winnipeg:20241112T100000
DTSTAMP:20260425T100737
CREATED:20220112T031438Z
LAST-MODIFIED:20220815T213753Z
UID:10000439-1731405600-1731405600@prairietopinerc.ca
SUMMARY:Pastoral Relations Commission meeting
DESCRIPTION:
URL:https://prairietopinerc.ca/event/pastoral-relations-commission-meeting/2024-11-12/
LOCATION:Manitoba
CATEGORIES:Events,Regional
END:VEVENT
BEGIN:VEVENT
DTSTART;VALUE=DATE:20241115
DTEND;VALUE=DATE:20241202
DTSTAMP:20260425T100737
CREATED:20241126T195814Z
LAST-MODIFIED:20241126T195814Z
UID:10001428-1731628800-1733097599@prairietopinerc.ca
SUMMARY:Christmas Baking Fundraiser in support of 1JustCity's Programs and Services
DESCRIPTION:1Justcity is having a Christmas bake sale to support the programs and services offered to our guests. Your purchase directly supports meals and programs to help the underloved within Winnipeg communities.
URL:https://prairietopinerc.ca/event/christmas-baking-fundraiser-in-support-of-1justcitys-programs-and-services/
LOCATION:Online
CATEGORIES:Community of Faith Events calendar,Events
ATTACH;FMTTYPE=image/png:https://prairietopinerc.ca/wp-content/uploads/2024/11/Christmas-Bake-Sale-Poster-2-1.png
END:VEVENT
BEGIN:VEVENT
DTSTART;TZID=America/Winnipeg:20241115T190000
DTEND;TZID=America/Winnipeg:20241115T210000
DTSTAMP:20260425T100737
CREATED:20241112T004716Z
LAST-MODIFIED:20241112T004716Z
UID:10001418-1731697200-1731704400@prairietopinerc.ca
SUMMARY:November Traveling Youth Group
DESCRIPTION:November Traveling Youth Group is Next Friday November 15th 7-9pm.  \nThis Event will be for Youth Grade 5-12 at North Kildonan UC (174 Pentland St. Off Henderson Hwy). \nJoin us for an Evening of Crafting and Fellowship. \nSign up here to attend
URL:https://prairietopinerc.ca/event/november-traveling-youth-group/
LOCATION:North Kildonan United Church\, 174 Pentland St\, Winnipeg\, MB\, Canada
END:VEVENT
BEGIN:VEVENT
DTSTART;TZID=America/Winnipeg:20241122T190000
DTEND;TZID=America/Winnipeg:20241122T203000
DTSTAMP:20260425T100737
CREATED:20240517T211539Z
LAST-MODIFIED:20240517T211540Z
UID:10000939-1732302000-1732307400@prairietopinerc.ca
SUMMARY:Climate justice and financing open monthly meetings
DESCRIPTION:Prairie to Pine’s monthly online meeting on climate justice and financing\, 22nd of every month\, 7:00 PM\nYour or your community of faith have received a letter from Prairie to Pine encouraging  you to start a conversation with your bank or credit union  about where your money is invested.  The concern has to do with the billions of dollars that Canadian banks are investing in fossil fuel expansion- and the good those funds could do if invested in sustainable\, community-based energy. All the background documents and the latest news are here on our Climate Justice webpage. \nWe will be offering a monthly Zoom forum  at 7:00PM CDT (CST after the time change) on the 22nd of each month over the coming year. This will be your opportunity to discuss actions\, ask questions\, get support and celebrate action. We want to support you to take action\, to express your concerns\, to explore what divesting might mean for you or your community of faith. All welcome! You can also contact committee chairperson Lynda Trono at lyndatrono(at)gmail(dot)com \nRecurring link details for:\nMay 22\, 2024 07:00 PM \nSaturday Jun 22\, 2024 07:00 PM \nMonday  Jul 22\, 2024 07:00 PM \nThursday   Aug 22\, 2024 07:00 PM \nSunday Sep 22\, 2024 07:00 PM \nTuesday  Oct 22\, 2024 07:00 PM \nFriday Nov 22\, 2024 07:00 PM \n(It’s likely we aren’t meeting Dec 22!) \nMeeting ID: 830 1029 1982 \nPassword: 274282 \n855 703 8985 Canada Toll-free \nMonthly recurring link: https://united-church.zoom.us/j/83010291982?pwd=IxEWfaGQPPJQXZwph3VctYlMtPq4bX.1 \nPlease download and import the following iCalendar (.ics) files to your calendar to help you keep track!\nhttps://united-church.zoom.us/meeting/tZctdumqpzojEtbc1bf7Z19Tmwsv_X-gMir_/ics?icsToken=98tyKuGrrjoqGN2UuRGFRpwqAoj4c-rxmH5Ej7dfn07nBXdpM1rCO_VRJI1HXd_9 \n 
URL:https://prairietopinerc.ca/event/earth-week-climate-justice-and-financing-open-meeting-2/2024-11-22/
LOCATION:Zoom
CATEGORIES:Events,Regional
ATTACH;FMTTYPE=image/png:https://prairietopinerc.ca/wp-content/uploads/2023/06/EarthMoreValuableThanMoney.png
END:VEVENT
BEGIN:VEVENT
DTSTART;TZID=America/Winnipeg:20241122T190000
DTEND;TZID=America/Winnipeg:20241122T203000
DTSTAMP:20260425T100737
CREATED:20241113T210316Z
LAST-MODIFIED:20241113T210316Z
UID:10001421-1732302000-1732307400@prairietopinerc.ca
SUMMARY:For the Earth - concert
DESCRIPTION:“For the Earth” November 22\, 7:00pm\, St. Andrew’s River Heights United Church\, 255 Oak Street\, Winnipeg \nHow can we be better stewards of this Earth? How can we move forward in hope that humanity can create a better future for our earth? How can we celebrate our home\, while also acknowledging the harm we have created? \nPlease join the St. Andrew’s River Heights Choir and Handbells at For the Earth\, a climate-themed concert on Friday\, November 22\, 7:00pm as we consider these questions through music and readings. The concert features the Western Canada premiere of Canadian composer Paul Aitken’s new work “Missa Pro Terra\,” a poignant re-imagining of the traditional mass setting for choir and soloists. Entry is by donation ($20 suggested)\, and a portion of the proceeds will be donated to climate initiatives.
URL:https://prairietopinerc.ca/event/for-the-earth-concert/
LOCATION:St. Andrew’s River Heights United Church\, 255 Oak st\, Winnipeg\, MB\, R3M 3P7\, Canada
CATEGORIES:Community of Faith Events calendar,Events
ATTACH;FMTTYPE=image/png:https://prairietopinerc.ca/wp-content/uploads/2024/11/ForTheEarth-Poster.png
ORGANIZER;CN="St. Andrew's River Heights United Church":MAILTO:office@standrewsriverheights.com
END:VEVENT
BEGIN:VEVENT
DTSTART;TZID=America/Winnipeg:20241123T190000
DTEND;TZID=America/Winnipeg:20241123T210000
DTSTAMP:20260425T100737
CREATED:20241003T214714Z
LAST-MODIFIED:20241003T214714Z
UID:10001411-1732388400-1732395600@prairietopinerc.ca
SUMMARY:St. Charles Big Band Winter Concert
DESCRIPTION:Enjoy a wonderful evening of big band music including some holiday favourites featuring the St. Charles Big Band. Our last event was a huge success and we look forward to another wonderful evening of fun music and some dancing for those that like to dance. This event is in support of 1 Just City.
URL:https://prairietopinerc.ca/event/st-charles-big-band-winter-concert/
LOCATION:Headingley Community Centre\, 5353 Portage Ave\, Headingley\, Manitoba\, R4H 1J9\, Canada
CATEGORIES:Community of Faith Events calendar,Events
ATTACH;FMTTYPE=image/jpeg:https://prairietopinerc.ca/wp-content/uploads/2024/10/St-Charles-Big-Band-Winter-Concert-Flyer-scaled.jpg
ORGANIZER;CN="Dayna Weiten":MAILTO:dayna@weiten.com
END:VEVENT
BEGIN:VEVENT
DTSTART;TZID=America/Winnipeg:20241127T190000
DTEND;TZID=America/Winnipeg:20241127T203000
DTSTAMP:20260425T100737
CREATED:20241125T200000Z
LAST-MODIFIED:20241125T200000Z
UID:10001427-1732734000-1732739400@prairietopinerc.ca
SUMMARY:Connecting and Community in our Region\, part 2
DESCRIPTION:Join us for part 2 of the conversation and planning on how we create community and connection in our Regional Council. We’re going to continue June’s conversation with a look at how we actually create and sustain these spaces. We know many are feeling disconnected\, so come with your ideas\, and help Prairie to Pine become a stronger community\, together in faith.\nConnect here: \nhttps://united-church.zoom.us/j/89249071098?pwd=TQqldCY79Y3LxF6eioV32fQltb0sq6.1 \nMeeting ID: 892 4907 1098 Password: 370648         855 703 8985 Canada Toll-free
URL:https://prairietopinerc.ca/event/connecting-and-community-in-our-region-part-2/
LOCATION:Zoom
CATEGORIES:Regional
END:VEVENT
BEGIN:VEVENT
DTSTART;VALUE=DATE:20241128
DTEND;VALUE=DATE:20241202
DTSTAMP:20260425T100737
CREATED:20241114T215439Z
LAST-MODIFIED:20241119T155348Z
UID:10001422-1732752000-1733097599@prairietopinerc.ca
SUMMARY:Anne of Green Gables Musical at St. Mary's Road United Church
DESCRIPTION:
URL:https://prairietopinerc.ca/event/anne-of-green-gables-musical-at-st-marys-road-united-church/
LOCATION:St. Mary’s Road United Church\, 613 St. Mary's Road\, Winnipeg\, MB\, Canada
CATEGORIES:Community of Faith Events calendar
ATTACH;FMTTYPE=image/jpeg:https://prairietopinerc.ca/wp-content/uploads/2024/11/Anne-posternew.jpeg
END:VEVENT
BEGIN:VEVENT
DTSTART;TZID=America/Winnipeg:20241128T093000
DTEND;TZID=America/Winnipeg:20241128T123000
DTSTAMP:20260425T100737
CREATED:20230823T015149Z
LAST-MODIFIED:20230823T015149Z
UID:10000732-1732786200-1732797000@prairietopinerc.ca
SUMMARY:Committee on Community of Faith Support
DESCRIPTION:The Committee on Community of Faith Support is holding its regular meeting via Zoom every fourth Thursday of the month.
URL:https://prairietopinerc.ca/event/committee-on-community-of-faith-support/2024-11-28/
LOCATION:Manitoba
CATEGORIES:Events,Regional
END:VEVENT
BEGIN:VEVENT
DTSTART;TZID=America/Winnipeg:20241130T100000
DTEND;TZID=America/Winnipeg:20241130T140000
DTSTAMP:20260425T100737
CREATED:20241119T025807Z
LAST-MODIFIED:20241119T025807Z
UID:10001426-1732960800-1732975200@prairietopinerc.ca
SUMMARY:Harrow Christmas Sale
DESCRIPTION:Harrow United Church\, Winnipeg\, invites you to its Christmas Sale on November 30\, 10 a.m. to 2 p.m. There will be baking\, frozen soups\, Christmas crafts\, gifts\, and cards.
URL:https://prairietopinerc.ca/event/harrow-christmas-sale/
LOCATION:Harrow United Church\, 955 Mulvey Avenue\, Winnipeg\, Manitoba\, R3M 1G8\, Canada
CATEGORIES:Community of Faith Events calendar,Events
ATTACH;FMTTYPE=image/jpeg:https://prairietopinerc.ca/wp-content/uploads/2024/11/99DE2437-3D46-41FA-84BC-65354101FD86.jpeg
END:VEVENT
BEGIN:VEVENT
DTSTART;TZID=America/Winnipeg:20241130T190000
DTEND;TZID=America/Winnipeg:20241130T210000
DTSTAMP:20260425T100737
CREATED:20241113T143945Z
LAST-MODIFIED:20241113T143945Z
UID:10001419-1732993200-1733000400@prairietopinerc.ca
SUMMARY:Westminster Sing-Along Messiah
DESCRIPTION:Westminster United Church is hosting what is hoped to be the ‘first annual’ Sing-Along Messiah on November 30\, 2024. This event is free to the community\, and we welcome all those interested in joining Westminster’s Soloists and Friends\, along with a chamber orchestra\, as we sing through the Christmas portion and highlights of Handel’s masterwork\, Messiah\, a work that has been consistently performed in Winnipeg since at least 1948. Participants are welcome to bring their own scores or borrow one of ours (while supplies last). Donations will be warmly received in support of Westminster United Church and the Sanctuary Ceiling Restoration Fund\, and there will be refreshments available for purchase. Please note that all recognized donations over $10 are eligible for a tax receipt.
URL:https://prairietopinerc.ca/event/westminster-sing-along-messiah/
LOCATION:Westminster United Church\, 745 Westminster Avenue\, Winnipeg\, Manitoba\, R3G 1A5\, Canada
CATEGORIES:Community of Faith Events calendar,Events,Worship
ATTACH;FMTTYPE=image/png:https://prairietopinerc.ca/wp-content/uploads/2024/11/Westminster-Sing-Along-Messiah.png
END:VEVENT
END:VCALENDAR