BEGIN:VCALENDAR
VERSION:2.0
PRODID:-//Prairie to Pine Regional Council - ECPv6.15.20//NONSGML v1.0//EN
CALSCALE:GREGORIAN
METHOD:PUBLISH
X-WR-CALNAME:Prairie to Pine Regional Council
X-ORIGINAL-URL:https://prairietopinerc.ca
X-WR-CALDESC:Events for Prairie to Pine Regional Council
REFRESH-INTERVAL;VALUE=DURATION:PT1H
X-Robots-Tag:noindex
X-PUBLISHED-TTL:PT1H
BEGIN:VTIMEZONE
TZID:America/Winnipeg
BEGIN:DAYLIGHT
TZOFFSETFROM:-0600
TZOFFSETTO:-0500
TZNAME:CDT
DTSTART:20230312T080000
END:DAYLIGHT
BEGIN:STANDARD
TZOFFSETFROM:-0500
TZOFFSETTO:-0600
TZNAME:CST
DTSTART:20231105T070000
END:STANDARD
BEGIN:DAYLIGHT
TZOFFSETFROM:-0600
TZOFFSETTO:-0500
TZNAME:CDT
DTSTART:20240310T080000
END:DAYLIGHT
BEGIN:STANDARD
TZOFFSETFROM:-0500
TZOFFSETTO:-0600
TZNAME:CST
DTSTART:20241103T070000
END:STANDARD
BEGIN:DAYLIGHT
TZOFFSETFROM:-0600
TZOFFSETTO:-0500
TZNAME:CDT
DTSTART:20250309T080000
END:DAYLIGHT
BEGIN:STANDARD
TZOFFSETFROM:-0500
TZOFFSETTO:-0600
TZNAME:CST
DTSTART:20251102T070000
END:STANDARD
END:VTIMEZONE
BEGIN:VEVENT
DTSTART;TZID=America/Winnipeg:20240708T090000
DTEND;TZID=America/Winnipeg:20240802T150000
DTSTAMP:20260425T082503
CREATED:20240605T160438Z
LAST-MODIFIED:20240605T160438Z
UID:10000997-1720429200-1722610800@prairietopinerc.ca
SUMMARY:Manitoba Summer Day Camps
DESCRIPTION:Summer day camps at different locations are being offered by A Rocha Manitoba.  A Rocha Manitoba is a local environmental and faith-based nonprofit. These camps are designed to educate and captivate young minds about environmental stewardship and care in creation. \n\nRiver East\, July 8 (9:00 am)-July 12 (3 pm) CDT\, Registration: $135\nCommunity Roots Resource Centre\, July 15 (9:00 am)-July 19 (3:00 pm) CDT\, Registration $135\nSt. Margaret’s\, July 29 (9:00 am)-August 2 (3:00 p\,) CDT. Registration: $135
URL:https://prairietopinerc.ca/event/manitoba-summer-day-camps/
LOCATION:Manitoba
CATEGORIES:Community of Faith Events calendar,Events
END:VEVENT
BEGIN:VEVENT
DTSTART;TZID=America/Winnipeg:20240709T083000
DTEND;TZID=America/Winnipeg:20240802T160000
DTSTAMP:20260425T082503
CREATED:20240605T161717Z
LAST-MODIFIED:20240605T161717Z
UID:10000998-1720513800-1722614400@prairietopinerc.ca
SUMMARY:Earthsong
DESCRIPTION:Earthsong is a local vacation you can give yourself!  (July 29 through August 2\, 2024\, 8:30 to 4:00) Whether you are a seasoned singer or new to singing there is a place for you in Earthsong.  Build connections with Earth and other people as we lift our voices in song and explore movement\, community and spiritual practices which will encourage creative expressions of gratitude\, lament and hope for Creation.  Making time for joy is a practical way to heal ourselves and heal Earth. \nAll you need is a desire to sing and love for Earth. NO EXPERIENCE REQUIRED. \nClick here for more information.
URL:https://prairietopinerc.ca/event/earthsong/
LOCATION:United Church in Meadowood\, 1111 Dakota St\, Winnipeg\, MB\, R2N3T7\, Canada
CATEGORIES:Community of Faith Events calendar,Events
ATTACH;FMTTYPE=image/jpeg:https://prairietopinerc.ca/wp-content/uploads/2024/06/2024-earthsong-poster-MC-FB-1640x924-1.jpg
END:VEVENT
BEGIN:VEVENT
DTSTART;TZID=America/Winnipeg:20240804T110000
DTEND;TZID=America/Winnipeg:20240804T120000
DTSTAMP:20260425T082503
CREATED:20240419T174952Z
LAST-MODIFIED:20240419T174952Z
UID:10000975-1722769200-1722772800@prairietopinerc.ca
SUMMARY:Summer Sunday Services at West Hawk Lake UC begins May 19th
DESCRIPTION:We are pleased to announce that the Summer Worship Service at West Hawk United Church will held at 11:00 am every Sunday until at least the September long weekend. (RC Chapel once again will be held on Sundays at 9 am.) \nA variety of supply ministers and lay leadership will attend each service. The Steering Committee is also receptive to making facilities available for other appropriate uses and gatherings such as weddings\, funerals\, family gatherings\, retreats\, \nFor more info contact Mike Balshaw: westhawk.unitedchurch@gmail.com
URL:https://prairietopinerc.ca/event/summer-sunday-services-at-west-hawk-lake-uc-begins-may-19th/2024-08-04/
LOCATION:West Hawk Lake United Church\, Provincial Trunk Hwy 44\, Whiteshell\, Manitoba\, R0E 2H0\, Canada
CATEGORIES:Community of Faith Events calendar,Events
END:VEVENT
BEGIN:VEVENT
DTSTART;TZID=America/Winnipeg:20240806T150000
DTEND;TZID=America/Winnipeg:20240806T150000
DTSTAMP:20260425T082503
CREATED:20220112T004818Z
LAST-MODIFIED:20220907T162050Z
UID:10000400-1722956400-1722956400@prairietopinerc.ca
SUMMARY:Ministry Personnel Support Gathering
DESCRIPTION:Gatherings will be held every first Tuesday of the month at 3:00 p.m. Here is the Zoom link information.
URL:https://prairietopinerc.ca/event/ministry-personnel-support-gathering-12/2024-08-06/
LOCATION:Manitoba
CATEGORIES:Events,Regional
END:VEVENT
BEGIN:VEVENT
DTSTART;TZID=America/Winnipeg:20240811T110000
DTEND;TZID=America/Winnipeg:20240811T120000
DTSTAMP:20260425T082503
CREATED:20240419T174952Z
LAST-MODIFIED:20240419T174952Z
UID:10000976-1723374000-1723377600@prairietopinerc.ca
SUMMARY:Summer Sunday Services at West Hawk Lake UC begins May 19th
DESCRIPTION:We are pleased to announce that the Summer Worship Service at West Hawk United Church will held at 11:00 am every Sunday until at least the September long weekend. (RC Chapel once again will be held on Sundays at 9 am.) \nA variety of supply ministers and lay leadership will attend each service. The Steering Committee is also receptive to making facilities available for other appropriate uses and gatherings such as weddings\, funerals\, family gatherings\, retreats\, \nFor more info contact Mike Balshaw: westhawk.unitedchurch@gmail.com
URL:https://prairietopinerc.ca/event/summer-sunday-services-at-west-hawk-lake-uc-begins-may-19th/2024-08-11/
LOCATION:West Hawk Lake United Church\, Provincial Trunk Hwy 44\, Whiteshell\, Manitoba\, R0E 2H0\, Canada
CATEGORIES:Community of Faith Events calendar,Events
END:VEVENT
BEGIN:VEVENT
DTSTART;TZID=America/Winnipeg:20240812T083000
DTEND;TZID=America/Winnipeg:20240816T170000
DTSTAMP:20260425T082503
CREATED:20240605T150635Z
LAST-MODIFIED:20240605T150635Z
UID:10000996-1723451400-1723827600@prairietopinerc.ca
SUMMARY:Camp Meadowood: Rolling River Rampage
DESCRIPTION:Are you ready for the ride of your life? Get ready for an incredible adventure with Camp Meadowood’s “Rolling River Rampage” from August 12th to August 16th! \nRolling River Rampage invites Rafters of all ages on a white-water rafting adventure to experience the ride of a lifetime with God! Along the river\, Rafters discover that life with God is an adventure full of wonder and surprise\, and they can trust God to be with them through anything. Together\, we’ll do fun crafts\, incredible science experiments\, outdoor games\, music and much more! \nClick here for more information and how to register.
URL:https://prairietopinerc.ca/event/camp-meadowood-rolling-river-rampage/
LOCATION:United Church in Meadowood\, 1111 Dakota St\, Winnipeg\, MB\, R2N3T7\, Canada
CATEGORIES:Community of Faith Events calendar,Events
ATTACH;FMTTYPE=image/jpeg:https://prairietopinerc.ca/wp-content/uploads/2024/06/Camp-Meadowood-2024-Registration-FB-.jpg
END:VEVENT
BEGIN:VEVENT
DTSTART;TZID=America/Winnipeg:20240813T100000
DTEND;TZID=America/Winnipeg:20240813T100000
DTSTAMP:20260425T082503
CREATED:20220112T031438Z
LAST-MODIFIED:20220815T213753Z
UID:10000436-1723543200-1723543200@prairietopinerc.ca
SUMMARY:Pastoral Relations Commission meeting
DESCRIPTION:
URL:https://prairietopinerc.ca/event/pastoral-relations-commission-meeting/2024-08-13/
LOCATION:Manitoba
CATEGORIES:Events,Regional
END:VEVENT
BEGIN:VEVENT
DTSTART;TZID=America/Winnipeg:20240817T110000
DTEND;TZID=America/Winnipeg:20240817T193000
DTSTAMP:20260425T082503
CREATED:20240627T202611Z
LAST-MODIFIED:20240807T012017Z
UID:10001379-1723892400-1723923000@prairietopinerc.ca
SUMMARY:Sharing Across Cultures: Food\, Fun and Faith
DESCRIPTION:Inviting youth from across the region\, who self-identify as BIPOC (Black\, Indigenous\, or People of Colour) to explore foods\, arts\, sports and worship that represent some of the diversity of our United Church family. \n  \nPariticipants will be guided by: \n\nlocal cooks to join in preparing a special recipe while learning about their culture\nmusicians and dancers to learn a song or dance\nsports enthusiasts to play a game of basketball or soccer\nleaders to frame it all as an act of worship where we will thank God for the beautiful diverse gifts that we share with our church and our world\n\nOrganizing team: Selina Santos\, Sabry Abodigin\, Sarahng Cho\, Kaylee Wood\, Sarah Yang\, Raven Anderson\, and Jayden Schettler \nRegister today! \nRegister Here\nIf getting to Winnipeg might be a problem\, email Twila at TMacNair@united-church.ca to see if there is anyone coming from your area who might have room in their vehicle.
URL:https://prairietopinerc.ca/event/sharing-across-cultures-food-fun-and-faith-2/
LOCATION:Knox United Church\, Winnipeg\, 400 Edmonton Street\, Winnipeg\, MB\, R3B 2M2
CATEGORIES:Events,Intercultural,Regional,Right Relations,Worship,Young Adults and Youth
ATTACH;FMTTYPE=image/png:https://prairietopinerc.ca/wp-content/uploads/2022/06/Logo-2-for-Sharing-Across-Cultures.png
END:VEVENT
BEGIN:VEVENT
DTSTART;TZID=America/Winnipeg:20240818T110000
DTEND;TZID=America/Winnipeg:20240818T120000
DTSTAMP:20260425T082503
CREATED:20240419T174952Z
LAST-MODIFIED:20240419T174952Z
UID:10000977-1723978800-1723982400@prairietopinerc.ca
SUMMARY:Summer Sunday Services at West Hawk Lake UC begins May 19th
DESCRIPTION:We are pleased to announce that the Summer Worship Service at West Hawk United Church will held at 11:00 am every Sunday until at least the September long weekend. (RC Chapel once again will be held on Sundays at 9 am.) \nA variety of supply ministers and lay leadership will attend each service. The Steering Committee is also receptive to making facilities available for other appropriate uses and gatherings such as weddings\, funerals\, family gatherings\, retreats\, \nFor more info contact Mike Balshaw: westhawk.unitedchurch@gmail.com
URL:https://prairietopinerc.ca/event/summer-sunday-services-at-west-hawk-lake-uc-begins-may-19th/2024-08-18/
LOCATION:West Hawk Lake United Church\, Provincial Trunk Hwy 44\, Whiteshell\, Manitoba\, R0E 2H0\, Canada
CATEGORIES:Community of Faith Events calendar,Events
END:VEVENT
BEGIN:VEVENT
DTSTART;TZID=America/Winnipeg:20240822T093000
DTEND;TZID=America/Winnipeg:20240822T123000
DTSTAMP:20260425T082503
CREATED:20230823T015149Z
LAST-MODIFIED:20230823T015149Z
UID:10000729-1724319000-1724329800@prairietopinerc.ca
SUMMARY:Committee on Community of Faith Support
DESCRIPTION:The Committee on Community of Faith Support is holding its regular meeting via Zoom every fourth Thursday of the month.
URL:https://prairietopinerc.ca/event/committee-on-community-of-faith-support/2024-08-22/
LOCATION:Manitoba
CATEGORIES:Events,Regional
END:VEVENT
BEGIN:VEVENT
DTSTART;TZID=America/Winnipeg:20240822T190000
DTEND;TZID=America/Winnipeg:20240822T203000
DTSTAMP:20260425T082503
CREATED:20240517T211539Z
LAST-MODIFIED:20240517T211540Z
UID:10000936-1724353200-1724358600@prairietopinerc.ca
SUMMARY:Climate justice and financing open monthly meetings
DESCRIPTION:Prairie to Pine’s monthly online meeting on climate justice and financing\, 22nd of every month\, 7:00 PM\nYour or your community of faith have received a letter from Prairie to Pine encouraging  you to start a conversation with your bank or credit union  about where your money is invested.  The concern has to do with the billions of dollars that Canadian banks are investing in fossil fuel expansion- and the good those funds could do if invested in sustainable\, community-based energy. All the background documents and the latest news are here on our Climate Justice webpage. \nWe will be offering a monthly Zoom forum  at 7:00PM CDT (CST after the time change) on the 22nd of each month over the coming year. This will be your opportunity to discuss actions\, ask questions\, get support and celebrate action. We want to support you to take action\, to express your concerns\, to explore what divesting might mean for you or your community of faith. All welcome! You can also contact committee chairperson Lynda Trono at lyndatrono(at)gmail(dot)com \nRecurring link details for:\nMay 22\, 2024 07:00 PM \nSaturday Jun 22\, 2024 07:00 PM \nMonday  Jul 22\, 2024 07:00 PM \nThursday   Aug 22\, 2024 07:00 PM \nSunday Sep 22\, 2024 07:00 PM \nTuesday  Oct 22\, 2024 07:00 PM \nFriday Nov 22\, 2024 07:00 PM \n(It’s likely we aren’t meeting Dec 22!) \nMeeting ID: 830 1029 1982 \nPassword: 274282 \n855 703 8985 Canada Toll-free \nMonthly recurring link: https://united-church.zoom.us/j/83010291982?pwd=IxEWfaGQPPJQXZwph3VctYlMtPq4bX.1 \nPlease download and import the following iCalendar (.ics) files to your calendar to help you keep track!\nhttps://united-church.zoom.us/meeting/tZctdumqpzojEtbc1bf7Z19Tmwsv_X-gMir_/ics?icsToken=98tyKuGrrjoqGN2UuRGFRpwqAoj4c-rxmH5Ej7dfn07nBXdpM1rCO_VRJI1HXd_9 \n 
URL:https://prairietopinerc.ca/event/earth-week-climate-justice-and-financing-open-meeting-2/2024-08-22/
LOCATION:Zoom
CATEGORIES:Events,Regional
ATTACH;FMTTYPE=image/png:https://prairietopinerc.ca/wp-content/uploads/2023/06/EarthMoreValuableThanMoney.png
END:VEVENT
BEGIN:VEVENT
DTSTART;TZID=America/Winnipeg:20240825T110000
DTEND;TZID=America/Winnipeg:20240825T120000
DTSTAMP:20260425T082503
CREATED:20240419T174952Z
LAST-MODIFIED:20240419T174952Z
UID:10000978-1724583600-1724587200@prairietopinerc.ca
SUMMARY:Summer Sunday Services at West Hawk Lake UC begins May 19th
DESCRIPTION:We are pleased to announce that the Summer Worship Service at West Hawk United Church will held at 11:00 am every Sunday until at least the September long weekend. (RC Chapel once again will be held on Sundays at 9 am.) \nA variety of supply ministers and lay leadership will attend each service. The Steering Committee is also receptive to making facilities available for other appropriate uses and gatherings such as weddings\, funerals\, family gatherings\, retreats\, \nFor more info contact Mike Balshaw: westhawk.unitedchurch@gmail.com
URL:https://prairietopinerc.ca/event/summer-sunday-services-at-west-hawk-lake-uc-begins-may-19th/2024-08-25/
LOCATION:West Hawk Lake United Church\, Provincial Trunk Hwy 44\, Whiteshell\, Manitoba\, R0E 2H0\, Canada
CATEGORIES:Community of Faith Events calendar,Events
END:VEVENT
END:VCALENDAR