BEGIN:VCALENDAR
VERSION:2.0
PRODID:-//Prairie to Pine Regional Council - ECPv6.15.20//NONSGML v1.0//EN
CALSCALE:GREGORIAN
METHOD:PUBLISH
X-ORIGINAL-URL:https://prairietopinerc.ca
X-WR-CALDESC:Events for Prairie to Pine Regional Council
REFRESH-INTERVAL;VALUE=DURATION:PT1H
X-Robots-Tag:noindex
X-PUBLISHED-TTL:PT1H
BEGIN:VTIMEZONE
TZID:America/Winnipeg
BEGIN:DAYLIGHT
TZOFFSETFROM:-0600
TZOFFSETTO:-0500
TZNAME:CDT
DTSTART:20250309T080000
END:DAYLIGHT
BEGIN:STANDARD
TZOFFSETFROM:-0500
TZOFFSETTO:-0600
TZNAME:CST
DTSTART:20251102T070000
END:STANDARD
BEGIN:DAYLIGHT
TZOFFSETFROM:-0600
TZOFFSETTO:-0500
TZNAME:CDT
DTSTART:20260308T080000
END:DAYLIGHT
BEGIN:STANDARD
TZOFFSETFROM:-0500
TZOFFSETTO:-0600
TZNAME:CST
DTSTART:20261101T070000
END:STANDARD
BEGIN:DAYLIGHT
TZOFFSETFROM:-0600
TZOFFSETTO:-0500
TZNAME:CDT
DTSTART:20270314T080000
END:DAYLIGHT
BEGIN:STANDARD
TZOFFSETFROM:-0500
TZOFFSETTO:-0600
TZNAME:CST
DTSTART:20271107T070000
END:STANDARD
END:VTIMEZONE
BEGIN:VEVENT
DTSTART;TZID=America/Winnipeg:20260423T093000
DTEND;TZID=America/Winnipeg:20260423T123000
DTSTAMP:20260422T144600
CREATED:20230823T015149Z
LAST-MODIFIED:20230823T015149Z
UID:10000749-1776936600-1776947400@prairietopinerc.ca
SUMMARY:Committee on Community of Faith Support
DESCRIPTION:The Committee on Community of Faith Support is holding its regular meeting via Zoom every fourth Thursday of the month.
URL:https://prairietopinerc.ca/event/committee-on-community-of-faith-support/2026-04-23/
LOCATION:Manitoba
CATEGORIES:Events,Regional
END:VEVENT
BEGIN:VEVENT
DTSTART;TZID=America/Winnipeg:20260423T150000
DTEND;TZID=America/Winnipeg:20260425T150000
DTSTAMP:20260422T144600
CREATED:20260408T155312Z
LAST-MODIFIED:20260408T155312Z
UID:10002198-1776956400-1777129200@prairietopinerc.ca
SUMMARY:Huge 3-Day Church Garage Sale
DESCRIPTION:Huge Garage Sale taking place over three days.\nMega Sale – lots of items to choose from over three floors!!!!\nWHERE: North Kildonan United Church (NKUC)\n174 Pentland Street\n(between McIvor and Gilmore) \nWHEN: Thursday\, April 23 – 3:00PM to 8:00PM\nFriday\, April 24 – 10:00AM to 8:00PM\nSaturday\, April 25 – 8:00AM to 3:00PM \nNKUC is a fully accessible venue!
URL:https://prairietopinerc.ca/event/huge-3-day-church-garage-sale/
LOCATION:North Kildonan United Church\, 174 Pentland St\, Winnipeg\, MB\, Canada
CATEGORIES:Community of Faith Events calendar,Events
ATTACH;FMTTYPE=image/jpeg:https://prairietopinerc.ca/wp-content/uploads/2026/04/st1.jpg
ORGANIZER;CN="North Kildonan United Church":MAILTO:nkuc@mymts.net
END:VEVENT
BEGIN:VEVENT
DTSTART;VALUE=DATE:20260424
DTEND;VALUE=DATE:20260425
DTSTAMP:20260422T144600
CREATED:20251211T015638Z
LAST-MODIFIED:20251211T015638Z
UID:10002086-1776988800-1777075199@prairietopinerc.ca
SUMMARY:Armenian Genocide Memorial Day
DESCRIPTION:
URL:https://prairietopinerc.ca/event/armenian-genocide-memorial-day/
LOCATION:Manitoba
CATEGORIES:Events,Regional
END:VEVENT
BEGIN:VEVENT
DTSTART;TZID=America/Winnipeg:20260424T190000
DTEND;TZID=America/Winnipeg:20260426T130000
DTSTAMP:20260422T144600
CREATED:20260320T144505Z
LAST-MODIFIED:20260320T144505Z
UID:10002192-1777057200-1777208400@prairietopinerc.ca
SUMMARY:Youth Confirmation Retreat
DESCRIPTION:A weekend event for youth ages 13-18 who are interested in being confirmed. Come explore our faith\, our church and build community with other youth from Winnipeg United Churches. The weekend is April 24 to 26th at Westworth United Church.
URL:https://prairietopinerc.ca/event/youth-confirmation-retreat/
LOCATION:Westworth United Church\, 1750 Grosvenor Avenue\, Winnipeg\, Manitoba\, R3N 0H9\, Canada
CATEGORIES:Community of Faith Events calendar,Events
ATTACH;FMTTYPE=image/png:https://prairietopinerc.ca/wp-content/uploads/2026/03/confirmation-retreat-poster.png
END:VEVENT
BEGIN:VEVENT
DTSTART;TZID=America/Winnipeg:20260425T180000
DTEND;TZID=America/Winnipeg:20260425T213000
DTSTAMP:20260422T144600
CREATED:20260304T175310Z
LAST-MODIFIED:20260304T175310Z
UID:10002180-1777140000-1777152600@prairietopinerc.ca
SUMMARY:Caught In The Act Co. Dinner Theatre
DESCRIPTION:Get ready to set sail on an adventure filled with mystery\, suspense and a little love triangle romance when the 13th Annual Caught in the Act Dinner Theatre presented by Transcona Memorial United Church (209 Yale Ave W) launches Nothing But the Truth April 17\, 18 & 19 and April 25 & 26. \nTickets are on sale now! Dinner theatre tickets are only $55 each ($20 tax receipt) and include a delicious meal and entertaining performance! For more information on tickets and the production\, visit tmuc.ca/dinner-theatre. Sea you soon! \nPlay written by Philip J. Anderson and produced by special arrangement with PIONEER DRAMA SERVICE. Denver\, Colorado
URL:https://prairietopinerc.ca/event/caught-in-the-act-co-dinner-theatre-2/2026-04-25/
LOCATION:Transcona Memorial United Church-Winnipeg\, 209 Yale Avenue West\, Winnipeg\, MB\, R2C 1T9\, Canada
CATEGORIES:Community of Faith Events calendar,Events
ATTACH;FMTTYPE=image/jpeg:https://prairietopinerc.ca/wp-content/uploads/2026/03/2026-General-Poster-FINAL.pdf.jpg
END:VEVENT
BEGIN:VEVENT
DTSTART;VALUE=DATE:20260426
DTEND;VALUE=DATE:20260427
DTSTAMP:20260422T144600
CREATED:20251211T015731Z
LAST-MODIFIED:20251211T015731Z
UID:10002087-1777161600-1777247999@prairietopinerc.ca
SUMMARY:International Lesbian Visibility Day
DESCRIPTION:
URL:https://prairietopinerc.ca/event/international-lesbian-visibility-day/
LOCATION:Manitoba
CATEGORIES:Events,Regional
END:VEVENT
BEGIN:VEVENT
DTSTART;TZID=America/Winnipeg:20260426T150000
DTEND;TZID=America/Winnipeg:20260426T170000
DTSTAMP:20260422T144600
CREATED:20260318T151519Z
LAST-MODIFIED:20260318T151519Z
UID:10002191-1777215600-1777222800@prairietopinerc.ca
SUMMARY:Divine Dramedy
DESCRIPTION:Westworth United Church choir\npresents an afternoon fundraiser concert \nFeaturing hits from Godspell\, Jesus Christ Superstar and\nJoseph and the Amazing Technicolor Dreamcoat\nPlus solos and ensemble pieces from Broadway Comedies.
URL:https://prairietopinerc.ca/event/divine-dramedy/
LOCATION:Westworth United Church\, 1750 Grosvenor Avenue\, Winnipeg\, Manitoba\, R3N 0H9\, Canada
CATEGORIES:Community of Faith Events calendar,Events
ATTACH;FMTTYPE=image/png:https://prairietopinerc.ca/wp-content/uploads/2026/03/Divine-3.png
ORGANIZER;CN="Westworth United Church":MAILTO:office@westworth.ca
END:VEVENT
BEGIN:VEVENT
DTSTART;TZID=America/Winnipeg:20260426T160000
DTEND;TZID=America/Winnipeg:20260426T203000
DTSTAMP:20260422T144600
CREATED:20260304T175310Z
LAST-MODIFIED:20260304T175310Z
UID:10002181-1777219200-1777235400@prairietopinerc.ca
SUMMARY:Caught In The Act Co. Dinner Theatre
DESCRIPTION:Get ready to set sail on an adventure filled with mystery\, suspense and a little love triangle romance when the 13th Annual Caught in the Act Dinner Theatre presented by Transcona Memorial United Church (209 Yale Ave W) launches Nothing But the Truth April 17\, 18 & 19 and April 25 & 26. \nTickets are on sale now! Dinner theatre tickets are only $55 each ($20 tax receipt) and include a delicious meal and entertaining performance! For more information on tickets and the production\, visit tmuc.ca/dinner-theatre. Sea you soon! \nPlay written by Philip J. Anderson and produced by special arrangement with PIONEER DRAMA SERVICE. Denver\, Colorado
URL:https://prairietopinerc.ca/event/caught-in-the-act-co-dinner-theatre-2/2026-04-26/
LOCATION:Transcona Memorial United Church-Winnipeg\, 209 Yale Avenue West\, Winnipeg\, MB\, R2C 1T9\, Canada
CATEGORIES:Community of Faith Events calendar,Events
ATTACH;FMTTYPE=image/jpeg:https://prairietopinerc.ca/wp-content/uploads/2026/03/2026-General-Poster-FINAL.pdf.jpg
END:VEVENT
BEGIN:VEVENT
DTSTART;TZID=America/Winnipeg:20260426T183000
DTEND;TZID=America/Winnipeg:20260426T203000
DTSTAMP:20260422T144600
CREATED:20260422T165107Z
LAST-MODIFIED:20260422T165107Z
UID:10002203-1777228200-1777235400@prairietopinerc.ca
SUMMARY:Women Wage Peace
DESCRIPTION:You are warmly welcome to attend “Women for a Just Peace—In Palestine\, Israel and at home” on Sunday\, April 26\, at the Canadian Museum for Human Rights. Workshops on storytelling and practical tools for difficult conversations will be held in the afternoon\, and the evening program features keynote speaker Amal Elsana Alhjooj\, a Bedouin\, Palestinian feminist who is a professor at McGill University\, in conversation with Rabbi Donna Kirshbaum\, one of the co-founders of Women Wage Peace. This conference is jointly hosted by the CMHR and Women Wage Peace. It is sponsored by Westworth United Church and the New Israel Fund (The New Israel Fund (NIF) is a non-profit organization that supports equality\, economic justice\, religious freedom\, democracy\, and full and sustainable Palestinian rights in Israel and the Occupied Territories.) \n(Women Wage Peace is a group of Israeli and Palestinian women of Muslim\, Jewish\, Druze\, Bedouin and Christian identities. Founded in the aftermath of the 50-day Gaza War of 2014\, Women Wage Peace has grown to 50\,000 Israeli members—the largest grassroots peace movement in Israel today. It works with its sister Palestinian organization\, Women of the Sun\, to call for an end to the fighting in Israel and Palestine and commit to a diplomatic resolution for justice\, peace and security for all. These negotiations must include women’s participation.)
URL:https://prairietopinerc.ca/event/women-wage-peace/
LOCATION:Canadian Museum for Human Rights\, 85 Israel Asper Wy\,\, Winnipeg\, MB\, R3C 0L5\, Canada
CATEGORIES:Community of Faith Events calendar,Events
END:VEVENT
BEGIN:VEVENT
DTSTART;VALUE=DATE:20260428
DTEND;VALUE=DATE:20260429
DTSTAMP:20260422T144600
CREATED:20251211T015834Z
LAST-MODIFIED:20251211T015834Z
UID:10002088-1777334400-1777420799@prairietopinerc.ca
SUMMARY:International Workers' Memorial Day
DESCRIPTION:
URL:https://prairietopinerc.ca/event/international-workers-memorial-day/
LOCATION:Manitoba
CATEGORIES:Events,Regional
END:VEVENT
BEGIN:VEVENT
DTSTART;TZID=America/Winnipeg:20260428T130000
DTEND;TZID=America/Winnipeg:20260428T150000
DTSTAMP:20260422T144600
CREATED:20250122T222921Z
LAST-MODIFIED:20250122T222921Z
UID:10001471-1777381200-1777388400@prairietopinerc.ca
SUMMARY:Connection / Prayer/ Communion Zoom Gathering
DESCRIPTION:A Message from Vocational Minister\, Laura Fouhse\nMinistry Personnel in Northern Spirit\, Living Skies\, and Prairie to Pine Regional Councils….(including active\, retired\, honorary associates\, and candidates in appointment) \nIn response to a number of requests (and my own desire) I will be hosting a 1 hour (roughly) connection/prayer/communion Zoom gathering on the 4th Tuesday of each month at 1 pm (CST). We will start next Tuesday (Jan 28). \nYou are welcome to bring your lunch with you to the gathering (but you may need to share with those who forgot) Also bring communion elements (obviously) and a candle (or whatever helps center you). \nHere is the Zoom link. It will be the same link each month\,\nhttps://united-church.zoom.us/j/81483053358
URL:https://prairietopinerc.ca/event/connection-prayer-communion-zoom-gathering/2026-04-28/
LOCATION:via Zoom
CATEGORIES:Events,Regional
ATTACH;FMTTYPE=image/png:https://prairietopinerc.ca/wp-content/uploads/2025/01/Tri-Region-Ministry-Personnel-monthly-Zoom.png
END:VEVENT
BEGIN:VEVENT
DTSTART;TZID=America/Winnipeg:20260429T140000
DTEND;TZID=America/Winnipeg:20260429T150000
DTSTAMP:20260422T144600
CREATED:20250905T180848Z
LAST-MODIFIED:20250905T181104Z
UID:10001660-1777471200-1777474800@prairietopinerc.ca
SUMMARY:Online Bible Study with Jordan Cantwell
DESCRIPTION:Every Wednesday at 1 pm (SK time) \nDeep conversation \nSpiritual friendships \nFaith exploration \nNew participants always welcome! \nContact jcantwell@united-church.ca for more information. \nClick here to join:  https://bit.ly/41Vh93V
URL:https://prairietopinerc.ca/event/online-bible-study-with-jordan-cantwell/2026-04-29/
LOCATION:Online
CATEGORIES:Community of Faith Events calendar,Events,Regional
END:VEVENT
BEGIN:VEVENT
DTSTART;TZID=America/Winnipeg:20260501T173000
DTEND;TZID=America/Winnipeg:20260501T193000
DTSTAMP:20260422T144600
CREATED:20250917T194225Z
LAST-MODIFIED:20250917T194225Z
UID:10001967-1777656600-1777663800@prairietopinerc.ca
SUMMARY:Messy Church
DESCRIPTION:Messy Church is church that is fun! It celebrates faith with creativity and hospitality! \nIt is Biblically based!\nIt is for everyone — all generations together!\nIt is a growing international community filled with enthusiasm and ideas to share Good News.\nAll are Welcome! \nJoin us at TMUC for Messy Church: stories\, songs\, crafts and a shared meal!
URL:https://prairietopinerc.ca/event/messy-church-10/
LOCATION:Transcona Memorial United Church\, 209 Yale Ave W.\, Winnipeg\, Manitoba\, R2C 1T9\, Canada
CATEGORIES:Community of Faith Events calendar,Events
ATTACH;FMTTYPE=image/png:https://prairietopinerc.ca/wp-content/uploads/2025/09/Image-7.png
END:VEVENT
BEGIN:VEVENT
DTSTART;VALUE=DATE:20260503
DTEND;VALUE=DATE:20260504
DTSTAMP:20260422T144600
CREATED:20251211T015913Z
LAST-MODIFIED:20251211T015913Z
UID:10002089-1777766400-1777852799@prairietopinerc.ca
SUMMARY:International Family Equity Day
DESCRIPTION:
URL:https://prairietopinerc.ca/event/international-family-equity-day/
LOCATION:Manitoba
CATEGORIES:Events,Regional
END:VEVENT
BEGIN:VEVENT
DTSTART;VALUE=DATE:20260504
DTEND;VALUE=DATE:20260511
DTSTAMP:20260422T144600
CREATED:20251211T020022Z
LAST-MODIFIED:20251211T020022Z
UID:10002090-1777852800-1778457599@prairietopinerc.ca
SUMMARY:CMHA Mental Health Week
DESCRIPTION:
URL:https://prairietopinerc.ca/event/cmha-mental-health-week/
LOCATION:Manitoba
CATEGORIES:Events,Regional
END:VEVENT
BEGIN:VEVENT
DTSTART;VALUE=DATE:20260505
DTEND;VALUE=DATE:20260506
DTSTAMP:20260422T144600
CREATED:20251211T020136Z
LAST-MODIFIED:20251211T020136Z
UID:10002091-1777939200-1778025599@prairietopinerc.ca
SUMMARY:National Day of Awareness for Missing and Murdered Indigenous Women & Girls / Red Dress Day
DESCRIPTION:
URL:https://prairietopinerc.ca/event/national-day-of-awareness-for-missing-and-murdered-indigenous-women-girls-red-dress-day/
LOCATION:Manitoba
CATEGORIES:Events,Regional
END:VEVENT
BEGIN:VEVENT
DTSTART;TZID=America/Winnipeg:20260505T150000
DTEND;TZID=America/Winnipeg:20260505T160000
DTSTAMP:20260422T144601
CREATED:20250924T171839Z
LAST-MODIFIED:20250924T171839Z
UID:10001977-1777993200-1777996800@prairietopinerc.ca
SUMMARY:Ministry Personnel Support Online Gathering
DESCRIPTION:Ministry Personnel Support Gathering. Tuesday\,  November 4\, 2025\, at 3:00 p.m. The monthly opportunity for Ministry Personnel from Prairie to Pine Regional Council (active & retired) to connect with one another via ZOOM. Here is the Zoom link information.
URL:https://prairietopinerc.ca/event/ministry-personnel-support-online-gathering/2026-05-05/
LOCATION:via Zoom
CATEGORIES:Events,Regional
END:VEVENT
BEGIN:VEVENT
DTSTART;TZID=America/Winnipeg:20260506T140000
DTEND;TZID=America/Winnipeg:20260506T150000
DTSTAMP:20260422T144601
CREATED:20250905T180848Z
LAST-MODIFIED:20250905T181104Z
UID:10001661-1778076000-1778079600@prairietopinerc.ca
SUMMARY:Online Bible Study with Jordan Cantwell
DESCRIPTION:Every Wednesday at 1 pm (SK time) \nDeep conversation \nSpiritual friendships \nFaith exploration \nNew participants always welcome! \nContact jcantwell@united-church.ca for more information. \nClick here to join:  https://bit.ly/41Vh93V
URL:https://prairietopinerc.ca/event/online-bible-study-with-jordan-cantwell/2026-05-06/
LOCATION:Online
CATEGORIES:Community of Faith Events calendar,Events,Regional
END:VEVENT
BEGIN:VEVENT
DTSTART;TZID=America/Winnipeg:20260508T163000
DTEND;TZID=America/Winnipeg:20260508T203000
DTSTAMP:20260422T144601
CREATED:20260407T173359Z
LAST-MODIFIED:20260407T173359Z
UID:10002196-1778257800-1778272200@prairietopinerc.ca
SUMMARY:Quilt Show
DESCRIPTION:Trinity Sew & Sews\n933 Summerside Ave.\, Winnipeg MB\nSilent Auction\, Boutique \,Vendors\, Flea market \,Coffee/cookies\nAmazing Quilts \nINFO OR TO SHOW : trinitysewandsews@gmail.com \nMAY 8: 4:30 PM 8:30 PM\nMAY 9: 9:30 AM 3:30 PM
URL:https://prairietopinerc.ca/event/quilt-show/2026-05-08/
LOCATION:Trinity United Church-Winnipeg\, 933 Summerside Avenue\, Winnipeg\, Manitoba\, R3T 4Y1\, Canada
CATEGORIES:Community of Faith Events calendar,Events
ATTACH;FMTTYPE=image/png:https://prairietopinerc.ca/wp-content/uploads/2026/04/2026-Quilt-Show.png
ORGANIZER;CN="Trinity United Church-Winnipeg":MAILTO:tuc@mymts.net
END:VEVENT
BEGIN:VEVENT
DTSTART;TZID=America/Winnipeg:20260509T093000
DTEND;TZID=America/Winnipeg:20260509T153000
DTSTAMP:20260422T144601
CREATED:20260407T173359Z
LAST-MODIFIED:20260407T173359Z
UID:10002197-1778319000-1778340600@prairietopinerc.ca
SUMMARY:Quilt Show
DESCRIPTION:Trinity Sew & Sews\n933 Summerside Ave.\, Winnipeg MB\nSilent Auction\, Boutique \,Vendors\, Flea market \,Coffee/cookies\nAmazing Quilts \nINFO OR TO SHOW : trinitysewandsews@gmail.com \nMAY 8: 4:30 PM 8:30 PM\nMAY 9: 9:30 AM 3:30 PM
URL:https://prairietopinerc.ca/event/quilt-show/2026-05-09/
LOCATION:Trinity United Church-Winnipeg\, 933 Summerside Avenue\, Winnipeg\, Manitoba\, R3T 4Y1\, Canada
CATEGORIES:Community of Faith Events calendar,Events
ATTACH;FMTTYPE=image/png:https://prairietopinerc.ca/wp-content/uploads/2026/04/2026-Quilt-Show.png
ORGANIZER;CN="Trinity United Church-Winnipeg":MAILTO:tuc@mymts.net
END:VEVENT
BEGIN:VEVENT
DTSTART;TZID=America/Winnipeg:20260509T190000
DTEND;TZID=America/Winnipeg:20260509T210000
DTSTAMP:20260422T144601
CREATED:20260327T164116Z
LAST-MODIFIED:20260327T164116Z
UID:10002193-1778353200-1778360400@prairietopinerc.ca
SUMMARY:Sisters of the Holy Rock
DESCRIPTION:Prairie Spirit United Church is hosting Sisters of the Holy Rock on Saturday May 9\, 2026. Suitable for all ages. Wheelchair accessible. Tickets are $25. Call the church office at 204-832-1000
URL:https://prairietopinerc.ca/event/sisters-of-the-holy-rock-2/
LOCATION:Prairie Spirit United Church\, 207 Thompson Drive\, Winnipeg\, Manitoba\, R3J 3E2\, Canada
CATEGORIES:Community of Faith Events calendar,Events
ATTACH;FMTTYPE=image/jpeg:https://prairietopinerc.ca/wp-content/uploads/2026/03/sisters.jpg
ORGANIZER;CN="Prairie Spirit United Church":MAILTO:PrairieSpiritUC@shaw.ca
END:VEVENT
BEGIN:VEVENT
DTSTART;TZID=America/Winnipeg:20260513T140000
DTEND;TZID=America/Winnipeg:20260513T150000
DTSTAMP:20260422T144601
CREATED:20250905T180848Z
LAST-MODIFIED:20250905T181104Z
UID:10001662-1778680800-1778684400@prairietopinerc.ca
SUMMARY:Online Bible Study with Jordan Cantwell
DESCRIPTION:Every Wednesday at 1 pm (SK time) \nDeep conversation \nSpiritual friendships \nFaith exploration \nNew participants always welcome! \nContact jcantwell@united-church.ca for more information. \nClick here to join:  https://bit.ly/41Vh93V
URL:https://prairietopinerc.ca/event/online-bible-study-with-jordan-cantwell/2026-05-13/
LOCATION:Online
CATEGORIES:Community of Faith Events calendar,Events,Regional
END:VEVENT
BEGIN:VEVENT
DTSTART;VALUE=DATE:20260517
DTEND;VALUE=DATE:20260518
DTSTAMP:20260422T144601
CREATED:20251211T020251Z
LAST-MODIFIED:20251211T020251Z
UID:10002092-1778976000-1779062399@prairietopinerc.ca
SUMMARY:International Day Against Homophobia\, Transphobia and Biphobia (IDAHOBIT)
DESCRIPTION:
URL:https://prairietopinerc.ca/event/international-day-against-homophobia-transphobia-and-biphobia-idahobit/
LOCATION:Manitoba
CATEGORIES:Events,Regional
END:VEVENT
BEGIN:VEVENT
DTSTART;VALUE=DATE:20260519
DTEND;VALUE=DATE:20260520
DTSTAMP:20260422T144601
CREATED:20251211T020331Z
LAST-MODIFIED:20251211T020331Z
UID:10002093-1779148800-1779235199@prairietopinerc.ca
SUMMARY:Agender Pride Day
DESCRIPTION:
URL:https://prairietopinerc.ca/event/agender-pride-day/
LOCATION:Manitoba
CATEGORIES:Events,Regional
END:VEVENT
BEGIN:VEVENT
DTSTART;TZID=America/Winnipeg:20260520T140000
DTEND;TZID=America/Winnipeg:20260520T150000
DTSTAMP:20260422T144601
CREATED:20250905T180848Z
LAST-MODIFIED:20250905T181104Z
UID:10001663-1779285600-1779289200@prairietopinerc.ca
SUMMARY:Online Bible Study with Jordan Cantwell
DESCRIPTION:Every Wednesday at 1 pm (SK time) \nDeep conversation \nSpiritual friendships \nFaith exploration \nNew participants always welcome! \nContact jcantwell@united-church.ca for more information. \nClick here to join:  https://bit.ly/41Vh93V
URL:https://prairietopinerc.ca/event/online-bible-study-with-jordan-cantwell/2026-05-20/
LOCATION:Online
CATEGORIES:Community of Faith Events calendar,Events,Regional
END:VEVENT
BEGIN:VEVENT
DTSTART;TZID=America/Winnipeg:20260523T090000
DTEND;TZID=America/Winnipeg:20260523T150000
DTSTAMP:20260422T144601
CREATED:20260130T203857Z
LAST-MODIFIED:20260130T203857Z
UID:10002159-1779526800-1779548400@prairietopinerc.ca
SUMMARY:Garage and Bake Sale
DESCRIPTION:Garage & Bake Sale – May 23\, 2026!\nCome treasure hunting at Fort Garry United Church (800 Point Road) on Saturday\, May 23 from 9 AM – 3 PM! Find baking\, books\, toys\, tools\, household items\, jewelry\, plants\, and more. Donations accepted May 20-22 (no large furniture\, TVs\, or clothing). Questions? Call 204-475-1586. Don’t miss it!
URL:https://prairietopinerc.ca/event/garage-and-bake-sale-3/
LOCATION:Fort Garry United Church\, 800 Point Rd\, Winnipeg\, MB\, Winnipeg\, Manitoba\, R3T 3L8\, Canada
CATEGORIES:Community of Faith Events calendar,Events
ATTACH;FMTTYPE=image/jpeg:https://prairietopinerc.ca/wp-content/uploads/2026/01/2026-Garage-Sale-poster.jpg
ORGANIZER;CN="Mavis Allison":MAILTO:wasagawomensweekend@gmail.com
END:VEVENT
BEGIN:VEVENT
DTSTART;VALUE=DATE:20260524
DTEND;VALUE=DATE:20260525
DTSTAMP:20260422T144601
CREATED:20251211T020424Z
LAST-MODIFIED:20251211T020424Z
UID:10002094-1779580800-1779667199@prairietopinerc.ca
SUMMARY:Pansexual & Panromantic Day of Visibility
DESCRIPTION:
URL:https://prairietopinerc.ca/event/pansexual-panromantic-day-of-visibility/
LOCATION:Manitoba
CATEGORIES:Events,Regional
END:VEVENT
BEGIN:VEVENT
DTSTART;VALUE=DATE:20260526
DTEND;VALUE=DATE:20260608
DTSTAMP:20260422T144601
CREATED:20251211T020526Z
LAST-MODIFIED:20251211T020526Z
UID:10002095-1779753600-1780876799@prairietopinerc.ca
SUMMARY:Winnipeg Pride Festival
DESCRIPTION:
URL:https://prairietopinerc.ca/event/winnipeg-pride-festival/
LOCATION:Manitoba
CATEGORIES:Events,Regional
END:VEVENT
BEGIN:VEVENT
DTSTART;TZID=America/Winnipeg:20260526T130000
DTEND;TZID=America/Winnipeg:20260526T150000
DTSTAMP:20260422T144601
CREATED:20250122T222921Z
LAST-MODIFIED:20250122T222921Z
UID:10001472-1779800400-1779807600@prairietopinerc.ca
SUMMARY:Connection / Prayer/ Communion Zoom Gathering
DESCRIPTION:A Message from Vocational Minister\, Laura Fouhse\nMinistry Personnel in Northern Spirit\, Living Skies\, and Prairie to Pine Regional Councils….(including active\, retired\, honorary associates\, and candidates in appointment) \nIn response to a number of requests (and my own desire) I will be hosting a 1 hour (roughly) connection/prayer/communion Zoom gathering on the 4th Tuesday of each month at 1 pm (CST). We will start next Tuesday (Jan 28). \nYou are welcome to bring your lunch with you to the gathering (but you may need to share with those who forgot) Also bring communion elements (obviously) and a candle (or whatever helps center you). \nHere is the Zoom link. It will be the same link each month\,\nhttps://united-church.zoom.us/j/81483053358
URL:https://prairietopinerc.ca/event/connection-prayer-communion-zoom-gathering/2026-05-26/
LOCATION:via Zoom
CATEGORIES:Events,Regional
ATTACH;FMTTYPE=image/png:https://prairietopinerc.ca/wp-content/uploads/2025/01/Tri-Region-Ministry-Personnel-monthly-Zoom.png
END:VEVENT
BEGIN:VEVENT
DTSTART;TZID=America/Winnipeg:20260527T140000
DTEND;TZID=America/Winnipeg:20260527T150000
DTSTAMP:20260422T144601
CREATED:20250905T180848Z
LAST-MODIFIED:20250905T181104Z
UID:10001664-1779890400-1779894000@prairietopinerc.ca
SUMMARY:Online Bible Study with Jordan Cantwell
DESCRIPTION:Every Wednesday at 1 pm (SK time) \nDeep conversation \nSpiritual friendships \nFaith exploration \nNew participants always welcome! \nContact jcantwell@united-church.ca for more information. \nClick here to join:  https://bit.ly/41Vh93V
URL:https://prairietopinerc.ca/event/online-bible-study-with-jordan-cantwell/2026-05-27/
LOCATION:Online
CATEGORIES:Community of Faith Events calendar,Events,Regional
END:VEVENT
END:VCALENDAR