BEGIN:VCALENDAR
VERSION:2.0
PRODID:-//Prairie to Pine Regional Council - ECPv6.15.20//NONSGML v1.0//EN
CALSCALE:GREGORIAN
METHOD:PUBLISH
X-WR-CALNAME:Prairie to Pine Regional Council
X-ORIGINAL-URL:https://prairietopinerc.ca
X-WR-CALDESC:Events for Prairie to Pine Regional Council
REFRESH-INTERVAL;VALUE=DURATION:PT1H
X-Robots-Tag:noindex
X-PUBLISHED-TTL:PT1H
BEGIN:VTIMEZONE
TZID:America/Winnipeg
BEGIN:DAYLIGHT
TZOFFSETFROM:-0600
TZOFFSETTO:-0500
TZNAME:CDT
DTSTART:20250309T080000
END:DAYLIGHT
BEGIN:STANDARD
TZOFFSETFROM:-0500
TZOFFSETTO:-0600
TZNAME:CST
DTSTART:20251102T070000
END:STANDARD
BEGIN:DAYLIGHT
TZOFFSETFROM:-0600
TZOFFSETTO:-0500
TZNAME:CDT
DTSTART:20260308T080000
END:DAYLIGHT
BEGIN:STANDARD
TZOFFSETFROM:-0500
TZOFFSETTO:-0600
TZNAME:CST
DTSTART:20261101T070000
END:STANDARD
BEGIN:DAYLIGHT
TZOFFSETFROM:-0600
TZOFFSETTO:-0500
TZNAME:CDT
DTSTART:20270314T080000
END:DAYLIGHT
BEGIN:STANDARD
TZOFFSETFROM:-0500
TZOFFSETTO:-0600
TZNAME:CST
DTSTART:20271107T070000
END:STANDARD
END:VTIMEZONE
BEGIN:VEVENT
DTSTART;TZID=America/Winnipeg:20260325T140000
DTEND;TZID=America/Winnipeg:20260325T150000
DTSTAMP:20260422T143108
CREATED:20250905T180848Z
LAST-MODIFIED:20250905T181104Z
UID:10001655-1774447200-1774450800@prairietopinerc.ca
SUMMARY:Online Bible Study with Jordan Cantwell
DESCRIPTION:Every Wednesday at 1 pm (SK time) \nDeep conversation \nSpiritual friendships \nFaith exploration \nNew participants always welcome! \nContact jcantwell@united-church.ca for more information. \nClick here to join:  https://bit.ly/41Vh93V
URL:https://prairietopinerc.ca/event/online-bible-study-with-jordan-cantwell/2026-03-25/
LOCATION:Online
CATEGORIES:Community of Faith Events calendar,Events,Regional
END:VEVENT
BEGIN:VEVENT
DTSTART;TZID=America/Winnipeg:20260326T093000
DTEND;TZID=America/Winnipeg:20260326T123000
DTSTAMP:20260422T143108
CREATED:20230823T015149Z
LAST-MODIFIED:20230823T015149Z
UID:10000748-1774517400-1774528200@prairietopinerc.ca
SUMMARY:Committee on Community of Faith Support
DESCRIPTION:The Committee on Community of Faith Support is holding its regular meeting via Zoom every fourth Thursday of the month.
URL:https://prairietopinerc.ca/event/committee-on-community-of-faith-support/2026-03-26/
LOCATION:Manitoba
CATEGORIES:Events,Regional
END:VEVENT
BEGIN:VEVENT
DTSTART;TZID=America/Winnipeg:20260326T180000
DTEND;TZID=America/Winnipeg:20260326T210000
DTSTAMP:20260422T143108
CREATED:20260304T183632Z
LAST-MODIFIED:20260304T183632Z
UID:10002182-1774548000-1774558800@prairietopinerc.ca
SUMMARY:The Wind Blows Benefit Concert
DESCRIPTION:The Wind Blows Benefit Concert\, Thursday\, March 26\, Transcona Memorial United Church\, 209 Yale Avenue West in Winnipeg. Rush seating. Admission by donation. Doors @ 6:00 p.m. Concert @ 7:00 p.m. \nThe Wind Blows Benefit Concert offers a way for people to respond to the insurgence of Immigration and Customs Enforcement (ICE) in Minnesota. The funds raised by this concert will be donated to The Minnesota Conference of The United Church of Christ’s Emergency Grant Program\, which was created to both provide immediate need of food\, medicine\, rent assistance and other necessities for individuals and families who are afraid to leave their homes\, and opportunities for respite and renewal of those leaders experiencing first- and second-hand trauma as they are caught in ICE actions as observers. More information about the Emergency Grant Program can be found by visiting www.uccmn.org. \nThe Wind Blows Benefit Concert provides local singers\, songwriters and poets the opportunity to donate and share their craft\, in an effort to raise awareness\, call to action\, create opportunities for healing\, and inspire hope. For information on performer opportunities or other details\, please email minister@tmuc.ca.
URL:https://prairietopinerc.ca/event/the-wind-blows-benefit-concert/
LOCATION:Transcona Memorial United Church\, 209 Yale Ave W.\, Winnipeg\, Manitoba\, R2C 1T9\, Canada
CATEGORIES:Community of Faith Events calendar,Events
ATTACH;FMTTYPE=image/png:https://prairietopinerc.ca/wp-content/uploads/2026/03/The-Wind-Blows-Benefit-Concert.png
END:VEVENT
BEGIN:VEVENT
DTSTART;TZID=America/Winnipeg:20260328T203000
DTEND;TZID=America/Winnipeg:20260328T213000
DTSTAMP:20260422T143108
CREATED:20251211T015136Z
LAST-MODIFIED:20251211T015136Z
UID:10002080-1774729800-1774733400@prairietopinerc.ca
SUMMARY:Earth Hour
DESCRIPTION:
URL:https://prairietopinerc.ca/event/earth-hour/
LOCATION:Manitoba
CATEGORIES:Events,Regional
END:VEVENT
BEGIN:VEVENT
DTSTART;TZID=America/Winnipeg:20260329T140000
DTEND;TZID=America/Winnipeg:20260329T153000
DTSTAMP:20260422T143108
CREATED:20260211T015159Z
LAST-MODIFIED:20260211T015159Z
UID:10002162-1774792800-1774798200@prairietopinerc.ca
SUMMARY:Sisters of the Holy Rock
DESCRIPTION:Crescent Fort Rouge United Church at 525 Wardlaw Avenue in Winnipeg\, will be hosting Sisters of the Holy Rock on Sunday\, March 29\, at 2:00 p.m. It’s a fun concert for all ages. Wheelchair accessible. Tickets are $25. Call 204-475-6011 or email cfruc@mymts.net.
URL:https://prairietopinerc.ca/event/sisters-of-the-holy-rock/
LOCATION:Crescent Fort Rouge United Church\, 525 Wardlaw Avenue\, Winnipeg\, MB\, R3L 0L9
CATEGORIES:Community of Faith Events calendar,Events
END:VEVENT
BEGIN:VEVENT
DTSTART;TZID=America/Winnipeg:20260329T143000
DTEND;TZID=America/Winnipeg:20260329T153000
DTSTAMP:20260422T143108
CREATED:20260305T205413Z
LAST-MODIFIED:20260305T205413Z
UID:10002183-1774794600-1774798200@prairietopinerc.ca
SUMMARY:The Fly and Camel Café
DESCRIPTION:“Come join us on Sunday\, March 29th at St. Mary’s Road United Church! The Fly and Camel Café presents The Tang Quartet. \nNo admission charge – free will offering in support of St. Mary’s Road UC foodbank. Starts at 2:30 at 613 St. Mary’s Road”
URL:https://prairietopinerc.ca/event/the-fly-and-camel-cafe-2/
LOCATION:St. Mary’s Road United Church\, 613 St. Mary's Road\, Winnipeg\, MB\, Canada
CATEGORIES:Community of Faith Events calendar,Events
ATTACH;FMTTYPE=image/jpeg:https://prairietopinerc.ca/wp-content/uploads/2026/03/FlyandCamel_Mar-29-2026-scaled.jpeg
END:VEVENT
BEGIN:VEVENT
DTSTART;TZID=America/Winnipeg:20260331T080000
DTEND;TZID=America/Winnipeg:20260331T170000
DTSTAMP:20260422T143108
CREATED:20251211T015233Z
LAST-MODIFIED:20251211T015233Z
UID:10002081-1774944000-1774976400@prairietopinerc.ca
SUMMARY:National Indigenous Languages Day; Transgender Day of Visibility
DESCRIPTION:
URL:https://prairietopinerc.ca/event/national-indigenous-languages-day-transgender-day-of-visibility/
LOCATION:Manitoba
CATEGORIES:Events,Regional
END:VEVENT
BEGIN:VEVENT
DTSTART;TZID=America/Winnipeg:20260401T140000
DTEND;TZID=America/Winnipeg:20260401T150000
DTSTAMP:20260422T143108
CREATED:20250905T180848Z
LAST-MODIFIED:20250905T181104Z
UID:10001656-1775052000-1775055600@prairietopinerc.ca
SUMMARY:Online Bible Study with Jordan Cantwell
DESCRIPTION:Every Wednesday at 1 pm (SK time) \nDeep conversation \nSpiritual friendships \nFaith exploration \nNew participants always welcome! \nContact jcantwell@united-church.ca for more information. \nClick here to join:  https://bit.ly/41Vh93V
URL:https://prairietopinerc.ca/event/online-bible-study-with-jordan-cantwell/2026-04-01/
LOCATION:Online
CATEGORIES:Community of Faith Events calendar,Events,Regional
END:VEVENT
BEGIN:VEVENT
DTSTART;TZID=America/Winnipeg:20260403T173000
DTEND;TZID=America/Winnipeg:20260403T193000
DTSTAMP:20260422T143108
CREATED:20250917T194147Z
LAST-MODIFIED:20250917T194147Z
UID:10001966-1775237400-1775244600@prairietopinerc.ca
SUMMARY:Messy Easter
DESCRIPTION:Messy Church is church that is fun! It celebrates faith with creativity and hospitality! \nIt is Biblically based!\nIt is for everyone — all generations together!\nIt is a growing international community filled with enthusiasm and ideas to share Good News.\nAll are Welcome! \nJoin us at TMUC for Messy Church: stories\, songs\, crafts and a shared meal!
URL:https://prairietopinerc.ca/event/messy-easter/
LOCATION:Transcona Memorial United Church\, 209 Yale Ave W.\, Winnipeg\, Manitoba\, R2C 1T9\, Canada
CATEGORIES:Community of Faith Events calendar,Events
ATTACH;FMTTYPE=image/png:https://prairietopinerc.ca/wp-content/uploads/2025/09/Image-6.png
END:VEVENT
BEGIN:VEVENT
DTSTART;VALUE=DATE:20260404
DTEND;VALUE=DATE:20260405
DTSTAMP:20260422T143108
CREATED:20251211T015313Z
LAST-MODIFIED:20251211T015313Z
UID:10002082-1775260800-1775347199@prairietopinerc.ca
SUMMARY:Refugee Rights Day
DESCRIPTION:
URL:https://prairietopinerc.ca/event/refugee-rights-day/
LOCATION:Manitoba
CATEGORIES:Events,Regional
END:VEVENT
BEGIN:VEVENT
DTSTART;TZID=America/Winnipeg:20260404T190000
DTEND;TZID=America/Winnipeg:20260404T210000
DTSTAMP:20260422T143108
CREATED:20260318T151447Z
LAST-MODIFIED:20260318T151447Z
UID:10002190-1775329200-1775336400@prairietopinerc.ca
SUMMARY:Let Cuba Live Fundraising Concert
DESCRIPTION:Westworth United Church is hosting a Fundraising Concert in support of Cuba on April 4\, 2026 at 7:00 p.m. The concert will feature our Friday Morning Band and the Westworth Winds featuring music with a Cuban flare.
URL:https://prairietopinerc.ca/event/let-cuba-live-fundraising-concert/
LOCATION:Westworth United Church\, 1750 Grosvenor Avenue\, Winnipeg\, Manitoba\, R3N 0H9\, Canada
CATEGORIES:Community of Faith Events calendar,Events
ATTACH;FMTTYPE=image/png:https://prairietopinerc.ca/wp-content/uploads/2026/03/Your-paragraph-text-1.png
ORGANIZER;CN="Westworth United Church Outreach Team":MAILTO:office@westworth.ca
END:VEVENT
BEGIN:VEVENT
DTSTART;TZID=America/Winnipeg:20260404T203000
DTEND;TZID=America/Winnipeg:20260405T083000
DTSTAMP:20260422T143108
CREATED:20260311T191114Z
LAST-MODIFIED:20260311T191114Z
UID:10002189-1775334600-1775377800@prairietopinerc.ca
SUMMARY:Youth Easter Vigil
DESCRIPTION:12-hour overnight Easter Vigil!!! What is an Easter Vigil? An Event from sundown to sunrise easter morning recounting the events of the crucifixtion and ressurrection of Jesus Christ. Join us to worship and celebrate! Expect Music\, Readers Theater\, Journalling\, Crafting\, Games\, A Movie\, Snacks and more!!! \nWhen: Saturday April 4th 8:30pm to Sunday April 5th 8:30am \nWhere: The United Church in Meadowood (1111 Dakota st.) \nWho: Youth Grade 6-12 and youth leaders \nRegister: Easter Vigil Registration – Fill out form
URL:https://prairietopinerc.ca/event/youth-easter-vigil/
LOCATION:United Church in Meadowood\, 1111 Dakota St\, Winnipeg\, MB\, R2N3T7\, Canada
CATEGORIES:Community of Faith Events calendar,Events,Worship,Young Adults and Youth
ATTACH;FMTTYPE=image/png:https://prairietopinerc.ca/wp-content/uploads/2026/03/Youth-Easter-Vigil-Poster.png
END:VEVENT
BEGIN:VEVENT
DTSTART;VALUE=DATE:20260405
DTEND;VALUE=DATE:20260406
DTSTAMP:20260422T143108
CREATED:20251211T015357Z
LAST-MODIFIED:20251211T015357Z
UID:10002083-1775347200-1775433599@prairietopinerc.ca
SUMMARY:International Golden Rule Day
DESCRIPTION:
URL:https://prairietopinerc.ca/event/international-golden-rule-day/
LOCATION:Manitoba
CATEGORIES:Events,Regional
END:VEVENT
BEGIN:VEVENT
DTSTART;VALUE=DATE:20260406
DTEND;VALUE=DATE:20260407
DTSTAMP:20260422T143108
CREATED:20251211T015442Z
LAST-MODIFIED:20251211T015442Z
UID:10002084-1775433600-1775519999@prairietopinerc.ca
SUMMARY:International Asexuality Day
DESCRIPTION:
URL:https://prairietopinerc.ca/event/international-asexuality-day/
LOCATION:Manitoba
CATEGORIES:Events,Regional
END:VEVENT
BEGIN:VEVENT
DTSTART;TZID=America/Winnipeg:20260407T150000
DTEND;TZID=America/Winnipeg:20260407T160000
DTSTAMP:20260422T143108
CREATED:20250924T171839Z
LAST-MODIFIED:20250924T171839Z
UID:10001976-1775574000-1775577600@prairietopinerc.ca
SUMMARY:Ministry Personnel Support Online Gathering
DESCRIPTION:Ministry Personnel Support Gathering. Tuesday\,  November 4\, 2025\, at 3:00 p.m. The monthly opportunity for Ministry Personnel from Prairie to Pine Regional Council (active & retired) to connect with one another via ZOOM. Here is the Zoom link information.
URL:https://prairietopinerc.ca/event/ministry-personnel-support-online-gathering/2026-04-07/
LOCATION:via Zoom
CATEGORIES:Events,Regional
END:VEVENT
BEGIN:VEVENT
DTSTART;TZID=America/Winnipeg:20260408T140000
DTEND;TZID=America/Winnipeg:20260408T150000
DTSTAMP:20260422T143108
CREATED:20250905T180848Z
LAST-MODIFIED:20250905T181104Z
UID:10001657-1775656800-1775660400@prairietopinerc.ca
SUMMARY:Online Bible Study with Jordan Cantwell
DESCRIPTION:Every Wednesday at 1 pm (SK time) \nDeep conversation \nSpiritual friendships \nFaith exploration \nNew participants always welcome! \nContact jcantwell@united-church.ca for more information. \nClick here to join:  https://bit.ly/41Vh93V
URL:https://prairietopinerc.ca/event/online-bible-study-with-jordan-cantwell/2026-04-08/
LOCATION:Online
CATEGORIES:Community of Faith Events calendar,Events,Regional
END:VEVENT
BEGIN:VEVENT
DTSTART;TZID=America/Winnipeg:20260412T090000
DTEND;TZID=America/Winnipeg:20260412T110000
DTSTAMP:20260422T143108
CREATED:20260327T200631Z
LAST-MODIFIED:20260327T200631Z
UID:10002194-1775984400-1775991600@prairietopinerc.ca
SUMMARY:First United Church\, Dryden-Last worship service
DESCRIPTION:You are invited to the celebration service at First United Church\, Dryden (23 Van Horne Avenue) on April 12\, 2026\, at 10:00 a.m. Fellowship to follow. \nFor more information\, please email firstunitedchurch@shaw.ca
URL:https://prairietopinerc.ca/event/first-united-church-dryden-last-worship-service/
LOCATION:Manitoba
CATEGORIES:Community of Faith Events calendar,Events
ATTACH;FMTTYPE=image/jpeg:https://prairietopinerc.ca/wp-content/uploads/2026/03/First-UC-Dryden-Last-worship-service.jpeg
END:VEVENT
BEGIN:VEVENT
DTSTART;TZID=America/Winnipeg:20260415T140000
DTEND;TZID=America/Winnipeg:20260415T150000
DTSTAMP:20260422T143108
CREATED:20250905T180848Z
LAST-MODIFIED:20250905T181104Z
UID:10001658-1776261600-1776265200@prairietopinerc.ca
SUMMARY:Online Bible Study with Jordan Cantwell
DESCRIPTION:Every Wednesday at 1 pm (SK time) \nDeep conversation \nSpiritual friendships \nFaith exploration \nNew participants always welcome! \nContact jcantwell@united-church.ca for more information. \nClick here to join:  https://bit.ly/41Vh93V
URL:https://prairietopinerc.ca/event/online-bible-study-with-jordan-cantwell/2026-04-15/
LOCATION:Online
CATEGORIES:Community of Faith Events calendar,Events,Regional
END:VEVENT
BEGIN:VEVENT
DTSTART;TZID=America/Winnipeg:20260417T080000
DTEND;TZID=America/Winnipeg:20260417T170000
DTSTAMP:20260422T143108
CREATED:20260225T174459Z
LAST-MODIFIED:20260225T174459Z
UID:10002165-1776412800-1776445200@prairietopinerc.ca
SUMMARY:Caught In The Act Co. Dinner Theatre
DESCRIPTION:Get ready to set sail on an adventure filled with mystery\, suspense and a little love triangle romance when the 13th Annual Caught in the Act Dinner Theatre presented by Transcona Memorial United Church (209 Yale Ave W) launches Nothing But the Truth April 17\, 18 & 19 and April 25 & 26. \nTickets are on sale now! Dinner theatre tickets are only $55 each ($20 tax receipt) and include a delicious meal and entertaining performance! For more information on tickets and the production\, visit tmuc.ca/dinner-theatre. Sea you soon! \nPlay written by Philip J. Anderson and produced by special arrangement with PIONEER DRAMA SERVICE. Denver\, Colorado
URL:https://prairietopinerc.ca/event/caught-in-the-act-co-dinner-theatre/2026-04-17/
LOCATION:Transcona Memorial United Church\, 209 Yale Ave W.\, Winnipeg\, Manitoba\, R2C 1T9\, Canada
CATEGORIES:Community of Faith Events calendar,Events
ATTACH;FMTTYPE=image/jpeg:https://prairietopinerc.ca/wp-content/uploads/2026/02/2026-General-Poster-FINAL.pdf.jpg
END:VEVENT
BEGIN:VEVENT
DTSTART;TZID=America/Winnipeg:20260417T190000
DTEND;TZID=America/Winnipeg:20260417T210000
DTSTAMP:20260422T143108
CREATED:20260227T041920Z
LAST-MODIFIED:20260227T041920Z
UID:10002171-1776452400-1776459600@prairietopinerc.ca
SUMMARY:Traveling Youth Group
DESCRIPTION:Spring Forward with us on April 17th!!! \nJoin us at Westworth United Church to celebrate the new season with creation. Come play games\, paint flower pots and plant flowers\, Eat snacks and worship with us. \nTheme: Spring Forward\nWhen: Friday April 17th 7-9pm\nWhere: Westworth United Church (1750 Grosvenor Ave)\nWho: Grade 6 -12 \nhttps://docs.google.com/forms/d/e/1FAIpQLScbH5IPhNxAlTe3OBkL3dsKjOXaCTltMZjLxRW3ImZOCvQFUw/viewform?usp=sharing&ouid=101976910218737943195
URL:https://prairietopinerc.ca/event/traveling-youth-group-5/
LOCATION:Westworth United Church\, 1750 Grosvenor Avenue\, Winnipeg\, Manitoba\, R3N 0H9\, Canada
CATEGORIES:Community of Faith Events calendar,Events,Young Adults and Youth
ATTACH;FMTTYPE=image/png:https://prairietopinerc.ca/wp-content/uploads/2026/02/April-TYG-2026-Poster.png
END:VEVENT
BEGIN:VEVENT
DTSTART;TZID=America/Winnipeg:20260418T050000
DTEND;TZID=America/Winnipeg:20260505T230000
DTSTAMP:20260422T143108
CREATED:20260225T174459Z
LAST-MODIFIED:20260225T174459Z
UID:10002167-1776488400-1778022000@prairietopinerc.ca
SUMMARY:Caught In The Act Co. Dinner Theatre
DESCRIPTION:Get ready to set sail on an adventure filled with mystery\, suspense and a little love triangle romance when the 13th Annual Caught in the Act Dinner Theatre presented by Transcona Memorial United Church (209 Yale Ave W) launches Nothing But the Truth April 17\, 18 & 19 and April 25 & 26. \nTickets are on sale now! Dinner theatre tickets are only $55 each ($20 tax receipt) and include a delicious meal and entertaining performance! For more information on tickets and the production\, visit tmuc.ca/dinner-theatre. Sea you soon! \nPlay written by Philip J. Anderson and produced by special arrangement with PIONEER DRAMA SERVICE. Denver\, Colorado
URL:https://prairietopinerc.ca/event/caught-in-the-act-co-dinner-theatre/2026-04-18/
LOCATION:Transcona Memorial United Church\, 209 Yale Ave W.\, Winnipeg\, Manitoba\, R2C 1T9\, Canada
CATEGORIES:Community of Faith Events calendar,Events
ATTACH;FMTTYPE=image/jpeg:https://prairietopinerc.ca/wp-content/uploads/2026/02/2026-General-Poster-FINAL.pdf.jpg
END:VEVENT
BEGIN:VEVENT
DTSTART;TZID=America/Winnipeg:20260419T150000
DTEND;TZID=America/Winnipeg:20260419T170000
DTSTAMP:20260422T143108
CREATED:20260409T202635Z
LAST-MODIFIED:20260409T202635Z
UID:10002199-1776610800-1776618000@prairietopinerc.ca
SUMMARY:The Fly and Camel Café
DESCRIPTION:“Come join us on Sunday\, April 19th\, at St. Mary’s Road United Church! The Fly and Camel Café presents The Sixties. \nNo admission charge – free will offering in support of St. Mary’s Road United Church. Starts at 3:0o PM at 613 St. Mary’s Road (613 St. Mary’s Road\, Winnipeg)
URL:https://prairietopinerc.ca/event/the-fly-and-camel-cafe-3/
LOCATION:St. Mary’s Road United Church\, 613 St. Mary's Road\, Winnipeg\, MB\, Canada
CATEGORIES:Community of Faith Events calendar,Events
ATTACH;FMTTYPE=image/jpeg:https://prairietopinerc.ca/wp-content/uploads/2026/04/The-Fly-and-Camel-Cafe-scaled.jpg
END:VEVENT
BEGIN:VEVENT
DTSTART;TZID=America/Winnipeg:20260419T150000
DTEND;TZID=America/Winnipeg:20260419T180000
DTSTAMP:20260422T143108
CREATED:20260225T174415Z
LAST-MODIFIED:20260225T174844Z
UID:10002164-1776610800-1776621600@prairietopinerc.ca
SUMMARY:(Melita) Victoria United Church final worship service
DESCRIPTION:Final worship service at Victoria United Church at 3:00 p.m.\, 103 Souris St. in Melita\, MB. The Rev. Chris Fickling will be preaching.\nCatered meal to follow the service (no cost). Please RSVP to dmtoffice@wcgwave.ca if you plan to attend the meal.\nThe Community of Faith will be disbanded once they complete the necessary work.
URL:https://prairietopinerc.ca/event/melita-victoria-united-church-final-worship-service/
LOCATION:Victoria United Church\, 103 Souris Street\, Melita\, Manitoba\, R7A 7W6\, Canada
CATEGORIES:Community of Faith Events calendar,Events
END:VEVENT
BEGIN:VEVENT
DTSTART;TZID=America/Winnipeg:20260419T160000
DTEND;TZID=America/Winnipeg:20260419T203000
DTSTAMP:20260422T143108
CREATED:20260304T175310Z
LAST-MODIFIED:20260304T175310Z
UID:10002179-1776614400-1776630600@prairietopinerc.ca
SUMMARY:Caught In The Act Co. Dinner Theatre
DESCRIPTION:Get ready to set sail on an adventure filled with mystery\, suspense and a little love triangle romance when the 13th Annual Caught in the Act Dinner Theatre presented by Transcona Memorial United Church (209 Yale Ave W) launches Nothing But the Truth April 17\, 18 & 19 and April 25 & 26. \nTickets are on sale now! Dinner theatre tickets are only $55 each ($20 tax receipt) and include a delicious meal and entertaining performance! For more information on tickets and the production\, visit tmuc.ca/dinner-theatre. Sea you soon! \nPlay written by Philip J. Anderson and produced by special arrangement with PIONEER DRAMA SERVICE. Denver\, Colorado
URL:https://prairietopinerc.ca/event/caught-in-the-act-co-dinner-theatre-2/2026-04-19/
LOCATION:Transcona Memorial United Church-Winnipeg\, 209 Yale Avenue West\, Winnipeg\, MB\, R2C 1T9\, Canada
CATEGORIES:Community of Faith Events calendar,Events
ATTACH;FMTTYPE=image/jpeg:https://prairietopinerc.ca/wp-content/uploads/2026/03/2026-General-Poster-FINAL.pdf.jpg
END:VEVENT
BEGIN:VEVENT
DTSTART;VALUE=DATE:20260422
DTEND;VALUE=DATE:20260423
DTSTAMP:20260422T143108
CREATED:20251211T015551Z
LAST-MODIFIED:20251211T015551Z
UID:10002085-1776816000-1776902399@prairietopinerc.ca
SUMMARY:Earth Day
DESCRIPTION:
URL:https://prairietopinerc.ca/event/earth-day/
LOCATION:Manitoba
CATEGORIES:Events,Regional
END:VEVENT
BEGIN:VEVENT
DTSTART;TZID=America/Winnipeg:20260422T140000
DTEND;TZID=America/Winnipeg:20260422T150000
DTSTAMP:20260422T143108
CREATED:20250905T180848Z
LAST-MODIFIED:20250905T181104Z
UID:10001659-1776866400-1776870000@prairietopinerc.ca
SUMMARY:Online Bible Study with Jordan Cantwell
DESCRIPTION:Every Wednesday at 1 pm (SK time) \nDeep conversation \nSpiritual friendships \nFaith exploration \nNew participants always welcome! \nContact jcantwell@united-church.ca for more information. \nClick here to join:  https://bit.ly/41Vh93V
URL:https://prairietopinerc.ca/event/online-bible-study-with-jordan-cantwell/2026-04-22/
LOCATION:Online
CATEGORIES:Community of Faith Events calendar,Events,Regional
END:VEVENT
BEGIN:VEVENT
DTSTART;TZID=America/Winnipeg:20260423T093000
DTEND;TZID=America/Winnipeg:20260423T123000
DTSTAMP:20260422T143108
CREATED:20230823T015149Z
LAST-MODIFIED:20230823T015149Z
UID:10000749-1776936600-1776947400@prairietopinerc.ca
SUMMARY:Committee on Community of Faith Support
DESCRIPTION:The Committee on Community of Faith Support is holding its regular meeting via Zoom every fourth Thursday of the month.
URL:https://prairietopinerc.ca/event/committee-on-community-of-faith-support/2026-04-23/
LOCATION:Manitoba
CATEGORIES:Events,Regional
END:VEVENT
BEGIN:VEVENT
DTSTART;TZID=America/Winnipeg:20260423T150000
DTEND;TZID=America/Winnipeg:20260425T150000
DTSTAMP:20260422T143108
CREATED:20260408T155312Z
LAST-MODIFIED:20260408T155312Z
UID:10002198-1776956400-1777129200@prairietopinerc.ca
SUMMARY:Huge 3-Day Church Garage Sale
DESCRIPTION:Huge Garage Sale taking place over three days.\nMega Sale – lots of items to choose from over three floors!!!!\nWHERE: North Kildonan United Church (NKUC)\n174 Pentland Street\n(between McIvor and Gilmore) \nWHEN: Thursday\, April 23 – 3:00PM to 8:00PM\nFriday\, April 24 – 10:00AM to 8:00PM\nSaturday\, April 25 – 8:00AM to 3:00PM \nNKUC is a fully accessible venue!
URL:https://prairietopinerc.ca/event/huge-3-day-church-garage-sale/
LOCATION:North Kildonan United Church\, 174 Pentland St\, Winnipeg\, MB\, Canada
CATEGORIES:Community of Faith Events calendar,Events
ATTACH;FMTTYPE=image/jpeg:https://prairietopinerc.ca/wp-content/uploads/2026/04/st1.jpg
ORGANIZER;CN="North Kildonan United Church":MAILTO:nkuc@mymts.net
END:VEVENT
BEGIN:VEVENT
DTSTART;VALUE=DATE:20260424
DTEND;VALUE=DATE:20260425
DTSTAMP:20260422T143108
CREATED:20251211T015638Z
LAST-MODIFIED:20251211T015638Z
UID:10002086-1776988800-1777075199@prairietopinerc.ca
SUMMARY:Armenian Genocide Memorial Day
DESCRIPTION:
URL:https://prairietopinerc.ca/event/armenian-genocide-memorial-day/
LOCATION:Manitoba
CATEGORIES:Events,Regional
END:VEVENT
BEGIN:VEVENT
DTSTART;TZID=America/Winnipeg:20260424T190000
DTEND;TZID=America/Winnipeg:20260426T130000
DTSTAMP:20260422T143108
CREATED:20260320T144505Z
LAST-MODIFIED:20260320T144505Z
UID:10002192-1777057200-1777208400@prairietopinerc.ca
SUMMARY:Youth Confirmation Retreat
DESCRIPTION:A weekend event for youth ages 13-18 who are interested in being confirmed. Come explore our faith\, our church and build community with other youth from Winnipeg United Churches. The weekend is April 24 to 26th at Westworth United Church.
URL:https://prairietopinerc.ca/event/youth-confirmation-retreat/
LOCATION:Westworth United Church\, 1750 Grosvenor Avenue\, Winnipeg\, Manitoba\, R3N 0H9\, Canada
CATEGORIES:Community of Faith Events calendar,Events
ATTACH;FMTTYPE=image/png:https://prairietopinerc.ca/wp-content/uploads/2026/03/confirmation-retreat-poster.png
END:VEVENT
END:VCALENDAR