BEGIN:VCALENDAR
VERSION:2.0
PRODID:-//Prairie to Pine Regional Council - ECPv6.15.20//NONSGML v1.0//EN
CALSCALE:GREGORIAN
METHOD:PUBLISH
X-WR-CALNAME:Prairie to Pine Regional Council
X-ORIGINAL-URL:https://prairietopinerc.ca
X-WR-CALDESC:Events for Prairie to Pine Regional Council
REFRESH-INTERVAL;VALUE=DURATION:PT1H
X-Robots-Tag:noindex
X-PUBLISHED-TTL:PT1H
BEGIN:VTIMEZONE
TZID:America/Winnipeg
BEGIN:DAYLIGHT
TZOFFSETFROM:-0600
TZOFFSETTO:-0500
TZNAME:CDT
DTSTART:20210314T080000
END:DAYLIGHT
BEGIN:STANDARD
TZOFFSETFROM:-0500
TZOFFSETTO:-0600
TZNAME:CST
DTSTART:20211107T070000
END:STANDARD
BEGIN:DAYLIGHT
TZOFFSETFROM:-0600
TZOFFSETTO:-0500
TZNAME:CDT
DTSTART:20220313T080000
END:DAYLIGHT
BEGIN:STANDARD
TZOFFSETFROM:-0500
TZOFFSETTO:-0600
TZNAME:CST
DTSTART:20221106T070000
END:STANDARD
BEGIN:DAYLIGHT
TZOFFSETFROM:-0600
TZOFFSETTO:-0500
TZNAME:CDT
DTSTART:20230312T080000
END:DAYLIGHT
BEGIN:STANDARD
TZOFFSETFROM:-0500
TZOFFSETTO:-0600
TZNAME:CST
DTSTART:20231105T070000
END:STANDARD
END:VTIMEZONE
BEGIN:VEVENT
DTSTART;TZID=America/Winnipeg:20220519T193000
DTEND;TZID=America/Winnipeg:20220519T213000
DTSTAMP:20260425T090628
CREATED:20220314T195300Z
LAST-MODIFIED:20220330T194952Z
UID:10000470-1652988600-1652995800@prairietopinerc.ca
SUMMARY:Where They Come From: A Meditation on Eleanor Rigby
DESCRIPTION:Where They Come From: A Meditation on Eleanor Rigby \nIn 1966\, Paul McCartney wrote a remarkable song—Eleanor Rigby. Over the ensuing decades\, fascination with Eleanor and Father McKenzie has only grown. Who were they? Why were they lonely? \nThis year\, Interesting Theatre will provide our answers with Where They Come From: A Meditation on Eleanor Rigby\, written and directed by Tim Higgins. \nAct One will feature the Haskins Street Band as they explore the musical influences that informed the Fab Four’s remarkable creativity and led them to Eleanor. \nIn Act Two\, the company of Interesting Theatre tackles the questions more directly. The story is set in Winnipeg\, in the winter of 1920. Supported by The Elleston Trio\, you’ll watch two lives become intertwined in ways that neither could have imagined. \nWhere They Come From: A Meditation on Eleanor Rigby will be staged in the Sanctuary of Young United Church\, 222 Furby Street\, on Friday and Saturday\, April 1st and 2nd. Curtain is 7:30 both nights. Tickets are $20 (plus agency fees) and are available on EventBrite. Proof of vaccination and wearing of mask will be required. Running time approx. two hours. \nHere is the link: https://www.eventbrite.ca/e/where-they-come-from-a-meditation-on-eleanor-rigby-tickets-277074095077 \nUniversal questions. Unforgettable characters. Amazing music. Join us for Where They Come From: A Meditation on Eleanor Rigby. All proceeds go to the work of Young United Church in the West Broadway neighbourhood. Donations gratefully accepted.
URL:https://prairietopinerc.ca/event/where-they-come-from-a-mediation-on-eleanor-rigby/2022-05-19/
CATEGORIES:Community of Faith Events calendar
ATTACH;FMTTYPE=image/jpeg:https://prairietopinerc.ca/wp-content/uploads/2022/03/Rigby-colour-2-poster-1.jpg
END:VEVENT
BEGIN:VEVENT
DTSTART;TZID=America/Winnipeg:20220520T190000
DTEND;TZID=America/Winnipeg:20220520T210000
DTSTAMP:20260425T090628
CREATED:20220112T003601Z
LAST-MODIFIED:20220505T190759Z
UID:10000133-1653073200-1653080400@prairietopinerc.ca
SUMMARY:Regional Council Annual Meeting
DESCRIPTION:
URL:https://prairietopinerc.ca/event/regional-council-annual-meeting/2022-05-20/
END:VEVENT
BEGIN:VEVENT
DTSTART;TZID=America/Winnipeg:20220521T190000
DTEND;TZID=America/Winnipeg:20220521T210000
DTSTAMP:20260425T090628
CREATED:20220112T003601Z
LAST-MODIFIED:20220505T190759Z
UID:10000134-1653159600-1653166800@prairietopinerc.ca
SUMMARY:Regional Council Annual Meeting
DESCRIPTION:
URL:https://prairietopinerc.ca/event/regional-council-annual-meeting/2022-05-21/
END:VEVENT
BEGIN:VEVENT
DTSTART;TZID=America/Winnipeg:20220521T193000
DTEND;TZID=America/Winnipeg:20220521T213000
DTSTAMP:20260425T090628
CREATED:20220314T195300Z
LAST-MODIFIED:20220330T194952Z
UID:10000471-1653161400-1653168600@prairietopinerc.ca
SUMMARY:Where They Come From: A Meditation on Eleanor Rigby
DESCRIPTION:Where They Come From: A Meditation on Eleanor Rigby \nIn 1966\, Paul McCartney wrote a remarkable song—Eleanor Rigby. Over the ensuing decades\, fascination with Eleanor and Father McKenzie has only grown. Who were they? Why were they lonely? \nThis year\, Interesting Theatre will provide our answers with Where They Come From: A Meditation on Eleanor Rigby\, written and directed by Tim Higgins. \nAct One will feature the Haskins Street Band as they explore the musical influences that informed the Fab Four’s remarkable creativity and led them to Eleanor. \nIn Act Two\, the company of Interesting Theatre tackles the questions more directly. The story is set in Winnipeg\, in the winter of 1920. Supported by The Elleston Trio\, you’ll watch two lives become intertwined in ways that neither could have imagined. \nWhere They Come From: A Meditation on Eleanor Rigby will be staged in the Sanctuary of Young United Church\, 222 Furby Street\, on Friday and Saturday\, April 1st and 2nd. Curtain is 7:30 both nights. Tickets are $20 (plus agency fees) and are available on EventBrite. Proof of vaccination and wearing of mask will be required. Running time approx. two hours. \nHere is the link: https://www.eventbrite.ca/e/where-they-come-from-a-meditation-on-eleanor-rigby-tickets-277074095077 \nUniversal questions. Unforgettable characters. Amazing music. Join us for Where They Come From: A Meditation on Eleanor Rigby. All proceeds go to the work of Young United Church in the West Broadway neighbourhood. Donations gratefully accepted.
URL:https://prairietopinerc.ca/event/where-they-come-from-a-mediation-on-eleanor-rigby/2022-05-21/
CATEGORIES:Community of Faith Events calendar
ATTACH;FMTTYPE=image/jpeg:https://prairietopinerc.ca/wp-content/uploads/2022/03/Rigby-colour-2-poster-1.jpg
END:VEVENT
BEGIN:VEVENT
DTSTART;TZID=America/Winnipeg:20220522T110000
DTEND;TZID=America/Winnipeg:20220522T120000
DTSTAMP:20260425T090628
CREATED:20220512T130940Z
LAST-MODIFIED:20220801T203318Z
UID:10000598-1653217200-1653220800@prairietopinerc.ca
SUMMARY:First Summer Sunday Service
DESCRIPTION:The West Hawk Lake United Church faith community will be starting Sunday Worship gatherings this coming May long weekend. All are welcome to join in the services through at least to the September long weekend. An AGM is planned for August 28.
URL:https://prairietopinerc.ca/event/first-summer-sunday-service/2022-05-22/
CATEGORIES:Community of Faith Events calendar
END:VEVENT
BEGIN:VEVENT
DTSTART;TZID=America/Winnipeg:20220522T190000
DTEND;TZID=America/Winnipeg:20220522T210000
DTSTAMP:20260425T090628
CREATED:20220112T003601Z
LAST-MODIFIED:20220505T190759Z
UID:10000135-1653246000-1653253200@prairietopinerc.ca
SUMMARY:Regional Council Annual Meeting
DESCRIPTION:
URL:https://prairietopinerc.ca/event/regional-council-annual-meeting/2022-05-22/
END:VEVENT
BEGIN:VEVENT
DTSTART;TZID=America/Winnipeg:20220523T190000
DTEND;TZID=America/Winnipeg:20220523T210000
DTSTAMP:20260425T090628
CREATED:20220112T003601Z
LAST-MODIFIED:20220505T190759Z
UID:10000136-1653332400-1653339600@prairietopinerc.ca
SUMMARY:Regional Council Annual Meeting
DESCRIPTION:
URL:https://prairietopinerc.ca/event/regional-council-annual-meeting/2022-05-23/
END:VEVENT
BEGIN:VEVENT
DTSTART;TZID=America/Winnipeg:20220523T193000
DTEND;TZID=America/Winnipeg:20220523T213000
DTSTAMP:20260425T090628
CREATED:20220314T195300Z
LAST-MODIFIED:20220330T194952Z
UID:10000472-1653334200-1653341400@prairietopinerc.ca
SUMMARY:Where They Come From: A Meditation on Eleanor Rigby
DESCRIPTION:Where They Come From: A Meditation on Eleanor Rigby \nIn 1966\, Paul McCartney wrote a remarkable song—Eleanor Rigby. Over the ensuing decades\, fascination with Eleanor and Father McKenzie has only grown. Who were they? Why were they lonely? \nThis year\, Interesting Theatre will provide our answers with Where They Come From: A Meditation on Eleanor Rigby\, written and directed by Tim Higgins. \nAct One will feature the Haskins Street Band as they explore the musical influences that informed the Fab Four’s remarkable creativity and led them to Eleanor. \nIn Act Two\, the company of Interesting Theatre tackles the questions more directly. The story is set in Winnipeg\, in the winter of 1920. Supported by The Elleston Trio\, you’ll watch two lives become intertwined in ways that neither could have imagined. \nWhere They Come From: A Meditation on Eleanor Rigby will be staged in the Sanctuary of Young United Church\, 222 Furby Street\, on Friday and Saturday\, April 1st and 2nd. Curtain is 7:30 both nights. Tickets are $20 (plus agency fees) and are available on EventBrite. Proof of vaccination and wearing of mask will be required. Running time approx. two hours. \nHere is the link: https://www.eventbrite.ca/e/where-they-come-from-a-meditation-on-eleanor-rigby-tickets-277074095077 \nUniversal questions. Unforgettable characters. Amazing music. Join us for Where They Come From: A Meditation on Eleanor Rigby. All proceeds go to the work of Young United Church in the West Broadway neighbourhood. Donations gratefully accepted.
URL:https://prairietopinerc.ca/event/where-they-come-from-a-mediation-on-eleanor-rigby/2022-05-23/
CATEGORIES:Community of Faith Events calendar
ATTACH;FMTTYPE=image/jpeg:https://prairietopinerc.ca/wp-content/uploads/2022/03/Rigby-colour-2-poster-1.jpg
END:VEVENT
BEGIN:VEVENT
DTSTART;TZID=America/Winnipeg:20220524T190000
DTEND;TZID=America/Winnipeg:20220524T210000
DTSTAMP:20260425T090628
CREATED:20220112T003601Z
LAST-MODIFIED:20220505T190759Z
UID:10000137-1653418800-1653426000@prairietopinerc.ca
SUMMARY:Regional Council Annual Meeting
DESCRIPTION:
URL:https://prairietopinerc.ca/event/regional-council-annual-meeting/2022-05-24/
END:VEVENT
BEGIN:VEVENT
DTSTART;TZID=America/Winnipeg:20220525T190000
DTEND;TZID=America/Winnipeg:20220525T210000
DTSTAMP:20260425T090628
CREATED:20220112T003601Z
LAST-MODIFIED:20220505T190759Z
UID:10000138-1653505200-1653512400@prairietopinerc.ca
SUMMARY:Regional Council Annual Meeting
DESCRIPTION:
URL:https://prairietopinerc.ca/event/regional-council-annual-meeting/2022-05-25/
END:VEVENT
BEGIN:VEVENT
DTSTART;TZID=America/Winnipeg:20220525T193000
DTEND;TZID=America/Winnipeg:20220525T213000
DTSTAMP:20260425T090628
CREATED:20220314T195300Z
LAST-MODIFIED:20220330T194952Z
UID:10000473-1653507000-1653514200@prairietopinerc.ca
SUMMARY:Where They Come From: A Meditation on Eleanor Rigby
DESCRIPTION:Where They Come From: A Meditation on Eleanor Rigby \nIn 1966\, Paul McCartney wrote a remarkable song—Eleanor Rigby. Over the ensuing decades\, fascination with Eleanor and Father McKenzie has only grown. Who were they? Why were they lonely? \nThis year\, Interesting Theatre will provide our answers with Where They Come From: A Meditation on Eleanor Rigby\, written and directed by Tim Higgins. \nAct One will feature the Haskins Street Band as they explore the musical influences that informed the Fab Four’s remarkable creativity and led them to Eleanor. \nIn Act Two\, the company of Interesting Theatre tackles the questions more directly. The story is set in Winnipeg\, in the winter of 1920. Supported by The Elleston Trio\, you’ll watch two lives become intertwined in ways that neither could have imagined. \nWhere They Come From: A Meditation on Eleanor Rigby will be staged in the Sanctuary of Young United Church\, 222 Furby Street\, on Friday and Saturday\, April 1st and 2nd. Curtain is 7:30 both nights. Tickets are $20 (plus agency fees) and are available on EventBrite. Proof of vaccination and wearing of mask will be required. Running time approx. two hours. \nHere is the link: https://www.eventbrite.ca/e/where-they-come-from-a-meditation-on-eleanor-rigby-tickets-277074095077 \nUniversal questions. Unforgettable characters. Amazing music. Join us for Where They Come From: A Meditation on Eleanor Rigby. All proceeds go to the work of Young United Church in the West Broadway neighbourhood. Donations gratefully accepted.
URL:https://prairietopinerc.ca/event/where-they-come-from-a-mediation-on-eleanor-rigby/2022-05-25/
CATEGORIES:Community of Faith Events calendar
ATTACH;FMTTYPE=image/jpeg:https://prairietopinerc.ca/wp-content/uploads/2022/03/Rigby-colour-2-poster-1.jpg
END:VEVENT
BEGIN:VEVENT
DTSTART;TZID=America/Winnipeg:20220526T190000
DTEND;TZID=America/Winnipeg:20220526T210000
DTSTAMP:20260425T090628
CREATED:20220112T003601Z
LAST-MODIFIED:20220505T190759Z
UID:10000139-1653591600-1653598800@prairietopinerc.ca
SUMMARY:Regional Council Annual Meeting
DESCRIPTION:
URL:https://prairietopinerc.ca/event/regional-council-annual-meeting/2022-05-26/
END:VEVENT
BEGIN:VEVENT
DTSTART;TZID=America/Winnipeg:20220527T190000
DTEND;TZID=America/Winnipeg:20220527T210000
DTSTAMP:20260425T090628
CREATED:20220112T003601Z
LAST-MODIFIED:20220505T190759Z
UID:10000140-1653678000-1653685200@prairietopinerc.ca
SUMMARY:Regional Council Annual Meeting
DESCRIPTION:
URL:https://prairietopinerc.ca/event/regional-council-annual-meeting/2022-05-27/
END:VEVENT
BEGIN:VEVENT
DTSTART;TZID=America/Winnipeg:20220527T193000
DTEND;TZID=America/Winnipeg:20220527T213000
DTSTAMP:20260425T090628
CREATED:20220314T195300Z
LAST-MODIFIED:20220330T194952Z
UID:10000474-1653679800-1653687000@prairietopinerc.ca
SUMMARY:Where They Come From: A Meditation on Eleanor Rigby
DESCRIPTION:Where They Come From: A Meditation on Eleanor Rigby \nIn 1966\, Paul McCartney wrote a remarkable song—Eleanor Rigby. Over the ensuing decades\, fascination with Eleanor and Father McKenzie has only grown. Who were they? Why were they lonely? \nThis year\, Interesting Theatre will provide our answers with Where They Come From: A Meditation on Eleanor Rigby\, written and directed by Tim Higgins. \nAct One will feature the Haskins Street Band as they explore the musical influences that informed the Fab Four’s remarkable creativity and led them to Eleanor. \nIn Act Two\, the company of Interesting Theatre tackles the questions more directly. The story is set in Winnipeg\, in the winter of 1920. Supported by The Elleston Trio\, you’ll watch two lives become intertwined in ways that neither could have imagined. \nWhere They Come From: A Meditation on Eleanor Rigby will be staged in the Sanctuary of Young United Church\, 222 Furby Street\, on Friday and Saturday\, April 1st and 2nd. Curtain is 7:30 both nights. Tickets are $20 (plus agency fees) and are available on EventBrite. Proof of vaccination and wearing of mask will be required. Running time approx. two hours. \nHere is the link: https://www.eventbrite.ca/e/where-they-come-from-a-meditation-on-eleanor-rigby-tickets-277074095077 \nUniversal questions. Unforgettable characters. Amazing music. Join us for Where They Come From: A Meditation on Eleanor Rigby. All proceeds go to the work of Young United Church in the West Broadway neighbourhood. Donations gratefully accepted.
URL:https://prairietopinerc.ca/event/where-they-come-from-a-mediation-on-eleanor-rigby/2022-05-27/
CATEGORIES:Community of Faith Events calendar
ATTACH;FMTTYPE=image/jpeg:https://prairietopinerc.ca/wp-content/uploads/2022/03/Rigby-colour-2-poster-1.jpg
END:VEVENT
BEGIN:VEVENT
DTSTART;TZID=America/Winnipeg:20220528T190000
DTEND;TZID=America/Winnipeg:20220528T210000
DTSTAMP:20260425T090628
CREATED:20220112T003601Z
LAST-MODIFIED:20220505T190759Z
UID:10000141-1653764400-1653771600@prairietopinerc.ca
SUMMARY:Regional Council Annual Meeting
DESCRIPTION:
URL:https://prairietopinerc.ca/event/regional-council-annual-meeting/2022-05-28/
END:VEVENT
BEGIN:VEVENT
DTSTART;TZID=America/Winnipeg:20220529T110000
DTEND;TZID=America/Winnipeg:20220529T120000
DTSTAMP:20260425T090628
CREATED:20220512T130940Z
LAST-MODIFIED:20220801T203318Z
UID:10000599-1653822000-1653825600@prairietopinerc.ca
SUMMARY:First Summer Sunday Service
DESCRIPTION:The West Hawk Lake United Church faith community will be starting Sunday Worship gatherings this coming May long weekend. All are welcome to join in the services through at least to the September long weekend. An AGM is planned for August 28.
URL:https://prairietopinerc.ca/event/first-summer-sunday-service/2022-05-29/
CATEGORIES:Community of Faith Events calendar
END:VEVENT
BEGIN:VEVENT
DTSTART;TZID=America/Winnipeg:20220529T190000
DTEND;TZID=America/Winnipeg:20220529T210000
DTSTAMP:20260425T090628
CREATED:20220112T003601Z
LAST-MODIFIED:20220505T190759Z
UID:10000142-1653850800-1653858000@prairietopinerc.ca
SUMMARY:Regional Council Annual Meeting
DESCRIPTION:
URL:https://prairietopinerc.ca/event/regional-council-annual-meeting/2022-05-29/
END:VEVENT
BEGIN:VEVENT
DTSTART;TZID=America/Winnipeg:20220529T193000
DTEND;TZID=America/Winnipeg:20220529T213000
DTSTAMP:20260425T090628
CREATED:20220314T195300Z
LAST-MODIFIED:20220330T194952Z
UID:10000475-1653852600-1653859800@prairietopinerc.ca
SUMMARY:Where They Come From: A Meditation on Eleanor Rigby
DESCRIPTION:Where They Come From: A Meditation on Eleanor Rigby \nIn 1966\, Paul McCartney wrote a remarkable song—Eleanor Rigby. Over the ensuing decades\, fascination with Eleanor and Father McKenzie has only grown. Who were they? Why were they lonely? \nThis year\, Interesting Theatre will provide our answers with Where They Come From: A Meditation on Eleanor Rigby\, written and directed by Tim Higgins. \nAct One will feature the Haskins Street Band as they explore the musical influences that informed the Fab Four’s remarkable creativity and led them to Eleanor. \nIn Act Two\, the company of Interesting Theatre tackles the questions more directly. The story is set in Winnipeg\, in the winter of 1920. Supported by The Elleston Trio\, you’ll watch two lives become intertwined in ways that neither could have imagined. \nWhere They Come From: A Meditation on Eleanor Rigby will be staged in the Sanctuary of Young United Church\, 222 Furby Street\, on Friday and Saturday\, April 1st and 2nd. Curtain is 7:30 both nights. Tickets are $20 (plus agency fees) and are available on EventBrite. Proof of vaccination and wearing of mask will be required. Running time approx. two hours. \nHere is the link: https://www.eventbrite.ca/e/where-they-come-from-a-meditation-on-eleanor-rigby-tickets-277074095077 \nUniversal questions. Unforgettable characters. Amazing music. Join us for Where They Come From: A Meditation on Eleanor Rigby. All proceeds go to the work of Young United Church in the West Broadway neighbourhood. Donations gratefully accepted.
URL:https://prairietopinerc.ca/event/where-they-come-from-a-mediation-on-eleanor-rigby/2022-05-29/
CATEGORIES:Community of Faith Events calendar
ATTACH;FMTTYPE=image/jpeg:https://prairietopinerc.ca/wp-content/uploads/2022/03/Rigby-colour-2-poster-1.jpg
END:VEVENT
BEGIN:VEVENT
DTSTART;TZID=America/Winnipeg:20220530T190000
DTEND;TZID=America/Winnipeg:20220530T210000
DTSTAMP:20260425T090628
CREATED:20220112T003601Z
LAST-MODIFIED:20220505T190759Z
UID:10000143-1653937200-1653944400@prairietopinerc.ca
SUMMARY:Regional Council Annual Meeting
DESCRIPTION:
URL:https://prairietopinerc.ca/event/regional-council-annual-meeting/2022-05-30/
END:VEVENT
BEGIN:VEVENT
DTSTART;TZID=America/Winnipeg:20220531T190000
DTEND;TZID=America/Winnipeg:20220531T210000
DTSTAMP:20260425T090628
CREATED:20220112T003601Z
LAST-MODIFIED:20220505T190759Z
UID:10000144-1654023600-1654030800@prairietopinerc.ca
SUMMARY:Regional Council Annual Meeting
DESCRIPTION:
URL:https://prairietopinerc.ca/event/regional-council-annual-meeting/2022-05-31/
END:VEVENT
BEGIN:VEVENT
DTSTART;TZID=America/Winnipeg:20220531T193000
DTEND;TZID=America/Winnipeg:20220531T213000
DTSTAMP:20260425T090628
CREATED:20220314T195300Z
LAST-MODIFIED:20220330T194952Z
UID:10000476-1654025400-1654032600@prairietopinerc.ca
SUMMARY:Where They Come From: A Meditation on Eleanor Rigby
DESCRIPTION:Where They Come From: A Meditation on Eleanor Rigby \nIn 1966\, Paul McCartney wrote a remarkable song—Eleanor Rigby. Over the ensuing decades\, fascination with Eleanor and Father McKenzie has only grown. Who were they? Why were they lonely? \nThis year\, Interesting Theatre will provide our answers with Where They Come From: A Meditation on Eleanor Rigby\, written and directed by Tim Higgins. \nAct One will feature the Haskins Street Band as they explore the musical influences that informed the Fab Four’s remarkable creativity and led them to Eleanor. \nIn Act Two\, the company of Interesting Theatre tackles the questions more directly. The story is set in Winnipeg\, in the winter of 1920. Supported by The Elleston Trio\, you’ll watch two lives become intertwined in ways that neither could have imagined. \nWhere They Come From: A Meditation on Eleanor Rigby will be staged in the Sanctuary of Young United Church\, 222 Furby Street\, on Friday and Saturday\, April 1st and 2nd. Curtain is 7:30 both nights. Tickets are $20 (plus agency fees) and are available on EventBrite. Proof of vaccination and wearing of mask will be required. Running time approx. two hours. \nHere is the link: https://www.eventbrite.ca/e/where-they-come-from-a-meditation-on-eleanor-rigby-tickets-277074095077 \nUniversal questions. Unforgettable characters. Amazing music. Join us for Where They Come From: A Meditation on Eleanor Rigby. All proceeds go to the work of Young United Church in the West Broadway neighbourhood. Donations gratefully accepted.
URL:https://prairietopinerc.ca/event/where-they-come-from-a-mediation-on-eleanor-rigby/2022-05-31/
CATEGORIES:Community of Faith Events calendar
ATTACH;FMTTYPE=image/jpeg:https://prairietopinerc.ca/wp-content/uploads/2022/03/Rigby-colour-2-poster-1.jpg
END:VEVENT
BEGIN:VEVENT
DTSTART;TZID=America/Winnipeg:20220601T190000
DTEND;TZID=America/Winnipeg:20220601T210000
DTSTAMP:20260425T090628
CREATED:20220112T003601Z
LAST-MODIFIED:20220505T190759Z
UID:10000145-1654110000-1654117200@prairietopinerc.ca
SUMMARY:Regional Council Annual Meeting
DESCRIPTION:
URL:https://prairietopinerc.ca/event/regional-council-annual-meeting/2022-06-01/
END:VEVENT
BEGIN:VEVENT
DTSTART;TZID=America/Winnipeg:20220602T190000
DTEND;TZID=America/Winnipeg:20220602T210000
DTSTAMP:20260425T090628
CREATED:20220112T003601Z
LAST-MODIFIED:20220505T190759Z
UID:10000146-1654196400-1654203600@prairietopinerc.ca
SUMMARY:Regional Council Annual Meeting
DESCRIPTION:
URL:https://prairietopinerc.ca/event/regional-council-annual-meeting/2022-06-02/
END:VEVENT
BEGIN:VEVENT
DTSTART;TZID=America/Winnipeg:20220602T193000
DTEND;TZID=America/Winnipeg:20220602T213000
DTSTAMP:20260425T090628
CREATED:20220314T195300Z
LAST-MODIFIED:20220330T194952Z
UID:10000477-1654198200-1654205400@prairietopinerc.ca
SUMMARY:Where They Come From: A Meditation on Eleanor Rigby
DESCRIPTION:Where They Come From: A Meditation on Eleanor Rigby \nIn 1966\, Paul McCartney wrote a remarkable song—Eleanor Rigby. Over the ensuing decades\, fascination with Eleanor and Father McKenzie has only grown. Who were they? Why were they lonely? \nThis year\, Interesting Theatre will provide our answers with Where They Come From: A Meditation on Eleanor Rigby\, written and directed by Tim Higgins. \nAct One will feature the Haskins Street Band as they explore the musical influences that informed the Fab Four’s remarkable creativity and led them to Eleanor. \nIn Act Two\, the company of Interesting Theatre tackles the questions more directly. The story is set in Winnipeg\, in the winter of 1920. Supported by The Elleston Trio\, you’ll watch two lives become intertwined in ways that neither could have imagined. \nWhere They Come From: A Meditation on Eleanor Rigby will be staged in the Sanctuary of Young United Church\, 222 Furby Street\, on Friday and Saturday\, April 1st and 2nd. Curtain is 7:30 both nights. Tickets are $20 (plus agency fees) and are available on EventBrite. Proof of vaccination and wearing of mask will be required. Running time approx. two hours. \nHere is the link: https://www.eventbrite.ca/e/where-they-come-from-a-meditation-on-eleanor-rigby-tickets-277074095077 \nUniversal questions. Unforgettable characters. Amazing music. Join us for Where They Come From: A Meditation on Eleanor Rigby. All proceeds go to the work of Young United Church in the West Broadway neighbourhood. Donations gratefully accepted.
URL:https://prairietopinerc.ca/event/where-they-come-from-a-mediation-on-eleanor-rigby/2022-06-02/
CATEGORIES:Community of Faith Events calendar
ATTACH;FMTTYPE=image/jpeg:https://prairietopinerc.ca/wp-content/uploads/2022/03/Rigby-colour-2-poster-1.jpg
END:VEVENT
BEGIN:VEVENT
DTSTART;TZID=America/Winnipeg:20220603T190000
DTEND;TZID=America/Winnipeg:20220603T210000
DTSTAMP:20260425T090628
CREATED:20220112T003601Z
LAST-MODIFIED:20220505T190759Z
UID:10000147-1654282800-1654290000@prairietopinerc.ca
SUMMARY:Regional Council Annual Meeting
DESCRIPTION:
URL:https://prairietopinerc.ca/event/regional-council-annual-meeting/2022-06-03/
END:VEVENT
BEGIN:VEVENT
DTSTART;TZID=America/Winnipeg:20220604T190000
DTEND;TZID=America/Winnipeg:20220604T210000
DTSTAMP:20260425T090628
CREATED:20220112T003601Z
LAST-MODIFIED:20220505T190759Z
UID:10000148-1654369200-1654376400@prairietopinerc.ca
SUMMARY:Regional Council Annual Meeting
DESCRIPTION:
URL:https://prairietopinerc.ca/event/regional-council-annual-meeting/2022-06-04/
END:VEVENT
BEGIN:VEVENT
DTSTART;TZID=America/Winnipeg:20220604T193000
DTEND;TZID=America/Winnipeg:20220604T213000
DTSTAMP:20260425T090628
CREATED:20220314T195300Z
LAST-MODIFIED:20220330T194952Z
UID:10000478-1654371000-1654378200@prairietopinerc.ca
SUMMARY:Where They Come From: A Meditation on Eleanor Rigby
DESCRIPTION:Where They Come From: A Meditation on Eleanor Rigby \nIn 1966\, Paul McCartney wrote a remarkable song—Eleanor Rigby. Over the ensuing decades\, fascination with Eleanor and Father McKenzie has only grown. Who were they? Why were they lonely? \nThis year\, Interesting Theatre will provide our answers with Where They Come From: A Meditation on Eleanor Rigby\, written and directed by Tim Higgins. \nAct One will feature the Haskins Street Band as they explore the musical influences that informed the Fab Four’s remarkable creativity and led them to Eleanor. \nIn Act Two\, the company of Interesting Theatre tackles the questions more directly. The story is set in Winnipeg\, in the winter of 1920. Supported by The Elleston Trio\, you’ll watch two lives become intertwined in ways that neither could have imagined. \nWhere They Come From: A Meditation on Eleanor Rigby will be staged in the Sanctuary of Young United Church\, 222 Furby Street\, on Friday and Saturday\, April 1st and 2nd. Curtain is 7:30 both nights. Tickets are $20 (plus agency fees) and are available on EventBrite. Proof of vaccination and wearing of mask will be required. Running time approx. two hours. \nHere is the link: https://www.eventbrite.ca/e/where-they-come-from-a-meditation-on-eleanor-rigby-tickets-277074095077 \nUniversal questions. Unforgettable characters. Amazing music. Join us for Where They Come From: A Meditation on Eleanor Rigby. All proceeds go to the work of Young United Church in the West Broadway neighbourhood. Donations gratefully accepted.
URL:https://prairietopinerc.ca/event/where-they-come-from-a-mediation-on-eleanor-rigby/2022-06-04/
CATEGORIES:Community of Faith Events calendar
ATTACH;FMTTYPE=image/jpeg:https://prairietopinerc.ca/wp-content/uploads/2022/03/Rigby-colour-2-poster-1.jpg
END:VEVENT
BEGIN:VEVENT
DTSTART;TZID=America/Winnipeg:20220605T110000
DTEND;TZID=America/Winnipeg:20220605T120000
DTSTAMP:20260425T090628
CREATED:20220512T130940Z
LAST-MODIFIED:20220801T203318Z
UID:10000600-1654426800-1654430400@prairietopinerc.ca
SUMMARY:First Summer Sunday Service
DESCRIPTION:The West Hawk Lake United Church faith community will be starting Sunday Worship gatherings this coming May long weekend. All are welcome to join in the services through at least to the September long weekend. An AGM is planned for August 28.
URL:https://prairietopinerc.ca/event/first-summer-sunday-service/2022-06-05/
CATEGORIES:Community of Faith Events calendar
END:VEVENT
BEGIN:VEVENT
DTSTART;TZID=America/Winnipeg:20220605T190000
DTEND;TZID=America/Winnipeg:20220605T210000
DTSTAMP:20260425T090628
CREATED:20220112T003601Z
LAST-MODIFIED:20220505T190759Z
UID:10000149-1654455600-1654462800@prairietopinerc.ca
SUMMARY:Regional Council Annual Meeting
DESCRIPTION:
URL:https://prairietopinerc.ca/event/regional-council-annual-meeting/2022-06-05/
END:VEVENT
BEGIN:VEVENT
DTSTART;TZID=America/Winnipeg:20220606T190000
DTEND;TZID=America/Winnipeg:20220606T210000
DTSTAMP:20260425T090628
CREATED:20220112T003601Z
LAST-MODIFIED:20220505T190759Z
UID:10000150-1654542000-1654549200@prairietopinerc.ca
SUMMARY:Regional Council Annual Meeting
DESCRIPTION:
URL:https://prairietopinerc.ca/event/regional-council-annual-meeting/2022-06-06/
END:VEVENT
END:VCALENDAR