BEGIN:VCALENDAR
VERSION:2.0
PRODID:-//Prairie to Pine Regional Council - ECPv6.15.20//NONSGML v1.0//EN
CALSCALE:GREGORIAN
METHOD:PUBLISH
X-ORIGINAL-URL:https://prairietopinerc.ca
X-WR-CALDESC:Events for Prairie to Pine Regional Council
REFRESH-INTERVAL;VALUE=DURATION:PT1H
X-Robots-Tag:noindex
X-PUBLISHED-TTL:PT1H
BEGIN:VTIMEZONE
TZID:America/Winnipeg
BEGIN:DAYLIGHT
TZOFFSETFROM:-0600
TZOFFSETTO:-0500
TZNAME:CDT
DTSTART:20250309T080000
END:DAYLIGHT
BEGIN:STANDARD
TZOFFSETFROM:-0500
TZOFFSETTO:-0600
TZNAME:CST
DTSTART:20251102T070000
END:STANDARD
BEGIN:DAYLIGHT
TZOFFSETFROM:-0600
TZOFFSETTO:-0500
TZNAME:CDT
DTSTART:20260308T080000
END:DAYLIGHT
BEGIN:STANDARD
TZOFFSETFROM:-0500
TZOFFSETTO:-0600
TZNAME:CST
DTSTART:20261101T070000
END:STANDARD
BEGIN:DAYLIGHT
TZOFFSETFROM:-0600
TZOFFSETTO:-0500
TZNAME:CDT
DTSTART:20270314T080000
END:DAYLIGHT
BEGIN:STANDARD
TZOFFSETFROM:-0500
TZOFFSETTO:-0600
TZNAME:CST
DTSTART:20271107T070000
END:STANDARD
END:VTIMEZONE
BEGIN:VEVENT
DTSTART;TZID=America/Winnipeg:20260723T093000
DTEND;TZID=America/Winnipeg:20260723T123000
DTSTAMP:20260422T144815
CREATED:20230823T015149Z
LAST-MODIFIED:20230823T015149Z
UID:10000752-1784799000-1784809800@prairietopinerc.ca
SUMMARY:Committee on Community of Faith Support
DESCRIPTION:The Committee on Community of Faith Support is holding its regular meeting via Zoom every fourth Thursday of the month.
URL:https://prairietopinerc.ca/event/committee-on-community-of-faith-support/2026-07-23/
LOCATION:Manitoba
CATEGORIES:Events,Regional
END:VEVENT
BEGIN:VEVENT
DTSTART;TZID=America/Winnipeg:20260728T130000
DTEND;TZID=America/Winnipeg:20260728T150000
DTSTAMP:20260422T144815
CREATED:20250122T222921Z
LAST-MODIFIED:20250122T222921Z
UID:10001474-1785243600-1785250800@prairietopinerc.ca
SUMMARY:Connection / Prayer/ Communion Zoom Gathering
DESCRIPTION:A Message from Vocational Minister\, Laura Fouhse\nMinistry Personnel in Northern Spirit\, Living Skies\, and Prairie to Pine Regional Councils….(including active\, retired\, honorary associates\, and candidates in appointment) \nIn response to a number of requests (and my own desire) I will be hosting a 1 hour (roughly) connection/prayer/communion Zoom gathering on the 4th Tuesday of each month at 1 pm (CST). We will start next Tuesday (Jan 28). \nYou are welcome to bring your lunch with you to the gathering (but you may need to share with those who forgot) Also bring communion elements (obviously) and a candle (or whatever helps center you). \nHere is the Zoom link. It will be the same link each month\,\nhttps://united-church.zoom.us/j/81483053358
URL:https://prairietopinerc.ca/event/connection-prayer-communion-zoom-gathering/2026-07-28/
LOCATION:via Zoom
CATEGORIES:Events,Regional
ATTACH;FMTTYPE=image/png:https://prairietopinerc.ca/wp-content/uploads/2025/01/Tri-Region-Ministry-Personnel-monthly-Zoom.png
END:VEVENT
BEGIN:VEVENT
DTSTART;TZID=America/Winnipeg:20260729T140000
DTEND;TZID=America/Winnipeg:20260729T150000
DTSTAMP:20260422T144815
CREATED:20250905T180848Z
LAST-MODIFIED:20250905T181104Z
UID:10001673-1785333600-1785337200@prairietopinerc.ca
SUMMARY:Online Bible Study with Jordan Cantwell
DESCRIPTION:Every Wednesday at 1 pm (SK time) \nDeep conversation \nSpiritual friendships \nFaith exploration \nNew participants always welcome! \nContact jcantwell@united-church.ca for more information. \nClick here to join:  https://bit.ly/41Vh93V
URL:https://prairietopinerc.ca/event/online-bible-study-with-jordan-cantwell/2026-07-29/
LOCATION:Online
CATEGORIES:Community of Faith Events calendar,Events,Regional
END:VEVENT
BEGIN:VEVENT
DTSTART;VALUE=DATE:20260730
DTEND;VALUE=DATE:20260731
DTSTAMP:20260422T144815
CREATED:20251211T021615Z
LAST-MODIFIED:20251211T021615Z
UID:10002108-1785369600-1785455999@prairietopinerc.ca
SUMMARY:International Day of Friendship
DESCRIPTION:
URL:https://prairietopinerc.ca/event/international-day-of-friendship/
LOCATION:Manitoba
CATEGORIES:Events,Regional
END:VEVENT
BEGIN:VEVENT
DTSTART;VALUE=DATE:20260801
DTEND;VALUE=DATE:20260802
DTSTAMP:20260422T144815
CREATED:20251211T022403Z
LAST-MODIFIED:20251211T022403Z
UID:10002109-1785542400-1785628799@prairietopinerc.ca
SUMMARY:Emancipation Day
DESCRIPTION:
URL:https://prairietopinerc.ca/event/emancipation-day/
LOCATION:Manitoba
CATEGORIES:Events,Regional
END:VEVENT
BEGIN:VEVENT
DTSTART;VALUE=DATE:20260802
DTEND;VALUE=DATE:20260803
DTSTAMP:20260422T144815
CREATED:20251211T022438Z
LAST-MODIFIED:20251211T022438Z
UID:10002110-1785628800-1785715199@prairietopinerc.ca
SUMMARY:International Forgiveness Day
DESCRIPTION:
URL:https://prairietopinerc.ca/event/international-forgiveness-day/
LOCATION:Manitoba
CATEGORIES:Events,Regional
END:VEVENT
BEGIN:VEVENT
DTSTART;TZID=America/Winnipeg:20260804T150000
DTEND;TZID=America/Winnipeg:20260804T160000
DTSTAMP:20260422T144815
CREATED:20250924T171839Z
LAST-MODIFIED:20250924T171839Z
UID:10001980-1785855600-1785859200@prairietopinerc.ca
SUMMARY:Ministry Personnel Support Online Gathering
DESCRIPTION:Ministry Personnel Support Gathering. Tuesday\,  November 4\, 2025\, at 3:00 p.m. The monthly opportunity for Ministry Personnel from Prairie to Pine Regional Council (active & retired) to connect with one another via ZOOM. Here is the Zoom link information.
URL:https://prairietopinerc.ca/event/ministry-personnel-support-online-gathering/2026-08-04/
LOCATION:via Zoom
CATEGORIES:Events,Regional
END:VEVENT
BEGIN:VEVENT
DTSTART;TZID=America/Winnipeg:20260805T140000
DTEND;TZID=America/Winnipeg:20260805T150000
DTSTAMP:20260422T144815
CREATED:20250905T180848Z
LAST-MODIFIED:20250905T181104Z
UID:10001674-1785938400-1785942000@prairietopinerc.ca
SUMMARY:Online Bible Study with Jordan Cantwell
DESCRIPTION:Every Wednesday at 1 pm (SK time) \nDeep conversation \nSpiritual friendships \nFaith exploration \nNew participants always welcome! \nContact jcantwell@united-church.ca for more information. \nClick here to join:  https://bit.ly/41Vh93V
URL:https://prairietopinerc.ca/event/online-bible-study-with-jordan-cantwell/2026-08-05/
LOCATION:Online
CATEGORIES:Community of Faith Events calendar,Events,Regional
END:VEVENT
BEGIN:VEVENT
DTSTART;VALUE=DATE:20260809
DTEND;VALUE=DATE:20260810
DTSTAMP:20260422T144815
CREATED:20251211T022523Z
LAST-MODIFIED:20251211T022523Z
UID:10002111-1786233600-1786319999@prairietopinerc.ca
SUMMARY:International Day of the World's Indigenous Peoples
DESCRIPTION:
URL:https://prairietopinerc.ca/event/international-day-of-the-worlds-indigenous-peoples/
LOCATION:Manitoba
CATEGORIES:Events,Regional
END:VEVENT
BEGIN:VEVENT
DTSTART;VALUE=DATE:20260812
DTEND;VALUE=DATE:20260813
DTSTAMP:20260422T144815
CREATED:20251211T022559Z
LAST-MODIFIED:20251211T022559Z
UID:10002112-1786492800-1786579199@prairietopinerc.ca
SUMMARY:International Youth Day
DESCRIPTION:
URL:https://prairietopinerc.ca/event/international-youth-day/
LOCATION:Manitoba
CATEGORIES:Events,Regional
END:VEVENT
BEGIN:VEVENT
DTSTART;TZID=America/Winnipeg:20260812T140000
DTEND;TZID=America/Winnipeg:20260812T150000
DTSTAMP:20260422T144815
CREATED:20250905T180848Z
LAST-MODIFIED:20250905T181104Z
UID:10001675-1786543200-1786546800@prairietopinerc.ca
SUMMARY:Online Bible Study with Jordan Cantwell
DESCRIPTION:Every Wednesday at 1 pm (SK time) \nDeep conversation \nSpiritual friendships \nFaith exploration \nNew participants always welcome! \nContact jcantwell@united-church.ca for more information. \nClick here to join:  https://bit.ly/41Vh93V
URL:https://prairietopinerc.ca/event/online-bible-study-with-jordan-cantwell/2026-08-12/
LOCATION:Online
CATEGORIES:Community of Faith Events calendar,Events,Regional
END:VEVENT
BEGIN:VEVENT
DTSTART;VALUE=DATE:20260819
DTEND;VALUE=DATE:20260820
DTSTAMP:20260422T144815
CREATED:20251211T022644Z
LAST-MODIFIED:20251211T022644Z
UID:10002113-1787097600-1787183999@prairietopinerc.ca
SUMMARY:World Humanitarian Day
DESCRIPTION:
URL:https://prairietopinerc.ca/event/world-humanitarian-day/
LOCATION:Manitoba
CATEGORIES:Events,Regional
END:VEVENT
BEGIN:VEVENT
DTSTART;TZID=America/Winnipeg:20260819T140000
DTEND;TZID=America/Winnipeg:20260819T150000
DTSTAMP:20260422T144815
CREATED:20250905T180848Z
LAST-MODIFIED:20250905T181104Z
UID:10001676-1787148000-1787151600@prairietopinerc.ca
SUMMARY:Online Bible Study with Jordan Cantwell
DESCRIPTION:Every Wednesday at 1 pm (SK time) \nDeep conversation \nSpiritual friendships \nFaith exploration \nNew participants always welcome! \nContact jcantwell@united-church.ca for more information. \nClick here to join:  https://bit.ly/41Vh93V
URL:https://prairietopinerc.ca/event/online-bible-study-with-jordan-cantwell/2026-08-19/
LOCATION:Online
CATEGORIES:Community of Faith Events calendar,Events,Regional
END:VEVENT
BEGIN:VEVENT
DTSTART;TZID=America/Winnipeg:20260825T130000
DTEND;TZID=America/Winnipeg:20260825T150000
DTSTAMP:20260422T144815
CREATED:20250122T222921Z
LAST-MODIFIED:20250122T222921Z
UID:10001475-1787662800-1787670000@prairietopinerc.ca
SUMMARY:Connection / Prayer/ Communion Zoom Gathering
DESCRIPTION:A Message from Vocational Minister\, Laura Fouhse\nMinistry Personnel in Northern Spirit\, Living Skies\, and Prairie to Pine Regional Councils….(including active\, retired\, honorary associates\, and candidates in appointment) \nIn response to a number of requests (and my own desire) I will be hosting a 1 hour (roughly) connection/prayer/communion Zoom gathering on the 4th Tuesday of each month at 1 pm (CST). We will start next Tuesday (Jan 28). \nYou are welcome to bring your lunch with you to the gathering (but you may need to share with those who forgot) Also bring communion elements (obviously) and a candle (or whatever helps center you). \nHere is the Zoom link. It will be the same link each month\,\nhttps://united-church.zoom.us/j/81483053358
URL:https://prairietopinerc.ca/event/connection-prayer-communion-zoom-gathering/2026-08-25/
LOCATION:via Zoom
CATEGORIES:Events,Regional
ATTACH;FMTTYPE=image/png:https://prairietopinerc.ca/wp-content/uploads/2025/01/Tri-Region-Ministry-Personnel-monthly-Zoom.png
END:VEVENT
BEGIN:VEVENT
DTSTART;TZID=America/Winnipeg:20260826T140000
DTEND;TZID=America/Winnipeg:20260826T150000
DTSTAMP:20260422T144815
CREATED:20250905T180848Z
LAST-MODIFIED:20250905T181104Z
UID:10001677-1787752800-1787756400@prairietopinerc.ca
SUMMARY:Online Bible Study with Jordan Cantwell
DESCRIPTION:Every Wednesday at 1 pm (SK time) \nDeep conversation \nSpiritual friendships \nFaith exploration \nNew participants always welcome! \nContact jcantwell@united-church.ca for more information. \nClick here to join:  https://bit.ly/41Vh93V
URL:https://prairietopinerc.ca/event/online-bible-study-with-jordan-cantwell/2026-08-26/
LOCATION:Online
CATEGORIES:Community of Faith Events calendar,Events,Regional
END:VEVENT
BEGIN:VEVENT
DTSTART;TZID=America/Winnipeg:20260827T093000
DTEND;TZID=America/Winnipeg:20260827T123000
DTSTAMP:20260422T144815
CREATED:20230823T015149Z
LAST-MODIFIED:20230823T015149Z
UID:10000753-1787823000-1787833800@prairietopinerc.ca
SUMMARY:Committee on Community of Faith Support
DESCRIPTION:The Committee on Community of Faith Support is holding its regular meeting via Zoom every fourth Thursday of the month.
URL:https://prairietopinerc.ca/event/committee-on-community-of-faith-support/2026-08-27/
LOCATION:Manitoba
CATEGORIES:Events,Regional
END:VEVENT
BEGIN:VEVENT
DTSTART;TZID=America/Winnipeg:20260901T150000
DTEND;TZID=America/Winnipeg:20260901T160000
DTSTAMP:20260422T144815
CREATED:20250924T171839Z
LAST-MODIFIED:20250924T171839Z
UID:10001981-1788274800-1788278400@prairietopinerc.ca
SUMMARY:Ministry Personnel Support Online Gathering
DESCRIPTION:Ministry Personnel Support Gathering. Tuesday\,  November 4\, 2025\, at 3:00 p.m. The monthly opportunity for Ministry Personnel from Prairie to Pine Regional Council (active & retired) to connect with one another via ZOOM. Here is the Zoom link information.
URL:https://prairietopinerc.ca/event/ministry-personnel-support-online-gathering/2026-09-01/
LOCATION:via Zoom
CATEGORIES:Events,Regional
END:VEVENT
BEGIN:VEVENT
DTSTART;TZID=America/Winnipeg:20260902T140000
DTEND;TZID=America/Winnipeg:20260902T150000
DTSTAMP:20260422T144815
CREATED:20250905T180848Z
LAST-MODIFIED:20250905T181104Z
UID:10001678-1788357600-1788361200@prairietopinerc.ca
SUMMARY:Online Bible Study with Jordan Cantwell
DESCRIPTION:Every Wednesday at 1 pm (SK time) \nDeep conversation \nSpiritual friendships \nFaith exploration \nNew participants always welcome! \nContact jcantwell@united-church.ca for more information. \nClick here to join:  https://bit.ly/41Vh93V
URL:https://prairietopinerc.ca/event/online-bible-study-with-jordan-cantwell/2026-09-02/
LOCATION:Online
CATEGORIES:Community of Faith Events calendar,Events,Regional
END:VEVENT
BEGIN:VEVENT
DTSTART;VALUE=DATE:20260904
DTEND;VALUE=DATE:20260905
DTSTAMP:20260422T144815
CREATED:20251211T022718Z
LAST-MODIFIED:20251211T022718Z
UID:10002114-1788480000-1788566399@prairietopinerc.ca
SUMMARY:World Sexual Health Day
DESCRIPTION:
URL:https://prairietopinerc.ca/event/world-sexual-health-day/
LOCATION:Manitoba
CATEGORIES:Events,Regional
END:VEVENT
BEGIN:VEVENT
DTSTART;TZID=America/Winnipeg:20260909T140000
DTEND;TZID=America/Winnipeg:20260909T150000
DTSTAMP:20260422T144815
CREATED:20250905T180848Z
LAST-MODIFIED:20250905T181104Z
UID:10001679-1788962400-1788966000@prairietopinerc.ca
SUMMARY:Online Bible Study with Jordan Cantwell
DESCRIPTION:Every Wednesday at 1 pm (SK time) \nDeep conversation \nSpiritual friendships \nFaith exploration \nNew participants always welcome! \nContact jcantwell@united-church.ca for more information. \nClick here to join:  https://bit.ly/41Vh93V
URL:https://prairietopinerc.ca/event/online-bible-study-with-jordan-cantwell/2026-09-09/
LOCATION:Online
CATEGORIES:Community of Faith Events calendar,Events,Regional
END:VEVENT
BEGIN:VEVENT
DTSTART;VALUE=DATE:20260916
DTEND;VALUE=DATE:20260924
DTSTAMP:20260422T144815
CREATED:20251211T022803Z
LAST-MODIFIED:20251211T022803Z
UID:10002115-1789516800-1790207999@prairietopinerc.ca
SUMMARY:Bisexual Awareness Week
DESCRIPTION:
URL:https://prairietopinerc.ca/event/bisexual-awareness-week/
LOCATION:Manitoba
CATEGORIES:Events,Regional
END:VEVENT
BEGIN:VEVENT
DTSTART;TZID=America/Winnipeg:20260916T140000
DTEND;TZID=America/Winnipeg:20260916T150000
DTSTAMP:20260422T144815
CREATED:20250905T180848Z
LAST-MODIFIED:20250905T181104Z
UID:10001680-1789567200-1789570800@prairietopinerc.ca
SUMMARY:Online Bible Study with Jordan Cantwell
DESCRIPTION:Every Wednesday at 1 pm (SK time) \nDeep conversation \nSpiritual friendships \nFaith exploration \nNew participants always welcome! \nContact jcantwell@united-church.ca for more information. \nClick here to join:  https://bit.ly/41Vh93V
URL:https://prairietopinerc.ca/event/online-bible-study-with-jordan-cantwell/2026-09-16/
LOCATION:Online
CATEGORIES:Community of Faith Events calendar,Events,Regional
END:VEVENT
BEGIN:VEVENT
DTSTART;VALUE=DATE:20260921
DTEND;VALUE=DATE:20260922
DTSTAMP:20260422T144815
CREATED:20251211T022938Z
LAST-MODIFIED:20251211T022938Z
UID:10002117-1789948800-1790035199@prairietopinerc.ca
SUMMARY:International Day of Peace
DESCRIPTION:
URL:https://prairietopinerc.ca/event/international-day-of-peace/
LOCATION:Manitoba
CATEGORIES:Events,Regional
END:VEVENT
BEGIN:VEVENT
DTSTART;VALUE=DATE:20260921
DTEND;VALUE=DATE:20260928
DTSTAMP:20260422T144815
CREATED:20251211T022856Z
LAST-MODIFIED:20251211T022856Z
UID:10002116-1789948800-1790553599@prairietopinerc.ca
SUMMARY:Gender Equality Week
DESCRIPTION:
URL:https://prairietopinerc.ca/event/gender-equality-week/
LOCATION:Manitoba
CATEGORIES:Events,Regional
END:VEVENT
BEGIN:VEVENT
DTSTART;TZID=America/Winnipeg:20260922T130000
DTEND;TZID=America/Winnipeg:20260922T150000
DTSTAMP:20260422T144815
CREATED:20250122T222921Z
LAST-MODIFIED:20250122T222921Z
UID:10001476-1790082000-1790089200@prairietopinerc.ca
SUMMARY:Connection / Prayer/ Communion Zoom Gathering
DESCRIPTION:A Message from Vocational Minister\, Laura Fouhse\nMinistry Personnel in Northern Spirit\, Living Skies\, and Prairie to Pine Regional Councils….(including active\, retired\, honorary associates\, and candidates in appointment) \nIn response to a number of requests (and my own desire) I will be hosting a 1 hour (roughly) connection/prayer/communion Zoom gathering on the 4th Tuesday of each month at 1 pm (CST). We will start next Tuesday (Jan 28). \nYou are welcome to bring your lunch with you to the gathering (but you may need to share with those who forgot) Also bring communion elements (obviously) and a candle (or whatever helps center you). \nHere is the Zoom link. It will be the same link each month\,\nhttps://united-church.zoom.us/j/81483053358
URL:https://prairietopinerc.ca/event/connection-prayer-communion-zoom-gathering/2026-09-22/
LOCATION:via Zoom
CATEGORIES:Events,Regional
ATTACH;FMTTYPE=image/png:https://prairietopinerc.ca/wp-content/uploads/2025/01/Tri-Region-Ministry-Personnel-monthly-Zoom.png
END:VEVENT
BEGIN:VEVENT
DTSTART;VALUE=DATE:20260923
DTEND;VALUE=DATE:20260924
DTSTAMP:20260422T144815
CREATED:20251211T023013Z
LAST-MODIFIED:20251211T023013Z
UID:10002118-1790121600-1790207999@prairietopinerc.ca
SUMMARY:Celebrate Bisexual Day
DESCRIPTION:
URL:https://prairietopinerc.ca/event/celebrate-bisexual-day/
LOCATION:Manitoba
CATEGORIES:Events,Regional
END:VEVENT
BEGIN:VEVENT
DTSTART;TZID=America/Winnipeg:20260923T140000
DTEND;TZID=America/Winnipeg:20260923T150000
DTSTAMP:20260422T144815
CREATED:20250905T180848Z
LAST-MODIFIED:20250905T181104Z
UID:10001681-1790172000-1790175600@prairietopinerc.ca
SUMMARY:Online Bible Study with Jordan Cantwell
DESCRIPTION:Every Wednesday at 1 pm (SK time) \nDeep conversation \nSpiritual friendships \nFaith exploration \nNew participants always welcome! \nContact jcantwell@united-church.ca for more information. \nClick here to join:  https://bit.ly/41Vh93V
URL:https://prairietopinerc.ca/event/online-bible-study-with-jordan-cantwell/2026-09-23/
LOCATION:Online
CATEGORIES:Community of Faith Events calendar,Events,Regional
END:VEVENT
BEGIN:VEVENT
DTSTART;TZID=America/Winnipeg:20260924T093000
DTEND;TZID=America/Winnipeg:20260924T123000
DTSTAMP:20260422T144815
CREATED:20230823T015149Z
LAST-MODIFIED:20230823T015149Z
UID:10000754-1790242200-1790253000@prairietopinerc.ca
SUMMARY:Committee on Community of Faith Support
DESCRIPTION:The Committee on Community of Faith Support is holding its regular meeting via Zoom every fourth Thursday of the month.
URL:https://prairietopinerc.ca/event/committee-on-community-of-faith-support/2026-09-24/
LOCATION:Manitoba
CATEGORIES:Events,Regional
END:VEVENT
BEGIN:VEVENT
DTSTART;VALUE=DATE:20260930
DTEND;VALUE=DATE:20261001
DTSTAMP:20260422T144815
CREATED:20251211T023058Z
LAST-MODIFIED:20251211T023058Z
UID:10002119-1790726400-1790812799@prairietopinerc.ca
SUMMARY:National Day for Truth and Reconciliation / Orange Shirt Day
DESCRIPTION:
URL:https://prairietopinerc.ca/event/national-day-for-truth-and-reconciliation-orange-shirt-day/
LOCATION:Manitoba
CATEGORIES:Events,Regional
END:VEVENT
BEGIN:VEVENT
DTSTART;TZID=America/Winnipeg:20260930T140000
DTEND;TZID=America/Winnipeg:20260930T150000
DTSTAMP:20260422T144815
CREATED:20250905T180848Z
LAST-MODIFIED:20250905T181104Z
UID:10001682-1790776800-1790780400@prairietopinerc.ca
SUMMARY:Online Bible Study with Jordan Cantwell
DESCRIPTION:Every Wednesday at 1 pm (SK time) \nDeep conversation \nSpiritual friendships \nFaith exploration \nNew participants always welcome! \nContact jcantwell@united-church.ca for more information. \nClick here to join:  https://bit.ly/41Vh93V
URL:https://prairietopinerc.ca/event/online-bible-study-with-jordan-cantwell/2026-09-30/
LOCATION:Online
CATEGORIES:Community of Faith Events calendar,Events,Regional
END:VEVENT
END:VCALENDAR