BEGIN:VCALENDAR
VERSION:2.0
PRODID:-//Prairie to Pine Regional Council - ECPv6.15.20//NONSGML v1.0//EN
CALSCALE:GREGORIAN
METHOD:PUBLISH
X-ORIGINAL-URL:https://prairietopinerc.ca
X-WR-CALDESC:Events for Prairie to Pine Regional Council
REFRESH-INTERVAL;VALUE=DURATION:PT1H
X-Robots-Tag:noindex
X-PUBLISHED-TTL:PT1H
BEGIN:VTIMEZONE
TZID:America/Winnipeg
BEGIN:DAYLIGHT
TZOFFSETFROM:-0600
TZOFFSETTO:-0500
TZNAME:CDT
DTSTART:20240310T080000
END:DAYLIGHT
BEGIN:STANDARD
TZOFFSETFROM:-0500
TZOFFSETTO:-0600
TZNAME:CST
DTSTART:20241103T070000
END:STANDARD
BEGIN:DAYLIGHT
TZOFFSETFROM:-0600
TZOFFSETTO:-0500
TZNAME:CDT
DTSTART:20250309T080000
END:DAYLIGHT
BEGIN:STANDARD
TZOFFSETFROM:-0500
TZOFFSETTO:-0600
TZNAME:CST
DTSTART:20251102T070000
END:STANDARD
BEGIN:DAYLIGHT
TZOFFSETFROM:-0600
TZOFFSETTO:-0500
TZNAME:CDT
DTSTART:20260308T080000
END:DAYLIGHT
BEGIN:STANDARD
TZOFFSETFROM:-0500
TZOFFSETTO:-0600
TZNAME:CST
DTSTART:20261101T070000
END:STANDARD
BEGIN:DAYLIGHT
TZOFFSETFROM:-0600
TZOFFSETTO:-0500
TZNAME:CDT
DTSTART:20270314T080000
END:DAYLIGHT
BEGIN:STANDARD
TZOFFSETFROM:-0500
TZOFFSETTO:-0600
TZNAME:CST
DTSTART:20271107T070000
END:STANDARD
END:VTIMEZONE
BEGIN:VEVENT
DTSTART;TZID=America/Winnipeg:20251211T133000
DTEND;TZID=America/Winnipeg:20251211T153000
DTSTAMP:20260424T105417
CREATED:20251204T175145Z
LAST-MODIFIED:20251204T175145Z
UID:10002066-1765459800-1765467000@prairietopinerc.ca
SUMMARY:The Happy Gang Afternoon
DESCRIPTION:Join us for an afternoon of fun and conversation.\nPlay card games\, table games\, bridge.\nComplimentary light refreshments. \nPlease bring a little treat like a chocolate bar or bag of candy for our Portage Avenue Food Bank children.\nThank you.
URL:https://prairietopinerc.ca/event/the-happy-gang-afternoon/
LOCATION:Prairie Spirit United Church\, 207 Thompson Drive\, Winnipeg\, Manitoba\, R3J 3E2\, Canada
CATEGORIES:Community of Faith Events calendar,Events
ATTACH;FMTTYPE=image/jpeg:https://prairietopinerc.ca/wp-content/uploads/2025/12/2025-December-Happy-Gang.jpg
ORGANIZER;CN="Prairie Spirit United Church":MAILTO:PrairieSpiritUC@shaw.ca
END:VEVENT
BEGIN:VEVENT
DTSTART;TZID=America/Winnipeg:20251212T170000
DTEND;TZID=America/Winnipeg:20251212T190000
DTSTAMP:20260424T105417
CREATED:20250917T163306Z
LAST-MODIFIED:20260114T200124Z
UID:10001897-1765558800-1765566000@prairietopinerc.ca
SUMMARY:Messy Church
DESCRIPTION:WHAT IS MESSY CHURCH? \nMessy Church is an alternative way of Worship and Celebration! . It is rooted in the word of God\, and this is expressed in a variety of creative ways. It is a community of friends and families. It is for everyone between the ages of 3 and 95! You will be greeted with a warm welcome. There is a story on the evening’s theme. There is a communal and yummy meal. Following the meal\, there are 10 activity stations. There is something for young children\, something for trendy teens\, and something for thoughtful and creative adults. In fact …. Something for everyone. \nThe theme of the first Messy Church is God’s love personally experienced and also expressed through empathy. There is no better time to Pass it On! \nWe invite you to join us:\nOctober 10\,2025\, 5pm -7pm\nFort Garry United Church (800 Point Road\, Winnipeg)
URL:https://prairietopinerc.ca/event/messy-church-2/2025-12-12/
LOCATION:Fort Garry United Church\, 800 Point Rd\, Winnipeg\, MB\, Winnipeg\, Manitoba\, R3T 3L8\, Canada
CATEGORIES:Community of Faith Events calendar,Events
ORGANIZER;CN="Mavis Allison":MAILTO:wasagawomensweekend@gmail.com
END:VEVENT
BEGIN:VEVENT
DTSTART;TZID=America/Winnipeg:20251213T110000
DTEND;TZID=America/Winnipeg:20251213T120000
DTSTAMP:20260424T105417
CREATED:20251211T045412Z
LAST-MODIFIED:20251211T045412Z
UID:10002147-1765623600-1765627200@prairietopinerc.ca
SUMMARY:10th Anniversary of the formal full communion relationship between the United Church of Christ and the United Church of Canada
DESCRIPTION:Celebrating the 10th Anniversary of the formal full-communion relationship between The United Church of Christ (UCC) and The United Church of Canada\nTo celebrate the 10th anniversary of this unique relationship this year\, the UCC and The United Church of Canada will gather for an online worship service on Sat\, December 13\, 2025\, from 11 am-12 p.m. CT. And the service will be livestreamed\, making it easy for churches and members across both denominations to participate together in this joyful celebration.\nThat’s you.\nPlease register here. \nGuests include Rev. Philip Vinod Peacock of India\, General Secretary-elect of The World Communion of Reformed Churches (WCRC); Rev. Michael Blair\, General Secretary of The United Church of Canada\, and Rev. Karen Georgia Thompson\, General Minister and President of the United Church of Christ. \n“This full communion agreement is at its heart an expression of the spirit of the united and uniting church movement\,” reads A Journey to Full Communion\, the proposal presented to the 42nd General Council in August 2015. “With it\, both churches seek to lift up and reaffirm the ‘fire in the belly’ for the ecumenical visions that brought them into existence. They also want the agreement truly to make a difference for them and for the world.” \nThe United Church of Christ (UCC) and The United Church of Canada entered into a formal full-communion agreement in 2015. A unanimous decision by both denominations\, the UCC General Synod affirmed it in June that year and the United Church General Council at the 42nd General Council in August 2015. \nA joint worship service was held on October 17\, 2015.
URL:https://prairietopinerc.ca/event/10th-anniversary-of-the-formal-full-communion-relationship-between-the-united-church-of-christ-and-the-united-church-of-canada/
LOCATION:Online
CATEGORIES:Events,Regional
END:VEVENT
BEGIN:VEVENT
DTSTART;TZID=America/Winnipeg:20251217T140000
DTEND;TZID=America/Winnipeg:20251217T150000
DTSTAMP:20260424T105417
CREATED:20250905T180848Z
LAST-MODIFIED:20250905T181104Z
UID:10001641-1765980000-1765983600@prairietopinerc.ca
SUMMARY:Online Bible Study with Jordan Cantwell
DESCRIPTION:Every Wednesday at 1 pm (SK time) \nDeep conversation \nSpiritual friendships \nFaith exploration \nNew participants always welcome! \nContact jcantwell@united-church.ca for more information. \nClick here to join:  https://bit.ly/41Vh93V
URL:https://prairietopinerc.ca/event/online-bible-study-with-jordan-cantwell/2025-12-17/
LOCATION:Online
CATEGORIES:Community of Faith Events calendar,Events,Regional
END:VEVENT
BEGIN:VEVENT
DTSTART;TZID=America/Winnipeg:20251219T173000
DTEND;TZID=America/Winnipeg:20251219T193000
DTSTAMP:20260424T105417
CREATED:20250917T193929Z
LAST-MODIFIED:20250917T193929Z
UID:10001962-1766165400-1766172600@prairietopinerc.ca
SUMMARY:Messy Church
DESCRIPTION:Messy Church is church that is fun! It celebrates faith with creativity and hospitality! \nIt is Biblically based!\nIt is for everyone — all generations together!\nIt is a growing international community filled with enthusiasm and ideas to share Good News.\nAll are Welcome! \nJoin us for Messy Church at TMUC: stories\, songs\, crafts and a shared meal.
URL:https://prairietopinerc.ca/event/messy-church-6/
LOCATION:Transcona Memorial United Church\, 209 Yale Ave W.\, Winnipeg\, Manitoba\, R2C 1T9\, Canada
CATEGORIES:Community of Faith Events calendar,Events
ATTACH;FMTTYPE=image/jpeg:https://prairietopinerc.ca/wp-content/uploads/2025/09/MC-scaled.jpg
END:VEVENT
BEGIN:VEVENT
DTSTART;TZID=America/Winnipeg:20251219T190000
DTEND;TZID=America/Winnipeg:20251219T210000
DTSTAMP:20260424T105417
CREATED:20251118T004617Z
LAST-MODIFIED:20251118T011925Z
UID:10002058-1766170800-1766178000@prairietopinerc.ca
SUMMARY:Traveling Youth Group
DESCRIPTION:Join us this December at St. Andrew’s River Height United Church as they host the 3 rd\nannual Traveling Youth Group Christmas Extravaganza: Gingerbread House Edition.\nCome build gingerbread houses as we explore “Where is the Candy Cane in the Bible?”\nWhat is a Traveling Youth Group? Traveling Youth Group is a 2-hour Youth Retreat\nhosted by a variety of United Churches across Winnipeg each month; consisting of\nworship\, Theme and snacks. Come and bring your friends and meet new ones too!\nWho: Youth Grade 6-12\nWhere: St. Andrew’s River Height United Church\, 255 Oak Street\nWhen: Friday\, December 19 th 7:00pm -9:00pm\nRegister here
URL:https://prairietopinerc.ca/event/traveling-youth-group-3/
LOCATION:St. Andrews River Heights United Church\, 255 Oak St\, Winnipeg\, MB\, R3M 3P7\, Canada
CATEGORIES:Community of Faith Events calendar,Events
ATTACH;FMTTYPE=image/png:https://prairietopinerc.ca/wp-content/uploads/2025/11/Traveling-Youth-Group-Event-Dec-2025.png
END:VEVENT
BEGIN:VEVENT
DTSTART;TZID=America/Winnipeg:20251223T130000
DTEND;TZID=America/Winnipeg:20251223T150000
DTSTAMP:20260424T105417
CREATED:20250122T222921Z
LAST-MODIFIED:20250122T222921Z
UID:10001467-1766494800-1766502000@prairietopinerc.ca
SUMMARY:Connection / Prayer/ Communion Zoom Gathering
DESCRIPTION:A Message from Vocational Minister\, Laura Fouhse\nMinistry Personnel in Northern Spirit\, Living Skies\, and Prairie to Pine Regional Councils….(including active\, retired\, honorary associates\, and candidates in appointment) \nIn response to a number of requests (and my own desire) I will be hosting a 1 hour (roughly) connection/prayer/communion Zoom gathering on the 4th Tuesday of each month at 1 pm (CST). We will start next Tuesday (Jan 28). \nYou are welcome to bring your lunch with you to the gathering (but you may need to share with those who forgot) Also bring communion elements (obviously) and a candle (or whatever helps center you). \nHere is the Zoom link. It will be the same link each month\,\nhttps://united-church.zoom.us/j/81483053358
URL:https://prairietopinerc.ca/event/connection-prayer-communion-zoom-gathering/2025-12-23/
LOCATION:via Zoom
CATEGORIES:Events,Regional
ATTACH;FMTTYPE=image/png:https://prairietopinerc.ca/wp-content/uploads/2025/01/Tri-Region-Ministry-Personnel-monthly-Zoom.png
END:VEVENT
BEGIN:VEVENT
DTSTART;TZID=America/Winnipeg:20251224T140000
DTEND;TZID=America/Winnipeg:20251224T150000
DTSTAMP:20260424T105417
CREATED:20250905T180848Z
LAST-MODIFIED:20250905T181104Z
UID:10001642-1766584800-1766588400@prairietopinerc.ca
SUMMARY:Online Bible Study with Jordan Cantwell
DESCRIPTION:Every Wednesday at 1 pm (SK time) \nDeep conversation \nSpiritual friendships \nFaith exploration \nNew participants always welcome! \nContact jcantwell@united-church.ca for more information. \nClick here to join:  https://bit.ly/41Vh93V
URL:https://prairietopinerc.ca/event/online-bible-study-with-jordan-cantwell/2025-12-24/
LOCATION:Online
CATEGORIES:Community of Faith Events calendar,Events,Regional
END:VEVENT
BEGIN:VEVENT
DTSTART;TZID=America/Winnipeg:20251225T093000
DTEND;TZID=America/Winnipeg:20251225T123000
DTSTAMP:20260424T105417
CREATED:20230823T015149Z
LAST-MODIFIED:20230823T015149Z
UID:10000745-1766655000-1766665800@prairietopinerc.ca
SUMMARY:Committee on Community of Faith Support
DESCRIPTION:The Committee on Community of Faith Support is holding its regular meeting via Zoom every fourth Thursday of the month.
URL:https://prairietopinerc.ca/event/committee-on-community-of-faith-support/2025-12-25/
LOCATION:Manitoba
CATEGORIES:Events,Regional
END:VEVENT
BEGIN:VEVENT
DTSTART;TZID=America/Winnipeg:20251228T100000
DTEND;TZID=America/Winnipeg:20251228T120000
DTSTAMP:20260424T105417
CREATED:20251211T045737Z
LAST-MODIFIED:20251211T045737Z
UID:10002148-1766916000-1766923200@prairietopinerc.ca
SUMMARY:Release of Covenant Service- Rev. Doug Neufeld and the Communities of Faith at Trinity United Church\, Brandon and Forrest United Church
DESCRIPTION:Reverend Doug Neufeld and the Communities of Faith at Trinity United Church\, Brandon and Forrest United Church will gather on December 28\, 2025\, at 10:00 a.m. at Trinity United Church (1515 6th Street\, Brandon)\, for a release of Covenant Service.
URL:https://prairietopinerc.ca/event/release-of-covenant-service-rev-doug-neufeld-and-the-communities-of-faith-at-trinity-united-church-brandon-and-forrest-united-church/
LOCATION:Trinity United Church-Brandon\, 1515-6th Street\, Brandon\, Manitoba\, R7A 6B3\, Canada
CATEGORIES:Community of Faith Events calendar,Events
END:VEVENT
BEGIN:VEVENT
DTSTART;TZID=America/Winnipeg:20251231T140000
DTEND;TZID=America/Winnipeg:20251231T150000
DTSTAMP:20260424T105417
CREATED:20250905T180848Z
LAST-MODIFIED:20250905T181104Z
UID:10001643-1767189600-1767193200@prairietopinerc.ca
SUMMARY:Online Bible Study with Jordan Cantwell
DESCRIPTION:Every Wednesday at 1 pm (SK time) \nDeep conversation \nSpiritual friendships \nFaith exploration \nNew participants always welcome! \nContact jcantwell@united-church.ca for more information. \nClick here to join:  https://bit.ly/41Vh93V
URL:https://prairietopinerc.ca/event/online-bible-study-with-jordan-cantwell/2025-12-31/
LOCATION:Online
CATEGORIES:Community of Faith Events calendar,Events,Regional
END:VEVENT
BEGIN:VEVENT
DTSTART;TZID=America/Winnipeg:20251231T183000
DTEND;TZID=America/Winnipeg:20251231T220000
DTSTAMP:20260424T105417
CREATED:20251118T003822Z
LAST-MODIFIED:20251118T003822Z
UID:10002057-1767205800-1767218400@prairietopinerc.ca
SUMMARY:New Years Eve Event
DESCRIPTION:Have nowhere to go on New Years Eve? Join us at The United Church in Meadowood.\nCome enjoy a potluck dinner together at 6:30pm and stay for boardgames. For families\nwith younger kids\, we will have an early celebration at 8:30 p.m. For those wanting to\ncontinue enjoying the Fun\, we will play more boardgames and have our final countdown\ncelebration at 10:00pm with the New York Ball drop.\nWhere: The United Church in Meadowood\, 1111 Dakota St.\nWhen: Wednesday\, December 31 st 6:30pm-10:00pm\nRegister: ucim.org
URL:https://prairietopinerc.ca/event/new-years-eve-event/
LOCATION:United Church in Meadowood\, 1111 Dakota St\, Winnipeg\, MB\, R2N3T7\, Canada
CATEGORIES:Community of Faith Events calendar,Events
ATTACH;FMTTYPE=image/png:https://prairietopinerc.ca/wp-content/uploads/2025/11/Poster.png
END:VEVENT
BEGIN:VEVENT
DTSTART;VALUE=DATE:20260104
DTEND;VALUE=DATE:20260105
DTSTAMP:20260424T105417
CREATED:20251211T013645Z
LAST-MODIFIED:20251211T013645Z
UID:10002067-1767484800-1767571199@prairietopinerc.ca
SUMMARY:National Ribbon Skirt Day
DESCRIPTION:
URL:https://prairietopinerc.ca/event/national-ribbon-skirt-day/
LOCATION:Manitoba
CATEGORIES:Events,Regional
END:VEVENT
BEGIN:VEVENT
DTSTART;TZID=America/Winnipeg:20260106T150000
DTEND;TZID=America/Winnipeg:20260106T160000
DTSTAMP:20260424T105417
CREATED:20250924T171839Z
LAST-MODIFIED:20250924T171839Z
UID:10001973-1767711600-1767715200@prairietopinerc.ca
SUMMARY:Ministry Personnel Support Online Gathering
DESCRIPTION:Ministry Personnel Support Gathering. Tuesday\,  November 4\, 2025\, at 3:00 p.m. The monthly opportunity for Ministry Personnel from Prairie to Pine Regional Council (active & retired) to connect with one another via ZOOM. Here is the Zoom link information.
URL:https://prairietopinerc.ca/event/ministry-personnel-support-online-gathering/2026-01-06/
LOCATION:via Zoom
CATEGORIES:Events,Regional
END:VEVENT
BEGIN:VEVENT
DTSTART;TZID=America/Winnipeg:20260107T140000
DTEND;TZID=America/Winnipeg:20260107T150000
DTSTAMP:20260424T105417
CREATED:20250905T180848Z
LAST-MODIFIED:20250905T181104Z
UID:10001644-1767794400-1767798000@prairietopinerc.ca
SUMMARY:Online Bible Study with Jordan Cantwell
DESCRIPTION:Every Wednesday at 1 pm (SK time) \nDeep conversation \nSpiritual friendships \nFaith exploration \nNew participants always welcome! \nContact jcantwell@united-church.ca for more information. \nClick here to join:  https://bit.ly/41Vh93V
URL:https://prairietopinerc.ca/event/online-bible-study-with-jordan-cantwell/2026-01-07/
LOCATION:Online
CATEGORIES:Community of Faith Events calendar,Events,Regional
END:VEVENT
BEGIN:VEVENT
DTSTART;TZID=America/Winnipeg:20260109T170000
DTEND;TZID=America/Winnipeg:20260109T190000
DTSTAMP:20260424T105417
CREATED:20250917T163306Z
LAST-MODIFIED:20260114T200124Z
UID:10001898-1767978000-1767985200@prairietopinerc.ca
SUMMARY:Messy Church
DESCRIPTION:WHAT IS MESSY CHURCH? \nMessy Church is an alternative way of Worship and Celebration! . It is rooted in the word of God\, and this is expressed in a variety of creative ways. It is a community of friends and families. It is for everyone between the ages of 3 and 95! You will be greeted with a warm welcome. There is a story on the evening’s theme. There is a communal and yummy meal. Following the meal\, there are 10 activity stations. There is something for young children\, something for trendy teens\, and something for thoughtful and creative adults. In fact …. Something for everyone. \nThe theme of the first Messy Church is God’s love personally experienced and also expressed through empathy. There is no better time to Pass it On! \nWe invite you to join us:\nOctober 10\,2025\, 5pm -7pm\nFort Garry United Church (800 Point Road\, Winnipeg)
URL:https://prairietopinerc.ca/event/messy-church-2/2026-01-09/
LOCATION:Fort Garry United Church\, 800 Point Rd\, Winnipeg\, MB\, Winnipeg\, Manitoba\, R3T 3L8\, Canada
CATEGORIES:Community of Faith Events calendar,Events
ORGANIZER;CN="Mavis Allison":MAILTO:wasagawomensweekend@gmail.com
END:VEVENT
BEGIN:VEVENT
DTSTART;TZID=America/Winnipeg:20260109T190000
DTEND;TZID=America/Winnipeg:20260111T120000
DTSTAMP:20260424T105417
CREATED:20251202T213608Z
LAST-MODIFIED:20251204T222711Z
UID:10002064-1767985200-1768132800@prairietopinerc.ca
SUMMARY:Youth Leadership Retreat
DESCRIPTION:Leadership Event\nfor Future Leaders wanting to pursue Leadership Roles\nFriday Jan 9th to Sunday Jan 11th\, 2025 \nAt John Black Memorial United Church – 898 Henderson Hwy\, Winnipeg\, MB \nWhile the Zeebu Planning Team is meeting\, future leaders will gather in the same building to learn leadership skills. They will plan and lead a Travelling Youth Group that other children and youth will attend Saturday evening\, they will attend a YAAY meeting on Saturday afternoon to learn more about the YAAY Committee\, and they will participate in worship with the host church on Sunday morning. \nTo make it both a good learning environment and a manageable event for our hosts\, SPACE IS LIMITED so YOUTH be sure to click on the blue button below ASAP to register. \nRegister Here
URL:https://prairietopinerc.ca/event/youth-leadership-retreat-2/
LOCATION:Manitoba
CATEGORIES:Community of Faith Events calendar,Events,Regional,Young Adults and Youth
END:VEVENT
BEGIN:VEVENT
DTSTART;TZID=America/Winnipeg:20260110T190000
DTEND;TZID=America/Winnipeg:20260110T210000
DTSTAMP:20260424T105417
CREATED:20251217T174312Z
LAST-MODIFIED:20251217T174312Z
UID:10002149-1768071600-1768078800@prairietopinerc.ca
SUMMARY:Traveling Youth Group
DESCRIPTION:Join us for an evening of Worship\, Games and Snacks. Planned and Lead by our Leadership Event Participants. \nWhere: John Black Memorial United Church\nWhen: Saturday January 10th 7-9pm\nWho: Youth Garde 5-12 and their Leaders
URL:https://prairietopinerc.ca/event/traveling-youth-group-4/
LOCATION:John Black Memorial United Church\, 898 Henderson Hwy\, Winnipeg\, MB\, R2K 3T4\, Canada
CATEGORIES:Community of Faith Events calendar,Events,Leaders of Children,Young Adults and Youth
ATTACH;FMTTYPE=image/png:https://prairietopinerc.ca/wp-content/uploads/2025/12/Jan-Traveling-Youth-Group.png
END:VEVENT
BEGIN:VEVENT
DTSTART;TZID=America/Winnipeg:20260114T140000
DTEND;TZID=America/Winnipeg:20260114T150000
DTSTAMP:20260424T105417
CREATED:20250905T180848Z
LAST-MODIFIED:20250905T181104Z
UID:10001645-1768399200-1768402800@prairietopinerc.ca
SUMMARY:Online Bible Study with Jordan Cantwell
DESCRIPTION:Every Wednesday at 1 pm (SK time) \nDeep conversation \nSpiritual friendships \nFaith exploration \nNew participants always welcome! \nContact jcantwell@united-church.ca for more information. \nClick here to join:  https://bit.ly/41Vh93V
URL:https://prairietopinerc.ca/event/online-bible-study-with-jordan-cantwell/2026-01-14/
LOCATION:Online
CATEGORIES:Community of Faith Events calendar,Events,Regional
END:VEVENT
BEGIN:VEVENT
DTSTART;TZID=America/Winnipeg:20260115T133000
DTEND;TZID=America/Winnipeg:20260115T153000
DTSTAMP:20260424T105417
CREATED:20260106T205915Z
LAST-MODIFIED:20260106T205915Z
UID:10002150-1768483800-1768491000@prairietopinerc.ca
SUMMARY:The Happy Gang Afternoon
DESCRIPTION:The Happy Gang Afternoon \nJoin us for an afternoon of fun and conversation.\nPlay card games\, table games\, bridge.\nLight refreshments served complimentary from us. \nFor more information\,\ncall 204-832-1000
URL:https://prairietopinerc.ca/event/the-happy-gang-afternoon-2/
LOCATION:Prairie Spirit United Church\, 207 Thompson Drive\, Winnipeg\, Manitoba\, R3J 3E2\, Canada
CATEGORIES:Community of Faith Events calendar,Events
ATTACH;FMTTYPE=image/jpeg:https://prairietopinerc.ca/wp-content/uploads/2026/01/2026-January-Happy-Gang-Snowflakes.jpg
ORGANIZER;CN="Prairie Spirit United Church":MAILTO:PrairieSpiritUC@shaw.ca
END:VEVENT
BEGIN:VEVENT
DTSTART;TZID=America/Winnipeg:20260116T080000
DTEND;TZID=America/Winnipeg:20260116T170000
DTSTAMP:20260424T105417
CREATED:20250917T194002Z
LAST-MODIFIED:20250917T194002Z
UID:10001963-1768550400-1768582800@prairietopinerc.ca
SUMMARY:Messy Church
DESCRIPTION:Messy Church is church that is fun! It celebrates faith with creativity and hospitality! \nIt is Biblically based!\nIt is for everyone — all generations together!\nIt is a growing international community filled with enthusiasm and ideas to share Good News.\nAll are Welcome! \nJoin us at TMUC for Messy Church: stories\, songs\, crafts and a shared meal.
URL:https://prairietopinerc.ca/event/messy-church-7/
LOCATION:Transcona Memorial United Church\, 209 Yale Ave W.\, Winnipeg\, Manitoba\, R2C 1T9\, Canada
CATEGORIES:Community of Faith Events calendar,Events
END:VEVENT
BEGIN:VEVENT
DTSTART;VALUE=DATE:20260118
DTEND;VALUE=DATE:20260126
DTSTAMP:20260424T105417
CREATED:20251211T014122Z
LAST-MODIFIED:20251211T014122Z
UID:10002068-1768694400-1769385599@prairietopinerc.ca
SUMMARY:Week of Prayer for Christian Unity
DESCRIPTION:Week of Prayer for Christian Unity 2026 – Free resources available now “There is one body and one Spirit\, just as you were called to the one hope of your calling” (Eph 4:4). Download the entire kit\, including the International theme materials\, and special resources developed for Canada\, found here. The WPCU is traditionally observed from January 18 to 25. Weekofprayer.ca is a project of the Canadian Council of Churches\, the Prairie Centre for Ecumenism\, and the Centre canadien d’oecuménisme.
URL:https://prairietopinerc.ca/event/week-of-prayer-for-christian-unity-2/
LOCATION:Manitoba
CATEGORIES:Events,Regional
END:VEVENT
BEGIN:VEVENT
DTSTART;VALUE=DATE:20260119
DTEND;VALUE=DATE:20260120
DTSTAMP:20260424T105417
CREATED:20251211T014228Z
LAST-MODIFIED:20251211T014228Z
UID:10002069-1768780800-1768867199@prairietopinerc.ca
SUMMARY:Martin Luther King Jr. Day
DESCRIPTION:
URL:https://prairietopinerc.ca/event/martin-luther-king-jr-day/
LOCATION:Manitoba
CATEGORIES:Events,Regional
END:VEVENT
BEGIN:VEVENT
DTSTART;TZID=America/Winnipeg:20260121T140000
DTEND;TZID=America/Winnipeg:20260121T150000
DTSTAMP:20260424T105417
CREATED:20250905T180848Z
LAST-MODIFIED:20250905T181104Z
UID:10001646-1769004000-1769007600@prairietopinerc.ca
SUMMARY:Online Bible Study with Jordan Cantwell
DESCRIPTION:Every Wednesday at 1 pm (SK time) \nDeep conversation \nSpiritual friendships \nFaith exploration \nNew participants always welcome! \nContact jcantwell@united-church.ca for more information. \nClick here to join:  https://bit.ly/41Vh93V
URL:https://prairietopinerc.ca/event/online-bible-study-with-jordan-cantwell/2026-01-21/
LOCATION:Online
CATEGORIES:Community of Faith Events calendar,Events,Regional
END:VEVENT
BEGIN:VEVENT
DTSTART;TZID=America/Winnipeg:20260122T093000
DTEND;TZID=America/Winnipeg:20260122T123000
DTSTAMP:20260424T105417
CREATED:20230823T015149Z
LAST-MODIFIED:20230823T015149Z
UID:10000746-1769074200-1769085000@prairietopinerc.ca
SUMMARY:Committee on Community of Faith Support
DESCRIPTION:The Committee on Community of Faith Support is holding its regular meeting via Zoom every fourth Thursday of the month.
URL:https://prairietopinerc.ca/event/committee-on-community-of-faith-support/2026-01-22/
LOCATION:Manitoba
CATEGORIES:Events,Regional
END:VEVENT
BEGIN:VEVENT
DTSTART;VALUE=DATE:20260127
DTEND;VALUE=DATE:20260128
DTSTAMP:20260424T105417
CREATED:20251211T014333Z
LAST-MODIFIED:20251211T014333Z
UID:10002070-1769472000-1769558399@prairietopinerc.ca
SUMMARY:Holocaust Remembrance Day
DESCRIPTION:
URL:https://prairietopinerc.ca/event/holocaust-remembrance-day/
LOCATION:Manitoba
CATEGORIES:Events,Regional
END:VEVENT
BEGIN:VEVENT
DTSTART;TZID=America/Winnipeg:20260127T130000
DTEND;TZID=America/Winnipeg:20260127T150000
DTSTAMP:20260424T105417
CREATED:20250122T222921Z
LAST-MODIFIED:20250122T222921Z
UID:10001468-1769518800-1769526000@prairietopinerc.ca
SUMMARY:Connection / Prayer/ Communion Zoom Gathering
DESCRIPTION:A Message from Vocational Minister\, Laura Fouhse\nMinistry Personnel in Northern Spirit\, Living Skies\, and Prairie to Pine Regional Councils….(including active\, retired\, honorary associates\, and candidates in appointment) \nIn response to a number of requests (and my own desire) I will be hosting a 1 hour (roughly) connection/prayer/communion Zoom gathering on the 4th Tuesday of each month at 1 pm (CST). We will start next Tuesday (Jan 28). \nYou are welcome to bring your lunch with you to the gathering (but you may need to share with those who forgot) Also bring communion elements (obviously) and a candle (or whatever helps center you). \nHere is the Zoom link. It will be the same link each month\,\nhttps://united-church.zoom.us/j/81483053358
URL:https://prairietopinerc.ca/event/connection-prayer-communion-zoom-gathering/2026-01-27/
LOCATION:via Zoom
CATEGORIES:Events,Regional
ATTACH;FMTTYPE=image/png:https://prairietopinerc.ca/wp-content/uploads/2025/01/Tri-Region-Ministry-Personnel-monthly-Zoom.png
END:VEVENT
BEGIN:VEVENT
DTSTART;TZID=America/Winnipeg:20260128T140000
DTEND;TZID=America/Winnipeg:20260128T150000
DTSTAMP:20260424T105417
CREATED:20250905T180848Z
LAST-MODIFIED:20250905T181104Z
UID:10001647-1769608800-1769612400@prairietopinerc.ca
SUMMARY:Online Bible Study with Jordan Cantwell
DESCRIPTION:Every Wednesday at 1 pm (SK time) \nDeep conversation \nSpiritual friendships \nFaith exploration \nNew participants always welcome! \nContact jcantwell@united-church.ca for more information. \nClick here to join:  https://bit.ly/41Vh93V
URL:https://prairietopinerc.ca/event/online-bible-study-with-jordan-cantwell/2026-01-28/
LOCATION:Online
CATEGORIES:Community of Faith Events calendar,Events,Regional
END:VEVENT
BEGIN:VEVENT
DTSTART;VALUE=DATE:20260129
DTEND;VALUE=DATE:20260130
DTSTAMP:20260424T105417
CREATED:20251211T014440Z
LAST-MODIFIED:20251211T014440Z
UID:10002071-1769644800-1769731199@prairietopinerc.ca
SUMMARY:National Day of Remembrance & Action Against Islamophobia
DESCRIPTION:
URL:https://prairietopinerc.ca/event/national-day-of-remembrance-action-against-islamophobia/
LOCATION:Manitoba
CATEGORIES:Events,Regional
END:VEVENT
BEGIN:VEVENT
DTSTART;TZID=America/Winnipeg:20260129T190000
DTEND;TZID=America/Winnipeg:20260129T210000
DTSTAMP:20260424T105417
CREATED:20260109T002159Z
LAST-MODIFIED:20260109T002159Z
UID:10002152-1769713200-1769720400@prairietopinerc.ca
SUMMARY:After the Bondi Beach Chanukah Massacre: Examining the Aftermath and What Lies Ahead
DESCRIPTION:All are welcome to “After the Bondi Beach Chanukah Massacre: Examining the Aftermath and What Lies Ahead” with Dr. Andre Oboler\, CEO Online Hate Prevention Institute. Please join us on Thursday\, January 29\, 2026\, 7 pm at Charleswood United Church\, 4820 Roblin Blvd. All are welcome. Partners for the evening are the Online Hate Prevention Institute and the Manitoba Institute to Combat Antisemitism. Fully accessible building with ample lot parking.
URL:https://prairietopinerc.ca/event/after-the-bondi-beach-chanukah-massacre-examining-the-aftermath-and-what-lies-ahead/
LOCATION:Charleswood United Church\, 4820 Roblin Blvd\, Winnipeg\, Manitoba\, R3R 0G6\, Canada
CATEGORIES:Community of Faith Events calendar,Events
ATTACH;FMTTYPE=image/jpeg:https://prairietopinerc.ca/wp-content/uploads/2026/01/2026.01.29.-After.-the.-Bondi.-Beach.-Event.jpg
END:VEVENT
END:VCALENDAR