BEGIN:VCALENDAR
VERSION:2.0
PRODID:-//Prairie to Pine Regional Council - ECPv6.15.20//NONSGML v1.0//EN
CALSCALE:GREGORIAN
METHOD:PUBLISH
X-ORIGINAL-URL:https://prairietopinerc.ca
X-WR-CALDESC:Events for Prairie to Pine Regional Council
REFRESH-INTERVAL;VALUE=DURATION:PT1H
X-Robots-Tag:noindex
X-PUBLISHED-TTL:PT1H
BEGIN:VTIMEZONE
TZID:America/Winnipeg
BEGIN:DAYLIGHT
TZOFFSETFROM:-0600
TZOFFSETTO:-0500
TZNAME:CDT
DTSTART:20240310T080000
END:DAYLIGHT
BEGIN:STANDARD
TZOFFSETFROM:-0500
TZOFFSETTO:-0600
TZNAME:CST
DTSTART:20241103T070000
END:STANDARD
BEGIN:DAYLIGHT
TZOFFSETFROM:-0600
TZOFFSETTO:-0500
TZNAME:CDT
DTSTART:20250309T080000
END:DAYLIGHT
BEGIN:STANDARD
TZOFFSETFROM:-0500
TZOFFSETTO:-0600
TZNAME:CST
DTSTART:20251102T070000
END:STANDARD
BEGIN:DAYLIGHT
TZOFFSETFROM:-0600
TZOFFSETTO:-0500
TZNAME:CDT
DTSTART:20260308T080000
END:DAYLIGHT
BEGIN:STANDARD
TZOFFSETFROM:-0500
TZOFFSETTO:-0600
TZNAME:CST
DTSTART:20261101T070000
END:STANDARD
BEGIN:DAYLIGHT
TZOFFSETFROM:-0600
TZOFFSETTO:-0500
TZNAME:CDT
DTSTART:20270314T080000
END:DAYLIGHT
BEGIN:STANDARD
TZOFFSETFROM:-0500
TZOFFSETTO:-0600
TZNAME:CST
DTSTART:20271107T070000
END:STANDARD
END:VTIMEZONE
BEGIN:VEVENT
DTSTART;VALUE=DATE:20250817
DTEND;VALUE=DATE:20250822
DTSTAMP:20260425T060259
CREATED:20250506T203302Z
LAST-MODIFIED:20250621T005543Z
UID:10001559-1755388800-1755820799@prairietopinerc.ca
SUMMARY:Neechi Camp
DESCRIPTION:2024 Neechi Campers and their leaders in their tent village at Sandy Saulteaux Spiritual Centre \nNeechi Camp will take place this year in Ochekwi Sipi Cree Nation\, also named Fisher River\, MB. \nWe will set up camp on the beautiful grassy area beside Fisher River United Church. We will use the church as our home base and other spaces in the community such as the brand new Red Turtle Lodge\, the river\, the land\, and the lake as additional places of learning. \nNeechi Camp will give 7 Indigenous and 7 non-Indigenous youth (ages 14 to 17) the opportunity to connect and build friendships while experiencing and learning about Indigenous culture through activities and ceremony led by elders and other community members. \nYouth will have the opportunity to: \n\nexperience net fishing; cleaning\, preparing\, and frying fish\nchoose to make either a hand drum or a ribbon skirt\nwatch and learn from traditional dancers\nlearn ceremonial drum songs\ntake part in a sweat lodge ceremony\ncook some of our meals\, play games\, enjoy a campfire\nlearn stories and a little bit of the Cree language from Elders as we gather in daily sharing circles\n\nPhoto Story from Neechi 2023 \nIf you are interested in attending\, please fill out this expression of interest.
URL:https://prairietopinerc.ca/event/neechi-camp/
LOCATION:Fisher River United Church\, CJRQ+99\, Fisher River Cree Nation\, Manitoba\, R0C 0S0\, Canada
CATEGORIES:Intercultural,LGBTQIA+ Affirming,Regional,Right Relations,Young Adults and Youth
END:VEVENT
BEGIN:VEVENT
DTSTART;TZID=America/Winnipeg:20250914T120000
DTEND;TZID=America/Winnipeg:20250914T160000
DTSTAMP:20260425T060259
CREATED:20250903T230334Z
LAST-MODIFIED:20250903T230847Z
UID:10001623-1757851200-1757865600@prairietopinerc.ca
SUMMARY:We Are All Treaty People public gathering 2025
DESCRIPTION:Join us at the We Are All Treaty People Celebration on September 14 from 1:00 to 4:00 at the Forks Centre Field.  This is an afternoon of music and dance by Indigenous and non-Indigenous performers\, information about our Treaty Relationship\, arts and crafts\, free food and drinks\, family friendly games and fun. A Pipe and Water ceremony will start at 12 noon followed by performances and activities from 1-4 pm at The Forks’ Centre Field. \nWe also welcome volunteers! Volunteer tasks include serving food\, children’s activity tables like puppet making\, supporting vendors\, setup and take down. A full outline of various roles that need filling is available on request.  Our committee appreciates any offer of volunteering for this annual event. Contact Carol Dyck\, member of WAATP planning committee\,  cjdyck365@gmail.com  or ph/text:  431-279-6554 \nThis event is organized by the Mennonite Central Committee\, the Anglican Diocese of Rupert’s Land\, the Winnipeg Quakers and the United Church\, in partnership with the Treaty Relations Commission of Manitoba.   The Prairie to Pine region is a funder of this event.
URL:https://prairietopinerc.ca/event/we-are-all-treaty-people-public-gathering-2025/
LOCATION:The Forks National Historic Site\, Canada
CATEGORIES:Community of Faith Events calendar,Intercultural,Right Relations
ATTACH;FMTTYPE=image/jpeg:https://prairietopinerc.ca/wp-content/uploads/2025/09/2025-WAATP-event-poster-scaled.jpg
END:VEVENT
BEGIN:VEVENT
DTSTART;TZID=America/Winnipeg:20251115T110000
DTEND;TZID=America/Winnipeg:20251115T190000
DTSTAMP:20260425T060259
CREATED:20250807T190349Z
LAST-MODIFIED:20251109T201255Z
UID:10001613-1763204400-1763233200@prairietopinerc.ca
SUMMARY:Sharing Across Cultures
DESCRIPTION:Inviting youth from across the region\, who self-identify as BIPOC (Black\, Indigenous\, or People of Colour) to explore foods\, arts\, sports and worship that represent some of the diversity of our United Church family. \nPariticipants will be guided by: \n\nlocal cooks to join in preparing a special recipe while learning about their culture\nmusicians and dancers to learn a song or dance\nsports enthusiasts to play soccer or other sports\nleaders to frame it all as an act of worship where we will thank God for the beautiful diverse gifts that we share with our church and our world\n\nOrganizing team: Sabry Abodigin\, Jayden Schettler\, Elijah Kanhai\, Anderson Green\, Yuzi Xiao\, and Mayon Marcelino \nRegister Here\nAlthough the deadline has passed\, if you want to come\, we still want you to come\, so register right now to be included! (…and remember next time to register earlier\, as it helps greatly with our plans!) \nIf getting to Winnipeg might be a problem\, email TMacNair@united-church.ca to see if there is anyone coming from your area who might have room in their vehicle for you.
URL:https://prairietopinerc.ca/event/sharing-across-cultures-food-fun-and-faith-3/
LOCATION:Broadway Disciples United Church\, 396 Broadway\, Winnipeg\, MB\, R3C 0V6
CATEGORIES:Events,Intercultural,Regional,Right Relations,Worship,Young Adults and Youth
ATTACH;FMTTYPE=image/jpeg:https://prairietopinerc.ca/wp-content/uploads/2025/08/Sharing-Across-Cultures-Poster-1-1.jpg
END:VEVENT
BEGIN:VEVENT
DTSTART;TZID=America/Winnipeg:20260223T174500
DTEND;TZID=America/Winnipeg:20260223T210000
DTSTAMP:20260425T060259
CREATED:20260211T155242Z
LAST-MODIFIED:20260211T160020Z
UID:10002161-1771868700-1771880400@prairietopinerc.ca
SUMMARY:Walking with the Thunderbirdz
DESCRIPTION:Have you ever volunteered with one of the organizations that walks in Winnipeg’s inner city?  The Thunderbirdz is one of those groups with whom United Church youth and adults have been connecting since 2021. When we walk\, we present a friendly face and an offer of a sandwich or a bottle of water to someone for whom one of those things might be just what they need. \nWe have organized to walk again with the Thunderbirdz on Monday\, February 23rd\, 2026. \nMaybe you’d like to walk with us\, or maybe you’d like to make and bag individual portions of sandwiches/cookies/ Rice Krispy cake or buy fruit\, water\, granola bars\, socks or mitts for walkers to carry out to people. \nWe meet downtown at 5:45 pm with a backpack to carry items we will hand out.  Details in registration. \nRegister or offer food by clicking here \nQuestions: Contact Twila 204-781-8124
URL:https://prairietopinerc.ca/event/walking-with-the-thunderbirdz-3/
LOCATION:West end of parking lot at 181 Higgins\, 181 Higgins\, Winnipeg\, Manitoba\, Canada
CATEGORIES:Events,Intercultural,LGBTQIA+ Affirming,Regional,Right Relations,Young Adults and Youth
ATTACH;FMTTYPE=image/png:https://prairietopinerc.ca/wp-content/uploads/2026/02/2026-01-SMRUC-Tbirdz-walk.png
END:VEVENT
BEGIN:VEVENT
DTSTART;VALUE=DATE:20260702
DTEND;VALUE=DATE:20260707
DTSTAMP:20260425T060259
CREATED:20260210T225601Z
LAST-MODIFIED:20260407T192805Z
UID:10002163-1782950400-1783382399@prairietopinerc.ca
SUMMARY:Neechi Camp
DESCRIPTION:Neechi Camp will take place for the second year in a row in Ochekwi Sipi Cree Nation\, also named Fisher River\, MB. \nWe will set up camp on the beautiful grassy area beside Fisher River United Church. We will use the church as our home base and other spaces in the community such as the brand new Red Turtle Lodge\, the river\, the land\, and the lake as additional places of learning. \nNeechi Camp will give Indigenous and non-Indigenous youth the opportunity to connect and build friendships while experiencing and learning about Indigenous culture through activities and ceremony led by elders and other community members. \nYouth will have the opportunity to: \n\ngo out in a boat to do net fishing\nclean\, prepare\, and fry the fresh fish\nmake a rattle to use in ceremony\nwatch and learn from traditional dancers (hoop dancing and pow wow dancing)\nlearn ceremonial drum songs\ntake part in a sweat lodge ceremony\ncook some of our meals\, play games\, enjoy a campfire\nlearn stories and a little bit of the Cree language from Elders as we gather in daily sharing circles\n\nCheck out this Photo Story from Neechi 2023 \nThe age is not yet set.  We’d like to gauge where the interest lies between 12 and 17 years old. Please click here to let us know you are interested. Older than that\, and still interested?  Fill out the form and we can discuss possibilities.
URL:https://prairietopinerc.ca/event/neechi-camp-2/
LOCATION:Fisher River United Church\, CJRQ+99\, Fisher River Cree Nation\, Manitoba\, R0C 0S0\, Canada
CATEGORIES:Intercultural,LGBTQIA+ Affirming,Regional,Right Relations,Young Adults and Youth
ATTACH;FMTTYPE=image/jpeg:https://prairietopinerc.ca/wp-content/uploads/2026/02/20250818_162428-scaled-e1770763507354.jpg
END:VEVENT
END:VCALENDAR