BEGIN:VCALENDAR
VERSION:2.0
PRODID:-//Prairie to Pine Regional Council - ECPv6.15.20//NONSGML v1.0//EN
CALSCALE:GREGORIAN
METHOD:PUBLISH
X-ORIGINAL-URL:https://prairietopinerc.ca
X-WR-CALDESC:Events for Prairie to Pine Regional Council
REFRESH-INTERVAL;VALUE=DURATION:PT1H
X-Robots-Tag:noindex
X-PUBLISHED-TTL:PT1H
BEGIN:VTIMEZONE
TZID:America/Winnipeg
BEGIN:DAYLIGHT
TZOFFSETFROM:-0600
TZOFFSETTO:-0500
TZNAME:CDT
DTSTART:20240310T080000
END:DAYLIGHT
BEGIN:STANDARD
TZOFFSETFROM:-0500
TZOFFSETTO:-0600
TZNAME:CST
DTSTART:20241103T070000
END:STANDARD
BEGIN:DAYLIGHT
TZOFFSETFROM:-0600
TZOFFSETTO:-0500
TZNAME:CDT
DTSTART:20250309T080000
END:DAYLIGHT
BEGIN:STANDARD
TZOFFSETFROM:-0500
TZOFFSETTO:-0600
TZNAME:CST
DTSTART:20251102T070000
END:STANDARD
BEGIN:DAYLIGHT
TZOFFSETFROM:-0600
TZOFFSETTO:-0500
TZNAME:CDT
DTSTART:20260308T080000
END:DAYLIGHT
BEGIN:STANDARD
TZOFFSETFROM:-0500
TZOFFSETTO:-0600
TZNAME:CST
DTSTART:20261101T070000
END:STANDARD
END:VTIMEZONE
BEGIN:VEVENT
DTSTART;VALUE=DATE:20250805
DTEND;VALUE=DATE:20250813
DTSTAMP:20260422T134208
CREATED:20241105T031236Z
LAST-MODIFIED:20241208T035616Z
UID:10001417-1754352000-1755043199@prairietopinerc.ca
SUMMARY:Youth Forum at General Council 2025
DESCRIPTION:Abbreviations that may be used:\n\n\n\n\n\nYF = Youth Forum\n\n\n\n\nGC = General Council\nGC45 refers to the fact that 2025 will be the 45th session of General Council since the United Church formed in 1925\n\n  \nWhat is the purpose of the Youth Forum at GC45? \nYouth Forum is an opportunity for young people to participate in the education\, decision-making\, and community of General Council 45 of The United Church of Canada. Its aim is to ensure that young people have a voice in the denomination-shaping issues and decisions for the next three years in the life of the church. It is an opportunity to speak to issues that matter to young people\, to share ideas\, and to connect with peers and other members and leaders of the General Council. \nWhen and where will GC45 and Youth Forum take place? \nThere will be three online sessions for General Council: Sunday\, April 27 from 3-6 pm CDT\, Sunday June 22 from 3:30-6 pm CDT\, and Saturday June 28 from 10 am to 1 pm and 3 pm to 6 pm CDT. The first session includes worship\, introduction to the theme\, agenda\, reports\, proposals\, and business procedures of General Council. The second session includes worship\, introductions of global and ecumenical guests\, community building and discussion groups. The session on June 28 begins the Learning and Discussion sessions for GC45. \nIn addition\, Youth Forum delegates will gather once via Zoom (Sunday\, April 6th from 3 to 5 pm CDT)  as a chance to begin to connect with other youth forum delegates before attending the GC Zooms listed above.  YF delegates will finally meet in person August 5-7 in Calgary (just prior to the meetings of General Council). There will be two age groups\, 15-17 years and 18-25 years. \nGeneral Council and all YF delegates will meet August 7-11 at the Calgary Telus Convention Centre. Youth Forum will close August 12 by noon. Travel home will begin in the afternoon of August 12. \nWho can join the forum? \nYouth Forum is open to young people\, ages 15 to 25\, selected by regional councils. Youth Forum leaders have the ambitious and achievable goal of having 100 young people under age 30 attend General Council 45. While this remains the goal\, the 2024 Youth Leadership Animators have prioritized the participation and inclusion of Racialized and Indigenous young people\, therefore these young leaders are calling on each region to select a maximum of 50% non-Indigenous and non-Racialized\, and a minimum 50% Indigenous and Racialized youth\, which means at minimum there should be an equivalent number of Racialized and Indigenous youth to white youth. Each region is asked to select up to six youth\, including commissioners. \nIs there a fee to join? \nRegistration for Youth Forum at GC45 is free and travel arrangements are made by the General Council. While some events or activities may potentially have associated costs\, no one will be excluded due to difficulty in payment. \nInfo session: \nClick here to register for Zoom info session –  Nov 30th at 12 noon (Central Time) aimed at young people ages 15-25 to answer questions and encourage participation in YF@GC45. Max 1 hour. Attendance not imperative but a chance to meet some of the youth planning team members and get your questions answered. \nHow do I apply? \nClick here for the application form!\nApplication deadline was Dec 4\, 2024. \nUPDATE: We now have 4 excellent Youth Forum delegates\, but we still have 2 spots left! \nDeadline extended to Dec 30th.  After that\, any extra spots will be offered to another region\, so if interested\, please send in an application.
URL:https://prairietopinerc.ca/event/youth-forum-at-general-council-2025/
CATEGORIES:Intercultural,LGBTQIA+ Affirming,Meetings,Regional,Right Relations,Young Adults and Youth
END:VEVENT
END:VCALENDAR