BEGIN:VCALENDAR
VERSION:2.0
PRODID:-//Prairie to Pine Regional Council - ECPv6.15.20//NONSGML v1.0//EN
CALSCALE:GREGORIAN
METHOD:PUBLISH
X-WR-CALNAME:Prairie to Pine Regional Council
X-ORIGINAL-URL:https://prairietopinerc.ca
X-WR-CALDESC:Events for Prairie to Pine Regional Council
REFRESH-INTERVAL;VALUE=DURATION:PT1H
X-Robots-Tag:noindex
X-PUBLISHED-TTL:PT1H
BEGIN:VTIMEZONE
TZID:America/Winnipeg
BEGIN:DAYLIGHT
TZOFFSETFROM:-0600
TZOFFSETTO:-0500
TZNAME:CDT
DTSTART:20240310T080000
END:DAYLIGHT
BEGIN:STANDARD
TZOFFSETFROM:-0500
TZOFFSETTO:-0600
TZNAME:CST
DTSTART:20241103T070000
END:STANDARD
BEGIN:DAYLIGHT
TZOFFSETFROM:-0600
TZOFFSETTO:-0500
TZNAME:CDT
DTSTART:20250309T080000
END:DAYLIGHT
BEGIN:STANDARD
TZOFFSETFROM:-0500
TZOFFSETTO:-0600
TZNAME:CST
DTSTART:20251102T070000
END:STANDARD
BEGIN:DAYLIGHT
TZOFFSETFROM:-0600
TZOFFSETTO:-0500
TZNAME:CDT
DTSTART:20260308T080000
END:DAYLIGHT
BEGIN:STANDARD
TZOFFSETFROM:-0500
TZOFFSETTO:-0600
TZNAME:CST
DTSTART:20261101T070000
END:STANDARD
BEGIN:DAYLIGHT
TZOFFSETFROM:-0600
TZOFFSETTO:-0500
TZNAME:CDT
DTSTART:20270314T080000
END:DAYLIGHT
BEGIN:STANDARD
TZOFFSETFROM:-0500
TZOFFSETTO:-0600
TZNAME:CST
DTSTART:20271107T070000
END:STANDARD
END:VTIMEZONE
BEGIN:VEVENT
DTSTART;TZID=America/Winnipeg:20260110T190000
DTEND;TZID=America/Winnipeg:20260110T210000
DTSTAMP:20260422T114022
CREATED:20251217T174312Z
LAST-MODIFIED:20251217T174312Z
UID:10002149-1768071600-1768078800@prairietopinerc.ca
SUMMARY:Traveling Youth Group
DESCRIPTION:Join us for an evening of Worship\, Games and Snacks. Planned and Lead by our Leadership Event Participants. \nWhere: John Black Memorial United Church\nWhen: Saturday January 10th 7-9pm\nWho: Youth Garde 5-12 and their Leaders
URL:https://prairietopinerc.ca/event/traveling-youth-group-4/
LOCATION:John Black Memorial United Church\, 898 Henderson Hwy\, Winnipeg\, MB\, R2K 3T4\, Canada
CATEGORIES:Community of Faith Events calendar,Events,Leaders of Children,Young Adults and Youth
ATTACH;FMTTYPE=image/png:https://prairietopinerc.ca/wp-content/uploads/2025/12/Jan-Traveling-Youth-Group.png
END:VEVENT
BEGIN:VEVENT
DTSTART;TZID=America/Winnipeg:20250305T183000
DTEND;TZID=America/Winnipeg:20250305T200000
DTSTAMP:20260422T114022
CREATED:20250203T215026Z
LAST-MODIFIED:20250203T215026Z
UID:10001521-1741199400-1741204800@prairietopinerc.ca
SUMMARY:Learning about Children's ages and stages as they pertain to Theology
DESCRIPTION:Wednesday\, March 5 at 6:30 p.m. is the first of four webinars in the I am a Changemaker Network. The other three are focused on the anti-racism curriculum for children. This one will be valid for use with that curriculum or any church work with children. \nOur speaker is Dave Csinos\, who is the Associate Professor of Practical Theology at the Atlantic School of Theology\, where he directs the new Diploma in Intergenerational Faith Formation program. The author/editor of several books\, he also serves as founder of Faith Forward and research director of Family Faith Every Day. \nDuring his webinar\, you’ll hear about the intersections between theology and childhood. We’ll consider how children of different ages make theological meaning\, how leaders can spark their theological imaginations\, and how different theological conceptions of children impact the formational work of faith communities. \nFor more details click here.
URL:https://prairietopinerc.ca/event/learning-about-childrens-ages-and-stages-as-they-pertain-to-theology/
LOCATION:Online
CATEGORIES:Events,Intercultural,Leaders of Children,Regional
END:VEVENT
END:VCALENDAR