BEGIN:VCALENDAR
VERSION:2.0
PRODID:-//Prairie to Pine Regional Council - ECPv6.15.20//NONSGML v1.0//EN
CALSCALE:GREGORIAN
METHOD:PUBLISH
X-ORIGINAL-URL:https://prairietopinerc.ca
X-WR-CALDESC:Events for Prairie to Pine Regional Council
REFRESH-INTERVAL;VALUE=DURATION:PT1H
X-Robots-Tag:noindex
X-PUBLISHED-TTL:PT1H
BEGIN:VTIMEZONE
TZID:America/Winnipeg
BEGIN:DAYLIGHT
TZOFFSETFROM:-0600
TZOFFSETTO:-0500
TZNAME:CDT
DTSTART:20190310T080000
END:DAYLIGHT
BEGIN:STANDARD
TZOFFSETFROM:-0500
TZOFFSETTO:-0600
TZNAME:CST
DTSTART:20191103T070000
END:STANDARD
BEGIN:DAYLIGHT
TZOFFSETFROM:-0600
TZOFFSETTO:-0500
TZNAME:CDT
DTSTART:20200308T080000
END:DAYLIGHT
BEGIN:STANDARD
TZOFFSETFROM:-0500
TZOFFSETTO:-0600
TZNAME:CST
DTSTART:20201101T070000
END:STANDARD
BEGIN:DAYLIGHT
TZOFFSETFROM:-0600
TZOFFSETTO:-0500
TZNAME:CDT
DTSTART:20210314T080000
END:DAYLIGHT
BEGIN:STANDARD
TZOFFSETFROM:-0500
TZOFFSETTO:-0600
TZNAME:CST
DTSTART:20211107T070000
END:STANDARD
END:VTIMEZONE
BEGIN:VEVENT
DTSTART;TZID=America/Winnipeg:20200505T150000
DTEND;TZID=America/Winnipeg:20200505T163000
DTSTAMP:20260422T132401
CREATED:20200428T231023Z
LAST-MODIFIED:20200514T212000Z
UID:10000026-1588690800-1588696200@prairietopinerc.ca
SUMMARY:Regional Council COVID_19 ministry personnel check-ins\, April and May
DESCRIPTION:Ministry personnel only\, please: Tuesdays at the times below\, until further notice. If you can’t make your Regional Council’s time\, you’re welcome to join one of the other gatherings. \nPrairie to Pine: 3:00 PM in MB and NW ON. https://united-church.zoom.us/j/5662855587 \nNorthern Spirit: 1:30 pm MDT (AB and NWT); 12:30 pm PDT (BC)\nhttps://united-church.zoom.us/j/321902159 \nLiving Skies: 1:00 PM Saskatchewan. https://united-church.zoom.us/j/705926119       \nPrairie to Pine\, Living Skies\, and Northern Spirit Regional Councils will hold ministry personnel and lay leadership check-ins every week. Some may have specific information sessions as the situation evolves\, but we’ll also take time for prayer and connecting with each other. Details are below. Please help spread the word. If you can’t make it to your Region’s meeting time\, please attend one of the other meetings. \nQuestions? Ideas for topics or groups? Want to learn how to host your own group call with your Cluster? Contact Julie Graham\, Communications/ justice regional minister: jgraham@united-church.ca or 306-244-2157 and she can pass your thoughts on to colleagues.  Remember\, all staff are working. Don’t hesitate to contact us; see general contact info below. \nTech stuff: Use the meeting web links above.  These will be updated as needed. Remember: you can use your land line or cell to call in\, and using your computer/ phone video is optional. If your internet connection is as slow as molasses going uphill in Edmonton in January\, dial in. The meeting ID you’ll need is the number that’s in the respective web addresses below. Toll free number for everyone: 1-855-703-8985. \n 
URL:https://prairietopinerc.ca/event/regional-council-covid_19-ministry-personnel-check-ins-april-and-may/
CATEGORIES:COVID-19,Events,Regional
END:VEVENT
BEGIN:VEVENT
DTSTART;TZID=America/Winnipeg:20200429T193000
DTEND;TZID=America/Winnipeg:20200429T210000
DTSTAMP:20260422T132401
CREATED:20200428T230215Z
LAST-MODIFIED:20200514T211910Z
UID:10000032-1588188600-1588194000@prairietopinerc.ca
SUMMARY:Regional Council COVID-19 lay leaders' check ins\, April
DESCRIPTION:Everyone\, especially lay leaders: Wednesdays at 5:30 PM in BC; 6:30 PM AB\, SK\, NWT; 7:30 MB and NW Ontario. Some meetings will have specific resource people and others will be general check ins. \nPrairie to Pine\, Living Skies\, and Northern Spirit Regional Councils will hold ministry personnel and lay leadership check-ins every week. Some may have specific information sessions as the situation evolves\, but we’ll also take time for prayer and connecting with each other. Details are below. Please help spread the word.\nQuestions? Ideas for topics or groups? Want to learn how to host your own group call with your Cluster? Contact Julie Graham\, Communications/ justice regional minister: jgraham@united-church.ca or 306-244-2157 and she can pass your thoughts on to colleagues.  Remember\, all staff are working. \nTech stuff\nUse this meeting link:\nhttps://united-church.zoom.us/j/978525442\nMeeting ID: 978 525 442.\nRemember: you can use your land line or cell to call in\, and using your computer/ phone video is optional. If your internet connection is as slow as molasses going uphill in Brandon in January\, dial in. The meeting ID you’ll need is the number that’s in the respective web addresses below. Toll free number for everyone: 1-855-703-8985.
URL:https://prairietopinerc.ca/event/regional-council-covid-19-lay-leaders-check-ins-april/
CATEGORIES:COVID-19,Events,Regional
END:VEVENT
BEGIN:VEVENT
DTSTART;TZID=America/Winnipeg:20200429T193000
DTEND;TZID=America/Winnipeg:20200429T210000
DTSTAMP:20260422T132401
CREATED:20200428T195927Z
LAST-MODIFIED:20200514T211934Z
UID:10000031-1588188600-1588194000@prairietopinerc.ca
SUMMARY:Members of Ministry and Personnel Committee
DESCRIPTION:Topic for April 29: Members of Ministry and Personnel Committees. Please share this note with your M&P committee! 5:30PM Pacific; 6:30 PM in AB\, SK\, and NWT; 7:30 PM in MB and NW Ontario.\nMeeting link for all Wednesdays: https://united-church.zoom.us/j/978525442  \n(Do not post this link on social media or your congregational website\, please. Share it by email.)\n\nLay leadership Wednesday evening meetings are being cancelled after this week. We will gather as needed as the situation continues to evolve. Watch your newsletter and Facebook for invitations!
URL:https://prairietopinerc.ca/event/members-of-ministry-and-personnel-committee/
CATEGORIES:COVID-19,Events,Regional
END:VEVENT
BEGIN:VEVENT
DTSTART;TZID=America/Winnipeg:20200428T150000
DTEND;TZID=America/Winnipeg:20200428T163000
DTSTAMP:20260422T132401
CREATED:20200428T171107Z
LAST-MODIFIED:20200514T211831Z
UID:10000058-1588086000-1588091400@prairietopinerc.ca
SUMMARY:Regional Council COVID-19 ministry personnel check-ins April and May
DESCRIPTION:Ministry personnel only\, please: Tuesdays at the times below\, until further notice. If you can’t make your Regional Council’s time\, you’re welcome to join one of the other gatherings. \nPrairie to Pine: 3:00 PM in MB and NW ON. https://united-church.zoom.us/j/5662855587 \nNorthern Spirit: 1:30 pm MDT (AB and NWT); 12:30 pm PDT (BC) https://united-church.zoom.us/j/321902159 \nLiving Skies: 1:00 PM Saskatchewan. https://united-church.zoom.us/j/705926119       \nPrairie to Pine\, Living Skies\, and Northern Spirit Regional Councils will hold ministry personnel and lay leadership check-ins every week. Some may have specific information sessions as the situation evolves\, but we’ll also take time for prayer and connecting with each other. Details are below. Please help spread the word. \nIf you can’t make it to your Region’s meeting time\, please attend one of the other meetings. \nQuestions? Ideas for topics or groups? Want to learn how to host your own group call with your Cluster? Contact Julie Graham\, Communications/ justice regional minister: jgraham@united-church.ca or 306-244-2157 and she can pass your thoughts on to colleagues.  Remember\, all staff are working. Don’t hesitate to contact us; see general contact info below. \nTech stuff: Use the meeting web links above.  These will be updated as needed. Remember: you can use your land line or cell to call in\, and using your computer/ phone video is optional. If your internet connection is as slow as molasses going uphill in Edmonton in January\, dial in. The meeting ID you’ll need is the number that’s in the respective web addresses below. Toll free number for everyone: 1-855-703-8985.
URL:https://prairietopinerc.ca/event/regional-council-covid-19-ministry-personnel-check-ins-april-and-may-2/
CATEGORIES:COVID-19,Events,Regional
END:VEVENT
BEGIN:VEVENT
DTSTART;TZID=America/Winnipeg:20200408T193000
DTEND;TZID=America/Winnipeg:20200408T210000
DTSTAMP:20260422T132402
CREATED:20200325T191554Z
LAST-MODIFIED:20200514T211808Z
UID:10000014-1586374200-1586379600@prairietopinerc.ca
SUMMARY:APRIL 8 CANCELLED Regional Council COVID-19 lay leaders’ check ins\, April and May
DESCRIPTION:Everyone\, especially lay leaders: Wednesdays at 5:30 PM in BC; 6:30 PM AB\, SK\, NWT; 7:30 MB and NW Ontario. Some meetings will have specific resource people and others will be general check ins. \nPrairie to Pine\, Living Skies\, and Northern Spirit Regional Councils will hold ministry personnel and lay leadership check-ins every week. Some may have specific information sessions as the situation evolves\, but we’ll also take time for prayer and connecting with each other. Details are below. Please help spread the word.\nQuestions? Ideas for topics or groups? Want to learn how to host your own group call with your Cluster? Contact Julie Graham\, Communications/ justice regional minister: jgraham@united-church.ca or 306-244-2157 and she can pass your thoughts on to colleagues.  Remember\, all staff are working. \nTech stuff\nUse this meeting link:\nhttps://united-church.zoom.us/j/978525442\nMeeting ID: 978 525 442.\nRemember: you can use your land line or cell to call in\, and using your computer/ phone video is optional. If your internet connection is as slow as molasses going uphill in Brandon in January\, dial in. The meeting ID you’ll need is the number that’s in the respective web addresses below. Toll free number for everyone: 1-855-703-8985.
URL:https://prairietopinerc.ca/event/regional-council-covid-19-lay-leaders-check-ins-april-and-may-2020-04-08/
LOCATION:Zoom
CATEGORIES:COVID-19,Events,Regional
END:VEVENT
BEGIN:VEVENT
DTSTART;TZID=America/Winnipeg:20200331T150000
DTEND;TZID=America/Winnipeg:20200331T163000
DTSTAMP:20260422T132402
CREATED:20200325T192120Z
LAST-MODIFIED:20200514T211758Z
UID:10000047-1585666800-1585672200@prairietopinerc.ca
SUMMARY:Regional Council COVID-19 ministry personnel check ins\, April and May
DESCRIPTION:Ministry personnel only\, please: Tuesdays at the times below\, until further notice. If you can’t make your Regional Council’s time\, you’re welcome to join one of the other gatherings. \nPrairie to Pine: 3:00 PM in MB and NW ON. https://united-church.zoom.us/j/5662855587 \nNorthern Spirit: 1:30 pm MDT (AB and NWT); 12:30 pm PDT (BC)\nhttps://united-church.zoom.us/j/321902159 \nLiving Skies: 1:00 PM Saskatchewan. https://united-church.zoom.us/j/705926119       \nPrairie to Pine\, Living Skies\, and Northern Spirit Regional Councils will hold ministry personnel and lay leadership check-ins every week. Some may have specific information sessions as the situation evolves\, but we’ll also take time for prayer and connecting with each other. Details are below. Please help spread the word. If you can’t make it to your Region’s meeting time\, please attend one of the other meetings. \nQuestions? Ideas for topics or groups? Want to learn how to host your own group call with your Cluster? Contact Julie Graham\, Communications/ justice regional minister: jgraham@united-church.ca or 306-244-2157 and she can pass your thoughts on to colleagues.  Remember\, all staff are working. Don’t hesitate to contact us; see general contact info below. \nTech stuff: Use the meeting web links above.  These will be updated as needed. Remember: you can use your land line or cell to call in\, and using your computer/ phone video is optional. If your internet connection is as slow as molasses going uphill in Edmonton in January\, dial in. The meeting ID you’ll need is the number that’s in the respective web addresses below. Toll free number for everyone: 1-855-703-8985. \n 
URL:https://prairietopinerc.ca/event/regional-council-covid-19-ministry-personnel-check-ins-april-and-may/
LOCATION:Zoom
CATEGORIES:COVID-19,Events,Regional
END:VEVENT
END:VCALENDAR